Workbook

Sheet BASE FEDERAÇÃO
A2: Observação | B2: No. DA FEDERAÇÃO | C2: SOBRENOME | D2: NOME | E2: SEXO | F2: TIME | G2: NASCIMENTO | H2: HC Jan-Dez 2022 | I2: Cat. Jan-Dez 2022 (Senior não separado) | J2: Cat. Senior | K2: HC Alterado de Jan-Dez2020 p/ Jan-Dez 2022 | L2: PAGTO FEDERAÇÃO | M2: Concorrentes Etapas Net 2020/23 (2019>=0); Final 2020/23 (2020/23>=7)
B3: 131 | C3: IBUSUKI | D3: FUMIYOSHI | E3: M | F3: 01. PIE | G3: 24985 | H3: 4 | I3: A | J3: NSR | L3: LIB2026 | M3: X
B4: 168 | C4: INUTSUKA | D4: TIYOKO | E4: F | F4: 01. PIE | G4: 15534 | H4: 9 | I4: B | J4: SR | L4: LIB2026 | M4: X
B5: 178 | C5: KAWAKAMI | D5: TETSUSHI | E5: M | F5: 01. PIE | G5: 14323 | H5: 6 | I5: A | J5: MR | K5: X | L5: LIB2026 | M5: X
B6: 201 | C6: MASUDA | D6: TERUO | E6: M | F6: 01. PIE | G6: 15336 | H6: 3 | I6: EX | J6: MR | L6: LIB2026 | M6: X
B7: 203 | C7: NAKAMURA | D7: EDSON | E7: M | F7: 01. PIE | G7: 21525 | H7: 4 | I7: A | J7: NSR | K7: X | L7: LIB2026 | M7: X
B8: 248 | C8: NISHIMURA | D8: KESAO | E8: M | F8: 01. PIE | G8: 15479 | H8: 9 | I8: B | J8: SR | L8: LIB2026 | M8: X
B9: 249 | C9: NISHIMURA | D9: MITIKO | E9: F | F9: 01. PIE | G9: 15668 | H9: 9 | I9: B | J9: SR | L9: LIB2026 | M9: X
B10: 266 | C10: TOYODA | D10: MATOMU | E10: M | F10: 01. PIE | G10: 13051 | H10: 12 | I10: C | J10: MR | K10: #DIV/0! | L10: LIB2026i | M10: X
B11: 267 | C11: UEYAMA | D11: MARIA KIYOKO | E11: F | F11: 01. PIE | G11: 14975 | H11: 9 | I11: B | J11: MR | K11: X | L11: LIB2026 | M11: X
B12: 268 | C12: UEYAMA | D12: TAKINORI | E12: M | F12: 01. PIE | G12: 13234 | H12: 8 | I12: B | J12: MR | K12: X | L12: LIB2026i | M12: X
B13: 347 | C13: MASUDA | D13: TIZUKO | E13: F | F13: 01. PIE | G13: 15977 | H13: 5 | I13: A | J13: SR | K13: X | L13: LIB2026 | M13: X
B14: 397 | C14: NAKAZATO | D14: JORGE SHITOMI | E14: M | F14: 01. PIE | G14: 16003 | H14: 12 | I14: C | J14: SR | K14: #DIV/0! | L14: LIB2026 | M14: X
B15: 398 | C15: MURAKAMI DOKAN | D15: RUMI | E15: F | F15: 01. PIE | G15: 23097 | H15: 12 | I15: C | J15: NSR | K15: #DIV/0! | L15: LIB2026 | M15: X
B16: 399 | C16: INOUE ISHIHARA | D16: IRENE FUMI | E16: F | F16: 01. PIE | G16: 30851 | H16: 12 | I16: C | J16: NSR | K16: #DIV/0! | L16: LIB2026 | M16: X
B17: 400 | C17: NAKAZATO | D17: SETSUKO | E17: F | F17: 01. PIE | G17: 17648 | H17: 12 | I17: C | J17: SR | K17: #DIV/0! | L17: LIB2026 | M17: X
B18: 401 | C18: KANNO | D18: HELIO MINORU | E18: M | F18: 01. PIE | G18: 26227 | H18: 12 | I18: C | J18: NSR | K18: #DIV/0! | L18: LIB2026 | M18: X
B19: 402 | C19: ISHIHARA | D19: MARCIO EIDI | E19: M | F19: 01. PIE | G19: 27323 | H19: 12 | I19: C | J19: NSR | K19: #DIV/0! | L19: LIB2026 | M19: X
B20: 434 | C20: KATO | D20: MASSAKAZU | E20: M | F20: 01. PIE | G20: 15/07/1960 | H20: 4 | I20: A | J20: NSR | L20: LIB2026 | M20: X
B21: 437 | C21: SACAMOTO | D21: MORIO | E21: M | F21: 01. PIE | G21: 23045 | H21: 5 | I21: A | J21: NSR | K21: X | L21: LIB2026 | M21: X
B22: 442 | C22: ARIZAWA | D22: MARIKO | E22: F | F22: 01. PIE | G22: 17503 | H22: 6 | I22: A | J22: SR | K22: X | L22: LIB2026 | M22: X
B23: 526 | C23: NAKAMURA | D23: EMI KAWAKAMI | E23: F | F23: 01. PIE | G23: 21828 | H23: 12 | I23: C | J23: NSR | L23: LIB2026 | M23: X
B24: 617 | C24: DOKAN | D24: CARLOS EIITI | E24: M | F24: 01. PIE | G24: 22800 | H24: 4 | I24: A | J24: NSR | K24: X | L24: LIB2026 | M24: X
B25: 653 | C25: TAKAMUNE | D25: ATSUSHI | E25: M | F25: 01. PIE | G25: 16893 | H25: 8 | I25: B | J25: SR | L25: LIB2026 | M25: X
B26: 699 | C26: MISOBUSHI | D26: ARMANDO KOMI | E26: M | F26: 01. PIE | G26: 21065 | H26: 11 | I26: C | J26: NSR | K26: X | L26: LIB2026 | M26: X
B27: 700 | C27: TAKAMUNE MISOBUSHI | D27: JURACI HIROKO | E27: F | F27: 01. PIE | G27: 21779 | H27: 12 | I27: C | J27: NSR | L27: LIB2026 | M27: X
B28: 744 | C28: UEMURA | D28: JORGE | E28: M | F28: 01. PIE | G28: 29247 | H28: 9 | I28: B | J28: NSR | K28: X | L28: LIB2026 | M28: X
B29: 763 | C29: ANTAL MASUDA | D29: RODRIGO YUJI | E29: M | F29: 01. PIE | G29: 41082 | H29: 12 | I29: C | J29: NSR | K29: #DIV/0! | L29: LIB2026 | M29: X
B30: 764 | C30: ISHIHARA | D30: HILTON HARUAKI | E30: M | F30: 01. PIE | G30: 41116 | H30: 12 | I30: C | J30: NSR | K30: #DIV/0! | L30: LIB2026 | M30: X
B31: 866 | C31: SAKAGUTI | D31: MARIO | E31: M | F31: 01. PIE | G31: 28572 | H31: 5 | I31: A | J31: NSR | K31: X | L31: LIB2026 | M31: X
B32: 876 | C32: DE MELO DE JESUS | D32: BRUNO | E32: M | F32: 01. PIE | G32: 34349 | H32: 4 | I32: A | J32: NSR | L32: LIB2026 | M32: X
B33: 917 | C33: SAKAGUTI KAWANAKA | D33: YOUKO | E33: F | F33: 01. PIE | G33: 18970 | H33: 12 | I33: C | J33: SR | L33: LIB2026 | M33: X
B34: 958 | C34: NUNES | D34: MARIA HELENA | E34: F | F34: 01. PIE | G34: 16884 | H34: 12 | I34: C | J34: SR | L34: LIB2026 | M34: X
B35: 976 | C35: MORI | D35: SADAO | E35: M | F35: 01. PIE | G35: 19729 | H35: 8 | I35: B | J35: NSR | K35: X | L35: LIB2026 | M35: X
B36: 991 | C36: KANAI | D36: MICHIO | E36: M | F36: 01. PIE | G36: 19641 | H36: 1 | I36: EX | J36: NSR | K36: X | L36: LIB2026 | M36: X
B37: 001 | C37: SAITO | D37: ISSAO | E37: M | F37: 03. IBI | G37: 14862 | H37: 12 | I37: C | J37: MR | L37: LIB2026 | M37: X
B38: 002 | C38: SAITO | D38: SETSUKO | E38: F | F38: 03. IBI | G38: 15412 | H38: 7 | I38: B | J38: SR | K38: X | L38: LIB2026 | M38: X
B39: 010 | C39: FURUYA | D39: ISAO | E39: M | F39: 03. IBI | G39: 14983 | H39: 3 | I39: EX | J39: MR | K39: X | L39: LIB2026 | M39: X
B40: 11 | C40: FURUYA | D40: AYAKO | E40: F | F40: 03. IBI | G40: 17976 | H40: 7 | I40: B | J40: SR | K40: X | L40: LIB2026 | M40: X
B41: 012 | C41: SHIMIZU | D41: HIDEO | E41: M | F41: 03. IBI | G41: 15076 | H41: 9 | I41: B | J41: MR | L41: LIB2026 | M41: X
...

Sheet INCRIÇÕES
A1: Código | B1: SOBRENOME | C1: NOME | D1: GÊNERO | E1: CÓDIGO ENT. | F1: ENTIDADE | G1: NASCIMENTO | H1: HC | I1: CATEGORIA | J1: SENIOR | K1: NET | L1: Está na apuração? | M1: Consta na aba grupos? | N1: Está repetido? | P1: ENTIDADE | Q1: Total | S1: CATEGORIA | T1: Total | V1: 4pessoas | W1: 3pessoas | Y1: 4pessoas | Z1: 3pessoas | AA1: Total
A2: 129 | B2: =IF(A2>0,VLOOKUP(A2,'BASE FEDERAÇÃO'!$B:$M,2,FALSE),"") -> YAMAKAWA | C2: =IF(A2>0,VLOOKUP(A2,'BASE FEDERAÇÃO'!$B:$M,3,FALSE),"") -> TAKAO | D2: =IF(A2>0,VLOOKUP(A2,'BASE FEDERAÇÃO'!$B:$M,4,FALSE),"") -> M | E2: =IF(A2>0,VLOOKUP(A2,'BASE FEDERAÇÃO'!$B:$M,5,FALSE),"") -> 11. NCC | F2: =IFERROR(VLOOKUP(E2,Base!$G:$H,2,0),"") -> NIPPON COUNTRY | G2: =IF(A2>0,VLOOKUP(A2,'BASE FEDERAÇÃO'!$B:$M,6,FALSE),"") -> 16818 | H2: =IF(A2>0,VLOOKUP(A2,'BASE FEDERAÇÃO'!$B:$M,7,FALSE),"") -> 6 | I2: =IF(A2>0,VLOOKUP(A2,'BASE FEDERAÇÃO'!$B:$M,8,FALSE),"") -> A | J2: =IF(A2="","",VLOOKUP($A2,'BASE FEDERAÇÃO'!$B:$M,9,0)) -> SR | K2: =IF(B2="","",VLOOKUP($A2,'BASE FEDERAÇÃO'!$B:$M,10,0)) | L2: =IFERROR(VLOOKUP(A2,Apuracão!A:A,1,0),"NÃO CONSTA NA APURAÇÃO") -> 129 | M2: =IFERROR(VLOOKUP(A2,GRUPOS!C:C,1,0),"SEM GRUPO") -> 129 | N2: =IF(COUNTIF(A:A,A2)>1,"REPETIDO - CORRIGIR","OK") -> OK | P2: BIRITIBA MIRIM | Q2: =COUNTIF($F:$F,P2) -> 16 | S2: A + EX | T2: =COUNTIF(I:I,"A") + COUNTIF(I:I,"EX") -> 76 | V2: 16 | W2: 4 | Y2: =+V2*4 -> 64 | Z2: =+W2*3 -> 12 | AA2: =+Y2+Z2 -> 76 | AB2: =+T2-AA2 -> 0
A3: 170 | B3: =IF(A3>0,VLOOKUP(A3,'BASE FEDERAÇÃO'!$B:$M,2,FALSE),"") -> YAMAKAWA | C3: =IF(A3>0,VLOOKUP(A3,'BASE FEDERAÇÃO'!$B:$M,3,FALSE),"") -> YOCHINOBU | D3: =IF(A3>0,VLOOKUP(A3,'BASE FEDERAÇÃO'!$B:$M,4,FALSE),"") -> M | E3: =IF(A3>0,VLOOKUP(A3,'BASE FEDERAÇÃO'!$B:$M,5,FALSE),"") -> 11. NCC | F3: =IFERROR(VLOOKUP(E3,Base!$G:$H,2,0),"") -> NIPPON COUNTRY | G3: =IF(A3>0,VLOOKUP(A3,'BASE FEDERAÇÃO'!$B:$M,6,FALSE),"") -> 17962 | H3: =IF(A3>0,VLOOKUP(A3,'BASE FEDERAÇÃO'!$B:$M,7,FALSE),"") -> 2 | I3: =IF(A3>0,VLOOKUP(A3,'BASE FEDERAÇÃO'!$B:$M,8,FALSE),"") -> EX | J3: =IF(A3="","",VLOOKUP($A3,'BASE FEDERAÇÃO'!$B:$M,9,0)) -> SR | K3: =IF(B3="","",VLOOKUP($A3,'BASE FEDERAÇÃO'!$B:$M,10,0)) | L3: =IFERROR(VLOOKUP(A3,Apuracão!A:A,1,0),"NÃO CONSTA NA APURAÇÃO") -> 170 | M3: =IFERROR(VLOOKUP(A3,GRUPOS!C:C,1,0),"SEM GRUPO") -> 170 | N3: =IF(COUNTIF(A:A,A3)>1,"REPETIDO - CORRIGIR","OK") -> OK | P3: COOPER COTIA | Q3: =COUNTIF($F:$F,P3) -> 14 | S3: B + C | T3: =COUNTIF(I:I,"B") + COUNTIF(I:I,"C") -> 122 | V3: 30 | W3: 2 | Y3: =+V3*4 -> 120 | Z3: =+W3*3 -> 6 | AA3: =+Y3+Z3 -> 126 | AB3: =+T3-AA3 -> -4
A4: 292 | B4: =IF(A4>0,VLOOKUP(A4,'BASE FEDERAÇÃO'!$B:$M,2,FALSE),"") -> OKADA | C4: =IF(A4>0,VLOOKUP(A4,'BASE FEDERAÇÃO'!$B:$M,3,FALSE),"") -> OLIMPIO | D4: =IF(A4>0,VLOOKUP(A4,'BASE FEDERAÇÃO'!$B:$M,4,FALSE),"") -> M | E4: =IF(A4>0,VLOOKUP(A4,'BASE FEDERAÇÃO'!$B:$M,5,FALSE),"") -> 11. NCC | F4: =IFERROR(VLOOKUP(E4,Base!$G:$H,2,0),"") -> NIPPON COUNTRY | G4: =IF(A4>0,VLOOKUP(A4,'BASE FEDERAÇÃO'!$B:$M,6,FALSE),"") -> 19194 | H4: =IF(A4>0,VLOOKUP(A4,'BASE FEDERAÇÃO'!$B:$M,7,FALSE),"") -> 0 | I4: =IF(A4>0,VLOOKUP(A4,'BASE FEDERAÇÃO'!$B:$M,8,FALSE),"") -> EX | J4: =IF(A4="","",VLOOKUP($A4,'BASE FEDERAÇÃO'!$B:$M,9,0)) -> NSR | K4: =IF(B4="","",VLOOKUP($A4,'BASE FEDERAÇÃO'!$B:$M,10,0)) | L4: =IFERROR(VLOOKUP(A4,Apuracão!A:A,1,0),"NÃO CONSTA NA APURAÇÃO") -> 292 | M4: =IFERROR(VLOOKUP(A4,GRUPOS!C:C,1,0),"SEM GRUPO") -> 292 | N4: =IF(COUNTIF(A:A,A4)>1,"REPETIDO - CORRIGIR","OK") -> OK | P4: GRANDE SÃO PAULO | Q4: =COUNTIF($F:$F,P4) -> 31 | S4: TOTAL | T4: =SUM(T2:T3) -> 198 | V4: =SUM(V2:V3) -> 46 | W4: =SUM(W2:W3) -> 6
A5: 296 | B5: =IF(A5>0,VLOOKUP(A5,'BASE FEDERAÇÃO'!$B:$M,2,FALSE),"") -> UTSUNOMIYA | C5: =IF(A5>0,VLOOKUP(A5,'BASE FEDERAÇÃO'!$B:$M,3,FALSE),"") -> YUKIO | D5: =IF(A5>0,VLOOKUP(A5,'BASE FEDERAÇÃO'!$B:$M,4,FALSE),"") -> M | E5: =IF(A5>0,VLOOKUP(A5,'BASE FEDERAÇÃO'!$B:$M,5,FALSE),"") -> 11. NCC | F5: =IFERROR(VLOOKUP(E5,Base!$G:$H,2,0),"") -> NIPPON COUNTRY | G5: =IF(A5>0,VLOOKUP(A5,'BASE FEDERAÇÃO'!$B:$M,6,FALSE),"") -> 18980 | H5: =IF(A5>0,VLOOKUP(A5,'BASE FEDERAÇÃO'!$B:$M,7,FALSE),"") -> 9 | I5: =IF(A5>0,VLOOKUP(A5,'BASE FEDERAÇÃO'!$B:$M,8,FALSE),"") -> B | J5: =IF(A5="","",VLOOKUP($A5,'BASE FEDERAÇÃO'!$B:$M,9,0)) -> SR | K5: =IF(B5="","",VLOOKUP($A5,'BASE FEDERAÇÃO'!$B:$M,10,0)) | L5: =IFERROR(VLOOKUP(A5,Apuracão!A:A,1,0),"NÃO CONSTA NA APURAÇÃO") -> 296 | M5: =IFERROR(VLOOKUP(A5,GRUPOS!C:C,1,0),"SEM GRUPO") -> 296 | N5: =IF(COUNTIF(A:A,A5)>1,"REPETIDO - CORRIGIR","OK") -> OK | P5: IBIÚNA | Q5: =COUNTIF($F:$F,P5) -> 14 | S5: Check | T5: =+T4-Q14 -> 0
A6: 308 | B6: =IF(A6>0,VLOOKUP(A6,'BASE FEDERAÇÃO'!$B:$M,2,FALSE),"") -> SATO | C6: =IF(A6>0,VLOOKUP(A6,'BASE FEDERAÇÃO'!$B:$M,3,FALSE),"") -> HIROYUKI | D6: =IF(A6>0,VLOOKUP(A6,'BASE FEDERAÇÃO'!$B:$M,4,FALSE),"") -> M | E6: =IF(A6>0,VLOOKUP(A6,'BASE FEDERAÇÃO'!$B:$M,5,FALSE),"") -> 11. NCC | F6: =IFERROR(VLOOKUP(E6,Base!$G:$H,2,0),"") -> NIPPON COUNTRY | G6: =IF(A6>0,VLOOKUP(A6,'BASE FEDERAÇÃO'!$B:$M,6,FALSE),"") -> 13814 | H6: =IF(A6>0,VLOOKUP(A6,'BASE FEDERAÇÃO'!$B:$M,7,FALSE),"") -> 9 | I6: =IF(A6>0,VLOOKUP(A6,'BASE FEDERAÇÃO'!$B:$M,8,FALSE),"") -> B | J6: =IF(A6="","",VLOOKUP($A6,'BASE FEDERAÇÃO'!$B:$M,9,0)) -> MR | K6: =IF(B6="","",VLOOKUP($A6,'BASE FEDERAÇÃO'!$B:$M,10,0)) -> X | L6: =IFERROR(VLOOKUP(A6,Apuracão!A:A,1,0),"NÃO CONSTA NA APURAÇÃO") -> 308 | M6: =IFERROR(VLOOKUP(A6,GRUPOS!C:C,1,0),"SEM GRUPO") -> 308 | N6: =IF(COUNTIF(A:A,A6)>1,"REPETIDO - CORRIGIR","OK") -> OK | P6: ITAPETININGA | Q6: =COUNTIF($F:$F,P6) -> 6
A7: 320 | B7: =IF(A7>0,VLOOKUP(A7,'BASE FEDERAÇÃO'!$B:$M,2,FALSE),"") -> WAKABAYASHI | C7: =IF(A7>0,VLOOKUP(A7,'BASE FEDERAÇÃO'!$B:$M,3,FALSE),"") -> KOITI | D7: =IF(A7>0,VLOOKUP(A7,'BASE FEDERAÇÃO'!$B:$M,4,FALSE),"") -> M | E7: =IF(A7>0,VLOOKUP(A7,'BASE FEDERAÇÃO'!$B:$M,5,FALSE),"") -> 11. NCC | F7: =IFERROR(VLOOKUP(E7,Base!$G:$H,2,0),"") -> NIPPON COUNTRY | G7: =IF(A7>0,VLOOKUP(A7,'BASE FEDERAÇÃO'!$B:$M,6,FALSE),"") -> 15516 | H7: =IF(A7>0,VLOOKUP(A7,'BASE FEDERAÇÃO'!$B:$M,7,FALSE),"") -> 5 | I7: =IF(A7>0,VLOOKUP(A7,'BASE FEDERAÇÃO'!$B:$M,8,FALSE),"") -> A | J7: =IF(A7="","",VLOOKUP($A7,'BASE FEDERAÇÃO'!$B:$M,9,0)) -> SR | K7: =IF(B7="","",VLOOKUP($A7,'BASE FEDERAÇÃO'!$B:$M,10,0)) -> X | L7: =IFERROR(VLOOKUP(A7,Apuracão!A:A,1,0),"NÃO CONSTA NA APURAÇÃO") -> 320 | M7: =IFERROR(VLOOKUP(A7,GRUPOS!C:C,1,0),"SEM GRUPO") -> 320 | N7: =IF(COUNTIF(A:A,A7)>1,"REPETIDO - CORRIGIR","OK") -> OK | P7: KOKUSHIKAN | Q7: =COUNTIF($F:$F,P7) -> 26 | V7: 4pessoas | W7: 3pessoas | X7: Total
A8: 335 | B8: =IF(A8>0,VLOOKUP(A8,'BASE FEDERAÇÃO'!$B:$M,2,FALSE),"") -> KITANO | C8: =IF(A8>0,VLOOKUP(A8,'BASE FEDERAÇÃO'!$B:$M,3,FALSE),"") -> KAZUO | D8: =IF(A8>0,VLOOKUP(A8,'BASE FEDERAÇÃO'!$B:$M,4,FALSE),"") -> M | E8: =IF(A8>0,VLOOKUP(A8,'BASE FEDERAÇÃO'!$B:$M,5,FALSE),"") -> 11. NCC | F8: =IFERROR(VLOOKUP(E8,Base!$G:$H,2,0),"") -> NIPPON COUNTRY | G8: =IF(A8>0,VLOOKUP(A8,'BASE FEDERAÇÃO'!$B:$M,6,FALSE),"") -> 19890 | H8: =IF(A8>0,VLOOKUP(A8,'BASE FEDERAÇÃO'!$B:$M,7,FALSE),"") -> 8 | I8: =IF(A8>0,VLOOKUP(A8,'BASE FEDERAÇÃO'!$B:$M,8,FALSE),"") -> B | J8: =IF(A8="","",VLOOKUP($A8,'BASE FEDERAÇÃO'!$B:$M,9,0)) -> NSR | K8: =IF(B8="","",VLOOKUP($A8,'BASE FEDERAÇÃO'!$B:$M,10,0)) -> X | L8: =IFERROR(VLOOKUP(A8,Apuracão!A:A,1,0),"NÃO CONSTA NA APURAÇÃO") -> 335 | M8: =IFERROR(VLOOKUP(A8,GRUPOS!C:C,1,0),"SEM GRUPO") -> 335 | N8: =IF(COUNTIF(A:A,A8)>1,"REPETIDO - CORRIGIR","OK") -> OK | P8: NIPPON COUNTRY | Q8: =COUNTIF($F:$F,P8) -> 39 | U8: A + EX | V8: =+V2 -> 16 | W8: =+W2 -> 4 | X8: =+W8+V8 -> 20 | Y8: 20 | Z8: =+X8-Y8 -> 0
A9: 366 | B9: =IF(A9>0,VLOOKUP(A9,'BASE FEDERAÇÃO'!$B:$M,2,FALSE),"") -> KOJA | C9: =IF(A9>0,VLOOKUP(A9,'BASE FEDERAÇÃO'!$B:$M,3,FALSE),"") -> T.EDISON | D9: =IF(A9>0,VLOOKUP(A9,'BASE FEDERAÇÃO'!$B:$M,4,FALSE),"") -> M | E9: =IF(A9>0,VLOOKUP(A9,'BASE FEDERAÇÃO'!$B:$M,5,FALSE),"") -> 11. NCC | F9: =IFERROR(VLOOKUP(E9,Base!$G:$H,2,0),"") -> NIPPON COUNTRY | G9: =IF(A9>0,VLOOKUP(A9,'BASE FEDERAÇÃO'!$B:$M,6,FALSE),"") -> 17495 | H9: =IF(A9>0,VLOOKUP(A9,'BASE FEDERAÇÃO'!$B:$M,7,FALSE),"") -> 4 | I9: =IF(A9>0,VLOOKUP(A9,'BASE FEDERAÇÃO'!$B:$M,8,FALSE),"") -> A | J9: =IF(A9="","",VLOOKUP($A9,'BASE FEDERAÇÃO'!$B:$M,9,0)) -> SR | K9: =IF(B9="","",VLOOKUP($A9,'BASE FEDERAÇÃO'!$B:$M,10,0)) | L9: =IFERROR(VLOOKUP(A9,Apuracão!A:A,1,0),"NÃO CONSTA NA APURAÇÃO") -> 366 | M9: =IFERROR(VLOOKUP(A9,GRUPOS!C:C,1,0),"SEM GRUPO") -> 366 | N9: =IF(COUNTIF(A:A,A9)>1,"REPETIDO - CORRIGIR","OK") -> OK | P9: PIEDADE | Q9: =COUNTIF($F:$F,P9) -> 21 | U9: B + C | V9: =+V3 -> 30 | W9: =+W3 -> 2 | X9: =+W9+V9 -> 32 | Y9: 32 | Z9: =+X9-Y9 -> 0
A10: 375 | B10: =IF(A10>0,VLOOKUP(A10,'BASE FEDERAÇÃO'!$B:$M,2,FALSE),"") -> KOJA | C10: =IF(A10>0,VLOOKUP(A10,'BASE FEDERAÇÃO'!$B:$M,3,FALSE),"") -> J. JORGE | D10: =IF(A10>0,VLOOKUP(A10,'BASE FEDERAÇÃO'!$B:$M,4,FALSE),"") -> M | E10: =IF(A10>0,VLOOKUP(A10,'BASE FEDERAÇÃO'!$B:$M,5,FALSE),"") -> 11. NCC | F10: =IFERROR(VLOOKUP(E10,Base!$G:$H,2,0),"") -> NIPPON COUNTRY | G10: =IF(A10>0,VLOOKUP(A10,'BASE FEDERAÇÃO'!$B:$M,6,FALSE),"") -> 16676 | H10: =IF(A10>0,VLOOKUP(A10,'BASE FEDERAÇÃO'!$B:$M,7,FALSE),"") -> 2 | I10: =IF(A10>0,VLOOKUP(A10,'BASE FEDERAÇÃO'!$B:$M,8,FALSE),"") -> EX | J10: =IF(A10="","",VLOOKUP($A10,'BASE FEDERAÇÃO'!$B:$M,9,0)) -> SR | K10: =IF(B10="","",VLOOKUP($A10,'BASE FEDERAÇÃO'!$B:$M,10,0)) -> X | L10: =IFERROR(VLOOKUP(A10,Apuracão!A:A,1,0),"NÃO CONSTA NA APURAÇÃO") -> 375 | M10: =IFERROR(VLOOKUP(A10,GRUPOS!C:C,1,0),"SEM GRUPO") -> 375 | N10: =IF(COUNTIF(A:A,A10)>1,"REPETIDO - CORRIGIR","OK") -> OK | P10: SÃO M. ARCANJO | Q10: =COUNTIF($F:$F,P10) -> 10 | U10: Total de grupos | V10: =SUM(V8:V9) -> 46 | W10: =SUM(W8:W9) -> 6
A11: 410 | B11: =IF(A11>0,VLOOKUP(A11,'BASE FEDERAÇÃO'!$B:$M,2,FALSE),"") -> YOSHINO | C11: =IF(A11>0,VLOOKUP(A11,'BASE FEDERAÇÃO'!$B:$M,3,FALSE),"") -> GUIDO YOSHIAKI | D11: =IF(A11>0,VLOOKUP(A11,'BASE FEDERAÇÃO'!$B:$M,4,FALSE),"") -> M | E11: =IF(A11>0,VLOOKUP(A11,'BASE FEDERAÇÃO'!$B:$M,5,FALSE),"") -> 11. NCC | F11: =IFERROR(VLOOKUP(E11,Base!$G:$H,2,0),"") -> NIPPON COUNTRY | G11: =IF(A11>0,VLOOKUP(A11,'BASE FEDERAÇÃO'!$B:$M,6,FALSE),"") -> 21607 | H11: =IF(A11>0,VLOOKUP(A11,'BASE FEDERAÇÃO'!$B:$M,7,FALSE),"") -> 12 | I11: =IF(A11>0,VLOOKUP(A11,'BASE FEDERAÇÃO'!$B:$M,8,FALSE),"") -> C | J11: =IF(A11="","",VLOOKUP($A11,'BASE FEDERAÇÃO'!$B:$M,9,0)) -> NSR | K11: =IF(B11="","",VLOOKUP($A11,'BASE FEDERAÇÃO'!$B:$M,10,0)) -> #DIV/0! | L11: =IFERROR(VLOOKUP(A11,Apuracão!A:A,1,0),"NÃO CONSTA NA APURAÇÃO") -> 410 | M11: =IFERROR(VLOOKUP(A11,GRUPOS!C:C,1,0),"SEM GRUPO") -> 410 | N11: =IF(COUNTIF(A:A,A11)>1,"REPETIDO - CORRIGIR","OK") -> OK | P11: SOROCABA | Q11: =COUNTIF($F:$F,P11) -> 14
A12: 411 | B12: =IF(A12>0,VLOOKUP(A12,'BASE FEDERAÇÃO'!$B:$M,2,FALSE),"") -> SATO YOSHINO | C12: =IF(A12>0,VLOOKUP(A12,'BASE FEDERAÇÃO'!$B:$M,3,FALSE),"") -> MARLI | D12: =IF(A12>0,VLOOKUP(A12,'BASE FEDERAÇÃO'!$B:$M,4,FALSE),"") -> F | E12: =IF(A12>0,VLOOKUP(A12,'BASE FEDERAÇÃO'!$B:$M,5,FALSE),"") -> 11. NCC | F12: =IFERROR(VLOOKUP(E12,Base!$G:$H,2,0),"") -> NIPPON COUNTRY | G12: =IF(A12>0,VLOOKUP(A12,'BASE FEDERAÇÃO'!$B:$M,6,FALSE),"") -> 22208 | H12: =IF(A12>0,VLOOKUP(A12,'BASE FEDERAÇÃO'!$B:$M,7,FALSE),"") -> 9 | I12: =IF(A12>0,VLOOKUP(A12,'BASE FEDERAÇÃO'!$B:$M,8,FALSE),"") -> B | J12: =IF(A12="","",VLOOKUP($A12,'BASE FEDERAÇÃO'!$B:$M,9,0)) -> NSR | K12: =IF(B12="","",VLOOKUP($A12,'BASE FEDERAÇÃO'!$B:$M,10,0)) -> #DIV/0! | L12: =IFERROR(VLOOKUP(A12,Apuracão!A:A,1,0),"NÃO CONSTA NA APURAÇÃO") -> 411 | M12: =IFERROR(VLOOKUP(A12,GRUPOS!C:C,1,0),"SEM GRUPO") -> 411 | N12: =IF(COUNTIF(A:A,A12)>1,"REPETIDO - CORRIGIR","OK") -> OK | P12: SUMARÉ | Q12: =COUNTIF($F:$F,P12) -> 7
A13: 427 | B13: =IF(A13>0,VLOOKUP(A13,'BASE FEDERAÇÃO'!$B:$M,2,FALSE),"") -> HORITA | C13: =IF(A13>0,VLOOKUP(A13,'BASE FEDERAÇÃO'!$B:$M,3,FALSE),"") -> SETSUOMI | D13: =IF(A13>0,VLOOKUP(A13,'BASE FEDERAÇÃO'!$B:$M,4,FALSE),"") -> M | E13: =IF(A13>0,VLOOKUP(A13,'BASE FEDERAÇÃO'!$B:$M,5,FALSE),"") -> 11. NCC | F13: =IFERROR(VLOOKUP(E13,Base!$G:$H,2,0),"") -> NIPPON COUNTRY | G13: =IF(A13>0,VLOOKUP(A13,'BASE FEDERAÇÃO'!$B:$M,6,FALSE),"") -> 16582 | H13: =IF(A13>0,VLOOKUP(A13,'BASE FEDERAÇÃO'!$B:$M,7,FALSE),"") -> 4 | I13: =IF(A13>0,VLOOKUP(A13,'BASE FEDERAÇÃO'!$B:$M,8,FALSE),"") -> A | J13: =IF(A13="","",VLOOKUP($A13,'BASE FEDERAÇÃO'!$B:$M,9,0)) -> SR | K13: =IF(B13="","",VLOOKUP($A13,'BASE FEDERAÇÃO'!$B:$M,10,0)) -> X | L13: =IFERROR(VLOOKUP(A13,Apuracão!A:A,1,0),"NÃO CONSTA NA APURAÇÃO") -> 427 | M13: =IFERROR(VLOOKUP(A13,GRUPOS!C:C,1,0),"SEM GRUPO") -> 427 | N13: =IF(COUNTIF(A:A,A13)>1,"REPETIDO - CORRIGIR","OK") -> OK
A14: 472 | B14: =IF(A14>0,VLOOKUP(A14,'BASE FEDERAÇÃO'!$B:$M,2,FALSE),"") -> NAKANO | C14: =IF(A14>0,VLOOKUP(A14,'BASE FEDERAÇÃO'!$B:$M,3,FALSE),"") -> MARIA LUCIA | D14: =IF(A14>0,VLOOKUP(A14,'BASE FEDERAÇÃO'!$B:$M,4,FALSE),"") -> F | E14: =IF(A14>0,VLOOKUP(A14,'BASE FEDERAÇÃO'!$B:$M,5,FALSE),"") -> 11. NCC | F14: =IFERROR(VLOOKUP(E14,Base!$G:$H,2,0),"") -> NIPPON COUNTRY | G14: =IF(A14>0,VLOOKUP(A14,'BASE FEDERAÇÃO'!$B:$M,6,FALSE),"") -> 18638 | H14: =IF(A14>0,VLOOKUP(A14,'BASE FEDERAÇÃO'!$B:$M,7,FALSE),"") -> 6 | I14: =IF(A14>0,VLOOKUP(A14,'BASE FEDERAÇÃO'!$B:$M,8,FALSE),"") -> A | J14: =IF(A14="","",VLOOKUP($A14,'BASE FEDERAÇÃO'!$B:$M,9,0)) -> SR | K14: =IF(B14="","",VLOOKUP($A14,'BASE FEDERAÇÃO'!$B:$M,10,0)) | L14: =IFERROR(VLOOKUP(A14,Apuracão!A:A,1,0),"NÃO CONSTA NA APURAÇÃO") -> 472 | M14: =IFERROR(VLOOKUP(A14,GRUPOS!C:C,1,0),"SEM GRUPO") -> 472 | N14: =IF(COUNTIF(A:A,A14)>1,"REPETIDO - CORRIGIR","OK") -> OK | P14: TOTAL | Q14: =SUM(Q2:Q12) -> 198
A15: 473 | B15: =IF(A15>0,VLOOKUP(A15,'BASE FEDERAÇÃO'!$B:$M,2,FALSE),"") -> NAKANO | C15: =IF(A15>0,VLOOKUP(A15,'BASE FEDERAÇÃO'!$B:$M,3,FALSE),"") -> RUBENS SHOZI | D15: =IF(A15>0,VLOOKUP(A15,'BASE FEDERAÇÃO'!$B:$M,4,FALSE),"") -> M | E15: =IF(A15>0,VLOOKUP(A15,'BASE FEDERAÇÃO'!$B:$M,5,FALSE),"") -> 11. NCC | F15: =IFERROR(VLOOKUP(E15,Base!$G:$H,2,0),"") -> NIPPON COUNTRY | G15: =IF(A15>0,VLOOKUP(A15,'BASE FEDERAÇÃO'!$B:$M,6,FALSE),"") -> 17547 | H15: =IF(A15>0,VLOOKUP(A15,'BASE FEDERAÇÃO'!$B:$M,7,FALSE),"") -> 6 | I15: =IF(A15>0,VLOOKUP(A15,'BASE FEDERAÇÃO'!$B:$M,8,FALSE),"") -> A | J15: =IF(A15="","",VLOOKUP($A15,'BASE FEDERAÇÃO'!$B:$M,9,0)) -> SR | K15: =IF(B15="","",VLOOKUP($A15,'BASE FEDERAÇÃO'!$B:$M,10,0)) -> X | L15: =IFERROR(VLOOKUP(A15,Apuracão!A:A,1,0),"NÃO CONSTA NA APURAÇÃO") -> 473 | M15: =IFERROR(VLOOKUP(A15,GRUPOS!C:C,1,0),"SEM GRUPO") -> 473 | N15: =IF(COUNTIF(A:A,A15)>1,"REPETIDO - CORRIGIR","OK") -> OK | P15: check | Q15: =COUNTA(A2:A1048576)-Q14 -> 0
A16: 478 | B16: =IF(A16>0,VLOOKUP(A16,'BASE FEDERAÇÃO'!$B:$M,2,FALSE),"") -> HIGUCHI | C16: =IF(A16>0,VLOOKUP(A16,'BASE FEDERAÇÃO'!$B:$M,3,FALSE),"") -> ARTUR KEN | D16: =IF(A16>0,VLOOKUP(A16,'BASE FEDERAÇÃO'!$B:$M,4,FALSE),"") -> M | E16: =IF(A16>0,VLOOKUP(A16,'BASE FEDERAÇÃO'!$B:$M,5,FALSE),"") -> 11. NCC | F16: =IFERROR(VLOOKUP(E16,Base!$G:$H,2,0),"") -> NIPPON COUNTRY | G16: =IF(A16>0,VLOOKUP(A16,'BASE FEDERAÇÃO'!$B:$M,6,FALSE),"") -> 19959 | H16: =IF(A16>0,VLOOKUP(A16,'BASE FEDERAÇÃO'!$B:$M,7,FALSE),"") -> 3 | I16: =IF(A16>0,VLOOKUP(A16,'BASE FEDERAÇÃO'!$B:$M,8,FALSE),"") -> EX | J16: =IF(A16="","",VLOOKUP($A16,'BASE FEDERAÇÃO'!$B:$M,9,0)) -> NSR | K16: =IF(B16="","",VLOOKUP($A16,'BASE FEDERAÇÃO'!$B:$M,10,0)) -> X | L16: =IFERROR(VLOOKUP(A16,Apuracão!A:A,1,0),"NÃO CONSTA NA APURAÇÃO") -> 478 | M16: =IFERROR(VLOOKUP(A16,GRUPOS!C:C,1,0),"SEM GRUPO") -> 478 | N16: =IF(COUNTIF(A:A,A16)>1,"REPETIDO - CORRIGIR","OK") -> OK
A17: 479 | B17: =IF(A17>0,VLOOKUP(A17,'BASE FEDERAÇÃO'!$B:$M,2,FALSE),"") -> SATO | C17: =IF(A17>0,VLOOKUP(A17,'BASE FEDERAÇÃO'!$B:$M,3,FALSE),"") -> EDSON ATUSHI | D17: =IF(A17>0,VLOOKUP(A17,'BASE FEDERAÇÃO'!$B:$M,4,FALSE),"") -> M | E17: =IF(A17>0,VLOOKUP(A17,'BASE FEDERAÇÃO'!$B:$M,5,FALSE),"") -> 11. NCC | F17: =IFERROR(VLOOKUP(E17,Base!$G:$H,2,0),"") -> NIPPON COUNTRY | G17: =IF(A17>0,VLOOKUP(A17,'BASE FEDERAÇÃO'!$B:$M,6,FALSE),"") -> 15912 | H17: =IF(A17>0,VLOOKUP(A17,'BASE FEDERAÇÃO'!$B:$M,7,FALSE),"") -> 12 | I17: =IF(A17>0,VLOOKUP(A17,'BASE FEDERAÇÃO'!$B:$M,8,FALSE),"") -> C | J17: =IF(A17="","",VLOOKUP($A17,'BASE FEDERAÇÃO'!$B:$M,9,0)) -> SR | K17: =IF(B17="","",VLOOKUP($A17,'BASE FEDERAÇÃO'!$B:$M,10,0)) -> X | L17: =IFERROR(VLOOKUP(A17,Apuracão!A:A,1,0),"NÃO CONSTA NA APURAÇÃO") -> 479 | M17: =IFERROR(VLOOKUP(A17,GRUPOS!C:C,1,0),"SEM GRUPO") -> 479 | N17: =IF(COUNTIF(A:A,A17)>1,"REPETIDO - CORRIGIR","OK") -> OK
A18: 480 | B18: =IF(A18>0,VLOOKUP(A18,'BASE FEDERAÇÃO'!$B:$M,2,FALSE),"") -> SIGAKI HIGUCHI | C18: =IF(A18>0,VLOOKUP(A18,'BASE FEDERAÇÃO'!$B:$M,3,FALSE),"") -> LOURDES YASSUKO | D18: =IF(A18>0,VLOOKUP(A18,'BASE FEDERAÇÃO'!$B:$M,4,FALSE),"") -> F | E18: =IF(A18>0,VLOOKUP(A18,'BASE FEDERAÇÃO'!$B:$M,5,FALSE),"") -> 11. NCC | F18: =IFERROR(VLOOKUP(E18,Base!$G:$H,2,0),"") -> NIPPON COUNTRY | G18: =IF(A18>0,VLOOKUP(A18,'BASE FEDERAÇÃO'!$B:$M,6,FALSE),"") -> 20585 | H18: =IF(A18>0,VLOOKUP(A18,'BASE FEDERAÇÃO'!$B:$M,7,FALSE),"") -> 6 | I18: =IF(A18>0,VLOOKUP(A18,'BASE FEDERAÇÃO'!$B:$M,8,FALSE),"") -> A | J18: =IF(A18="","",VLOOKUP($A18,'BASE FEDERAÇÃO'!$B:$M,9,0)) -> NSR | K18: =IF(B18="","",VLOOKUP($A18,'BASE FEDERAÇÃO'!$B:$M,10,0)) -> X | L18: =IFERROR(VLOOKUP(A18,Apuracão!A:A,1,0),"NÃO CONSTA NA APURAÇÃO") -> 480 | M18: =IFERROR(VLOOKUP(A18,GRUPOS!C:C,1,0),"SEM GRUPO") -> 480 | N18: =IF(COUNTIF(A:A,A18)>1,"REPETIDO - CORRIGIR","OK") -> OK
A19: 506 | B19: =IF(A19>0,VLOOKUP(A19,'BASE FEDERAÇÃO'!$B:$M,2,FALSE),"") -> KIYOHARA | C19: =IF(A19>0,VLOOKUP(A19,'BASE FEDERAÇÃO'!$B:$M,3,FALSE),"") -> IKUO | D19: =IF(A19>0,VLOOKUP(A19,'BASE FEDERAÇÃO'!$B:$M,4,FALSE),"") -> M | E19: =IF(A19>0,VLOOKUP(A19,'BASE FEDERAÇÃO'!$B:$M,5,FALSE),"") -> 11. NCC | F19: =IFERROR(VLOOKUP(E19,Base!$G:$H,2,0),"") -> NIPPON COUNTRY | G19: =IF(A19>0,VLOOKUP(A19,'BASE FEDERAÇÃO'!$B:$M,6,FALSE),"") -> 14496 | H19: =IF(A19>0,VLOOKUP(A19,'BASE FEDERAÇÃO'!$B:$M,7,FALSE),"") -> 9 | I19: =IF(A19>0,VLOOKUP(A19,'BASE FEDERAÇÃO'!$B:$M,8,FALSE),"") -> B | J19: =IF(A19="","",VLOOKUP($A19,'BASE FEDERAÇÃO'!$B:$M,9,0)) -> MR | K19: =IF(B19="","",VLOOKUP($A19,'BASE FEDERAÇÃO'!$B:$M,10,0)) | L19: =IFERROR(VLOOKUP(A19,Apuracão!A:A,1,0),"NÃO CONSTA NA APURAÇÃO") -> 506 | M19: =IFERROR(VLOOKUP(A19,GRUPOS!C:C,1,0),"SEM GRUPO") -> 506 | N19: =IF(COUNTIF(A:A,A19)>1,"REPETIDO - CORRIGIR","OK") -> OK
A20: 539 | B20: =IF(A20>0,VLOOKUP(A20,'BASE FEDERAÇÃO'!$B:$M,2,FALSE),"") -> NICIHOKA | C20: =IF(A20>0,VLOOKUP(A20,'BASE FEDERAÇÃO'!$B:$M,3,FALSE),"") -> LUCIA MIEKO | D20: =IF(A20>0,VLOOKUP(A20,'BASE FEDERAÇÃO'!$B:$M,4,FALSE),"") -> F | E20: =IF(A20>0,VLOOKUP(A20,'BASE FEDERAÇÃO'!$B:$M,5,FALSE),"") -> 11. NCC | F20: =IFERROR(VLOOKUP(E20,Base!$G:$H,2,0),"") -> NIPPON COUNTRY | G20: =IF(A20>0,VLOOKUP(A20,'BASE FEDERAÇÃO'!$B:$M,6,FALSE),"") -> 21429 | H20: =IF(A20>0,VLOOKUP(A20,'BASE FEDERAÇÃO'!$B:$M,7,FALSE),"") -> 9 | I20: =IF(A20>0,VLOOKUP(A20,'BASE FEDERAÇÃO'!$B:$M,8,FALSE),"") -> B | J20: =IF(A20="","",VLOOKUP($A20,'BASE FEDERAÇÃO'!$B:$M,9,0)) -> NSR | K20: =IF(B20="","",VLOOKUP($A20,'BASE FEDERAÇÃO'!$B:$M,10,0)) -> X | L20: =IFERROR(VLOOKUP(A20,Apuracão!A:A,1,0),"NÃO CONSTA NA APURAÇÃO") -> 539 | M20: =IFERROR(VLOOKUP(A20,GRUPOS!C:C,1,0),"SEM GRUPO") -> 539 | N20: =IF(COUNTIF(A:A,A20)>1,"REPETIDO - CORRIGIR","OK") -> OK
A21: 637 | B21: =IF(A21>0,VLOOKUP(A21,'BASE FEDERAÇÃO'!$B:$M,2,FALSE),"") -> RIBEIRO DE SOUZA | C21: =IF(A21>0,VLOOKUP(A21,'BASE FEDERAÇÃO'!$B:$M,3,FALSE),"") -> TANIA DE FATIMA | D21: =IF(A21>0,VLOOKUP(A21,'BASE FEDERAÇÃO'!$B:$M,4,FALSE),"") -> F | E21: =IF(A21>0,VLOOKUP(A21,'BASE FEDERAÇÃO'!$B:$M,5,FALSE),"") -> 11. NCC | F21: =IFERROR(VLOOKUP(E21,Base!$G:$H,2,0),"") -> NIPPON COUNTRY | G21: =IF(A21>0,VLOOKUP(A21,'BASE FEDERAÇÃO'!$B:$M,6,FALSE),"") -> 23251 | H21: =IF(A21>0,VLOOKUP(A21,'BASE FEDERAÇÃO'!$B:$M,7,FALSE),"") -> 3 | I21: =IF(A21>0,VLOOKUP(A21,'BASE FEDERAÇÃO'!$B:$M,8,FALSE),"") -> EX | J21: =IF(A21="","",VLOOKUP($A21,'BASE FEDERAÇÃO'!$B:$M,9,0)) -> NSR | K21: =IF(B21="","",VLOOKUP($A21,'BASE FEDERAÇÃO'!$B:$M,10,0)) -> X | L21: =IFERROR(VLOOKUP(A21,Apuracão!A:A,1,0),"NÃO CONSTA NA APURAÇÃO") -> 637 | M21: =IFERROR(VLOOKUP(A21,GRUPOS!C:C,1,0),"SEM GRUPO") -> 637 | N21: =IF(COUNTIF(A:A,A21)>1,"REPETIDO - CORRIGIR","OK") -> OK
A22: 656 | B22: =IF(A22>0,VLOOKUP(A22,'BASE FEDERAÇÃO'!$B:$M,2,FALSE),"") -> MORISHITA | C22: =IF(A22>0,VLOOKUP(A22,'BASE FEDERAÇÃO'!$B:$M,3,FALSE),"") -> MASAHARU | D22: =IF(A22>0,VLOOKUP(A22,'BASE FEDERAÇÃO'!$B:$M,4,FALSE),"") -> M | E22: =IF(A22>0,VLOOKUP(A22,'BASE FEDERAÇÃO'!$B:$M,5,FALSE),"") -> 11. NCC | F22: =IFERROR(VLOOKUP(E22,Base!$G:$H,2,0),"") -> NIPPON COUNTRY | G22: =IF(A22>0,VLOOKUP(A22,'BASE FEDERAÇÃO'!$B:$M,6,FALSE),"") -> 17774 | H22: =IF(A22>0,VLOOKUP(A22,'BASE FEDERAÇÃO'!$B:$M,7,FALSE),"") -> 3 | I22: =IF(A22>0,VLOOKUP(A22,'BASE FEDERAÇÃO'!$B:$M,8,FALSE),"") -> EX | J22: =IF(A22="","",VLOOKUP($A22,'BASE FEDERAÇÃO'!$B:$M,9,0)) -> SR | K22: =IF(B22="","",VLOOKUP($A22,'BASE FEDERAÇÃO'!$B:$M,10,0)) -> X | L22: =IFERROR(VLOOKUP(A22,Apuracão!A:A,1,0),"NÃO CONSTA NA APURAÇÃO") -> 656 | M22: =IFERROR(VLOOKUP(A22,GRUPOS!C:C,1,0),"SEM GRUPO") -> 656 | N22: =IF(COUNTIF(A:A,A22)>1,"REPETIDO - CORRIGIR","OK") -> OK
A23: 677 | B23: =IF(A23>0,VLOOKUP(A23,'BASE FEDERAÇÃO'!$B:$M,2,FALSE),"") -> KANASHIRO | C23: =IF(A23>0,VLOOKUP(A23,'BASE FEDERAÇÃO'!$B:$M,3,FALSE),"") -> TERUMI APARECIDO | D23: =IF(A23>0,VLOOKUP(A23,'BASE FEDERAÇÃO'!$B:$M,4,FALSE),"") -> M | E23: =IF(A23>0,VLOOKUP(A23,'BASE FEDERAÇÃO'!$B:$M,5,FALSE),"") -> 11. NCC | F23: =IFERROR(VLOOKUP(E23,Base!$G:$H,2,0),"") -> NIPPON COUNTRY | G23: =IF(A23>0,VLOOKUP(A23,'BASE FEDERAÇÃO'!$B:$M,6,FALSE),"") -> 19681 | H23: =IF(A23>0,VLOOKUP(A23,'BASE FEDERAÇÃO'!$B:$M,7,FALSE),"") -> 4 | I23: =IF(A23>0,VLOOKUP(A23,'BASE FEDERAÇÃO'!$B:$M,8,FALSE),"") -> A | J23: =IF(A23="","",VLOOKUP($A23,'BASE FEDERAÇÃO'!$B:$M,9,0)) -> NSR | K23: =IF(B23="","",VLOOKUP($A23,'BASE FEDERAÇÃO'!$B:$M,10,0)) -> X | L23: =IFERROR(VLOOKUP(A23,Apuracão!A:A,1,0),"NÃO CONSTA NA APURAÇÃO") -> 677 | M23: =IFERROR(VLOOKUP(A23,GRUPOS!C:C,1,0),"SEM GRUPO") -> 677 | N23: =IF(COUNTIF(A:A,A23)>1,"REPETIDO - CORRIGIR","OK") -> OK
A24: 719 | B24: =IF(A24>0,VLOOKUP(A24,'BASE FEDERAÇÃO'!$B:$M,2,FALSE),"") -> AZEVEDO | C24: =IF(A24>0,VLOOKUP(A24,'BASE FEDERAÇÃO'!$B:$M,3,FALSE),"") -> IDELSON | D24: =IF(A24>0,VLOOKUP(A24,'BASE FEDERAÇÃO'!$B:$M,4,FALSE),"") -> M | E24: =IF(A24>0,VLOOKUP(A24,'BASE FEDERAÇÃO'!$B:$M,5,FALSE),"") -> 11. NCC | F24: =IFERROR(VLOOKUP(E24,Base!$G:$H,2,0),"") -> NIPPON COUNTRY | G24: =IF(A24>0,VLOOKUP(A24,'BASE FEDERAÇÃO'!$B:$M,6,FALSE),"") -> 16509 | H24: =IF(A24>0,VLOOKUP(A24,'BASE FEDERAÇÃO'!$B:$M,7,FALSE),"") -> 8 | I24: =IF(A24>0,VLOOKUP(A24,'BASE FEDERAÇÃO'!$B:$M,8,FALSE),"") -> B | J24: =IF(A24="","",VLOOKUP($A24,'BASE FEDERAÇÃO'!$B:$M,9,0)) -> SR | K24: =IF(B24="","",VLOOKUP($A24,'BASE FEDERAÇÃO'!$B:$M,10,0)) -> X | L24: =IFERROR(VLOOKUP(A24,Apuracão!A:A,1,0),"NÃO CONSTA NA APURAÇÃO") -> 719 | M24: =IFERROR(VLOOKUP(A24,GRUPOS!C:C,1,0),"SEM GRUPO") -> 719 | N24: =IF(COUNTIF(A:A,A24)>1,"REPETIDO - CORRIGIR","OK") -> OK
A25: 733 | B25: =IF(A25>0,VLOOKUP(A25,'BASE FEDERAÇÃO'!$B:$M,2,FALSE),"") -> WATANABE | C25: =IF(A25>0,VLOOKUP(A25,'BASE FEDERAÇÃO'!$B:$M,3,FALSE),"") -> EMILIA | D25: =IF(A25>0,VLOOKUP(A25,'BASE FEDERAÇÃO'!$B:$M,4,FALSE),"") -> F | E25: =IF(A25>0,VLOOKUP(A25,'BASE FEDERAÇÃO'!$B:$M,5,FALSE),"") -> 11. NCC | F25: =IFERROR(VLOOKUP(E25,Base!$G:$H,2,0),"") -> NIPPON COUNTRY | G25: =IF(A25>0,VLOOKUP(A25,'BASE FEDERAÇÃO'!$B:$M,6,FALSE),"") -> 20589 | H25: =IF(A25>0,VLOOKUP(A25,'BASE FEDERAÇÃO'!$B:$M,7,FALSE),"") -> 3 | I25: =IF(A25>0,VLOOKUP(A25,'BASE FEDERAÇÃO'!$B:$M,8,FALSE),"") -> EX | J25: =IF(A25="","",VLOOKUP($A25,'BASE FEDERAÇÃO'!$B:$M,9,0)) -> NSR | K25: =IF(B25="","",VLOOKUP($A25,'BASE FEDERAÇÃO'!$B:$M,10,0)) -> X | L25: =IFERROR(VLOOKUP(A25,Apuracão!A:A,1,0),"NÃO CONSTA NA APURAÇÃO") -> 733 | M25: =IFERROR(VLOOKUP(A25,GRUPOS!C:C,1,0),"SEM GRUPO") -> 733 | N25: =IF(COUNTIF(A:A,A25)>1,"REPETIDO - CORRIGIR","OK") -> OK
A26: 781 | B26: =IF(A26>0,VLOOKUP(A26,'BASE FEDERAÇÃO'!$B:$M,2,FALSE),"") -> KOJA | C26: =IF(A26>0,VLOOKUP(A26,'BASE FEDERAÇÃO'!$B:$M,3,FALSE),"") -> MARIO | D26: =IF(A26>0,VLOOKUP(A26,'BASE FEDERAÇÃO'!$B:$M,4,FALSE),"") -> M | E26: =IF(A26>0,VLOOKUP(A26,'BASE FEDERAÇÃO'!$B:$M,5,FALSE),"") -> 11. NCC | F26: =IFERROR(VLOOKUP(E26,Base!$G:$H,2,0),"") -> NIPPON COUNTRY | G26: =IF(A26>0,VLOOKUP(A26,'BASE FEDERAÇÃO'!$B:$M,6,FALSE),"") -> 18155 | H26: =IF(A26>0,VLOOKUP(A26,'BASE FEDERAÇÃO'!$B:$M,7,FALSE),"") -> 9 | I26: =IF(A26>0,VLOOKUP(A26,'BASE FEDERAÇÃO'!$B:$M,8,FALSE),"") -> B | J26: =IF(A26="","",VLOOKUP($A26,'BASE FEDERAÇÃO'!$B:$M,9,0)) -> SR | K26: =IF(B26="","",VLOOKUP($A26,'BASE FEDERAÇÃO'!$B:$M,10,0)) | L26: =IFERROR(VLOOKUP(A26,Apuracão!A:A,1,0),"NÃO CONSTA NA APURAÇÃO") -> 781 | M26: =IFERROR(VLOOKUP(A26,GRUPOS!C:C,1,0),"SEM GRUPO") -> 781 | N26: =IF(COUNTIF(A:A,A26)>1,"REPETIDO - CORRIGIR","OK") -> OK
A27: 786 | B27: =IF(A27>0,VLOOKUP(A27,'BASE FEDERAÇÃO'!$B:$M,2,FALSE),"") -> KAMIMURA | C27: =IF(A27>0,VLOOKUP(A27,'BASE FEDERAÇÃO'!$B:$M,3,FALSE),"") -> PAULO Y. | D27: =IF(A27>0,VLOOKUP(A27,'BASE FEDERAÇÃO'!$B:$M,4,FALSE),"") -> M | E27: =IF(A27>0,VLOOKUP(A27,'BASE FEDERAÇÃO'!$B:$M,5,FALSE),"") -> 11. NCC | F27: =IFERROR(VLOOKUP(E27,Base!$G:$H,2,0),"") -> NIPPON COUNTRY | G27: =IF(A27>0,VLOOKUP(A27,'BASE FEDERAÇÃO'!$B:$M,6,FALSE),"") -> 23165 | H27: =IF(A27>0,VLOOKUP(A27,'BASE FEDERAÇÃO'!$B:$M,7,FALSE),"") -> 2 | I27: =IF(A27>0,VLOOKUP(A27,'BASE FEDERAÇÃO'!$B:$M,8,FALSE),"") -> EX | J27: =IF(A27="","",VLOOKUP($A27,'BASE FEDERAÇÃO'!$B:$M,9,0)) -> NSR | K27: =IF(B27="","",VLOOKUP($A27,'BASE FEDERAÇÃO'!$B:$M,10,0)) | L27: =IFERROR(VLOOKUP(A27,Apuracão!A:A,1,0),"NÃO CONSTA NA APURAÇÃO") -> 786 | M27: =IFERROR(VLOOKUP(A27,GRUPOS!C:C,1,0),"SEM GRUPO") -> 786 | N27: =IF(COUNTIF(A:A,A27)>1,"REPETIDO - CORRIGIR","OK") -> OK
... A40: 977 | B40: =IF(A40>0,VLOOKUP(A40,'BASE FEDERAÇÃO'!$B:$M,2,FALSE),"") -> DE ARAUJO A. GOMES | C40: =IF(A40>0,VLOOKUP(A40,'BASE FEDERAÇÃO'!$B:$M,3,FALSE),"") -> ROSIMAR | D40: =IF(A40>0,VLOOKUP(A40,'BASE FEDERAÇÃO'!$B:$M,4,FALSE),"") -> F | E40: =IF(A40>0,VLOOKUP(A40,'BASE FEDERAÇÃO'!$B:$M,5,FALSE),"") -> 11. NCC | F40: =IFERROR(VLOOKUP(E40,Base!$G:$H,2,0),"") -> NIPPON COUNTRY | G40: =IF(A40>0,VLOOKUP(A40,'BASE FEDERAÇÃO'!$B:$M,6,FALSE),"") -> 23484 | H40: =IF(A40>0,VLOOKUP(A40,'BASE FEDERAÇÃO'!$B:$M,7,FALSE),"") -> 9 | I40: =IF(A40>0,VLOOKUP(A40,'BASE FEDERAÇÃO'!$B:$M,8,FALSE),"") -> B | J40: =IF(A40="","",VLOOKUP($A40,'BASE FEDERAÇÃO'!$B:$M,9,0)) -> NSR | K40: =IF(B40="","",VLOOKUP($A40,'BASE FEDERAÇÃO'!$B:$M,10,0)) -> X | L40: =IFERROR(VLOOKUP(A40,Apuracão!A:A,1,0),"NÃO CONSTA NA APURAÇÃO") -> 977 | M40: =IFERROR(VLOOKUP(A40,GRUPOS!C:C,1,0),"SEM GRUPO") -> 977 | N40: =IF(COUNTIF(A:A,A40)>1,"REPETIDO - CORRIGIR","OK") -> OK
B41: =IF(A41>0,VLOOKUP(A41,'BASE FEDERAÇÃO'!$B:$M,2,FALSE),"") | C41: =IF(A41>0,VLOOKUP(A41,'BASE FEDERAÇÃO'!$B:$M,3,FALSE),"") | D41: =IF(A41>0,VLOOKUP(A41,'BASE FEDERAÇÃO'!$B:$M,4,FALSE),"") | E41: =IF(A41>0,VLOOKUP(A41,'BASE FEDERAÇÃO'!$B:$M,5,FALSE),"") | F41: =IFERROR(VLOOKUP(E41,Base!$G:$H,2,0),"") | G41: =IF(A41>0,VLOOKUP(A41,'BASE FEDERAÇÃO'!$B:$M,6,FALSE),"") | H41: =IF(A41>0,VLOOKUP(A41,'BASE FEDERAÇÃO'!$B:$M,7,FALSE),"") | I41: =IF(A41>0,VLOOKUP(A41,'BASE FEDERAÇÃO'!$B:$M,8,FALSE),"") | J41: =IF(A41="","",VLOOKUP($A41,'BASE FEDERAÇÃO'!$B:$M,9,0)) | K41: =IF(B41="","",VLOOKUP($A41,'BASE FEDERAÇÃO'!$B:$M,10,0)) | L41: =IFERROR(VLOOKUP(A41,Apuracão!A:A,1,0),"NÃO CONSTA NA APURAÇÃO") -> NÃO CONSTA NA APURAÇÃO | M41: =IFERROR(VLOOKUP(A41,GRUPOS!C:C,1,0),"SEM GRUPO") -> SEM GRUPO | N41: =IF(COUNTIF(A:A,A41)>1,"REPETIDO - CORRIGIR","OK") -> OK
A42: 152 | B42: =IF(A42>0,VLOOKUP(A42,'BASE FEDERAÇÃO'!$B:$M,2,FALSE),"") -> SHIRAHATA | C42: =IF(A42>0,VLOOKUP(A42,'BASE FEDERAÇÃO'!$B:$M,3,FALSE),"") -> MAKOTO | D42: =IF(A42>0,VLOOKUP(A42,'BASE FEDERAÇÃO'!$B:$M,4,FALSE),"") -> M | E42: =IF(A42>0,VLOOKUP(A42,'BASE FEDERAÇÃO'!$B:$M,5,FALSE),"") -> 06. KOK | F42: =IFERROR(VLOOKUP(E42,Base!$G:$H,2,0),"") -> KOKUSHIKAN | G42: =IF(A42>0,VLOOKUP(A42,'BASE FEDERAÇÃO'!$B:$M,6,FALSE),"") -> 13189 | H42: =IF(A42>0,VLOOKUP(A42,'BASE FEDERAÇÃO'!$B:$M,7,FALSE),"") -> 9 | I42: =IF(A42>0,VLOOKUP(A42,'BASE FEDERAÇÃO'!$B:$M,8,FALSE),"") -> B | J42: =IF(A42="","",VLOOKUP($A42,'BASE FEDERAÇÃO'!$B:$M,9,0)) -> MR | K42: =IF(B42="","",VLOOKUP($A42,'BASE FEDERAÇÃO'!$B:$M,10,0)) | L42: =IFERROR(VLOOKUP(A42,Apuracão!A:A,1,0),"NÃO CONSTA NA APURAÇÃO") -> 152 | M42: =IFERROR(VLOOKUP(A42,GRUPOS!C:C,1,0),"SEM GRUPO") -> 152 | N42: =IF(COUNTIF(A:A,A42)>1,"REPETIDO - CORRIGIR","OK") -> OK
A43: 167 | B43: =IF(A43>0,VLOOKUP(A43,'BASE FEDERAÇÃO'!$B:$M,2,FALSE),"") -> NOZAWA | C43: =IF(A43>0,VLOOKUP(A43,'BASE FEDERAÇÃO'!$B:$M,3,FALSE),"") -> YURIKO | D43: =IF(A43>0,VLOOKUP(A43,'BASE FEDERAÇÃO'!$B:$M,4,FALSE),"") -> F | E43: =IF(A43>0,VLOOKUP(A43,'BASE FEDERAÇÃO'!$B:$M,5,FALSE),"") -> 06. KOK | F43: =IFERROR(VLOOKUP(E43,Base!$G:$H,2,0),"") -> KOKUSHIKAN | G43: =IF(A43>0,VLOOKUP(A43,'BASE FEDERAÇÃO'!$B:$M,6,FALSE),"") -> 13844 | H43: =IF(A43>0,VLOOKUP(A43,'BASE FEDERAÇÃO'!$B:$M,7,FALSE),"") -> 12 | I43: =IF(A43>0,VLOOKUP(A43,'BASE FEDERAÇÃO'!$B:$M,8,FALSE),"") -> C | J43: =IF(A43="","",VLOOKUP($A43,'BASE FEDERAÇÃO'!$B:$M,9,0)) -> MR | K43: =IF(B43="","",VLOOKUP($A43,'BASE FEDERAÇÃO'!$B:$M,10,0)) | L43: =IFERROR(VLOOKUP(A43,Apuracão!A:A,1,0),"NÃO CONSTA NA APURAÇÃO") -> 167 | M43: =IFERROR(VLOOKUP(A43,GRUPOS!C:C,1,0),"SEM GRUPO") -> 167 | N43: =IF(COUNTIF(A:A,A43)>1,"REPETIDO - CORRIGIR","OK") -> OK
A44: 169 | B44: =IF(A44>0,VLOOKUP(A44,'BASE FEDERAÇÃO'!$B:$M,2,FALSE),"") -> SILVA | C44: =IF(A44>0,VLOOKUP(A44,'BASE FEDERAÇÃO'!$B:$M,3,FALSE),"") -> MANOEL | D44: =IF(A44>0,VLOOKUP(A44,'BASE FEDERAÇÃO'!$B:$M,4,FALSE),"") -> M | E44: =IF(A44>0,VLOOKUP(A44,'BASE FEDERAÇÃO'!$B:$M,5,FALSE),"") -> 06. KOK | F44: =IFERROR(VLOOKUP(E44,Base!$G:$H,2,0),"") -> KOKUSHIKAN | G44: =IF(A44>0,VLOOKUP(A44,'BASE FEDERAÇÃO'!$B:$M,6,FALSE),"") -> 20205 | H44: =IF(A44>0,VLOOKUP(A44,'BASE FEDERAÇÃO'!$B:$M,7,FALSE),"") -> 9 | I44: =IF(A44>0,VLOOKUP(A44,'BASE FEDERAÇÃO'!$B:$M,8,FALSE),"") -> B | J44: =IF(A44="","",VLOOKUP($A44,'BASE FEDERAÇÃO'!$B:$M,9,0)) -> NSR | K44: =IF(B44="","",VLOOKUP($A44,'BASE FEDERAÇÃO'!$B:$M,10,0)) | L44: =IFERROR(VLOOKUP(A44,Apuracão!A:A,1,0),"NÃO CONSTA NA APURAÇÃO") -> 169 | M44: =IFERROR(VLOOKUP(A44,GRUPOS!C:C,1,0),"SEM GRUPO") -> 169 | N44: =IF(COUNTIF(A:A,A44)>1,"REPETIDO - CORRIGIR","OK") -> OK
A45: 176 | B45: =IF(A45>0,VLOOKUP(A45,'BASE FEDERAÇÃO'!$B:$M,2,FALSE),"") -> SHAKUDA | C45: =IF(A45>0,VLOOKUP(A45,'BASE FEDERAÇÃO'!$B:$M,3,FALSE),"") -> MIYOKO | D45: =IF(A45>0,VLOOKUP(A45,'BASE FEDERAÇÃO'!$B:$M,4,FALSE),"") -> F | E45: =IF(A45>0,VLOOKUP(A45,'BASE FEDERAÇÃO'!$B:$M,5,FALSE),"") -> 06. KOK | F45: =IFERROR(VLOOKUP(E45,Base!$G:$H,2,0),"") -> KOKUSHIKAN | G45: =IF(A45>0,VLOOKUP(A45,'BASE FEDERAÇÃO'!$B:$M,6,FALSE),"") -> 15849 | H45: =IF(A45>0,VLOOKUP(A45,'BASE FEDERAÇÃO'!$B:$M,7,FALSE),"") -> 12 | I45: =IF(A45>0,VLOOKUP(A45,'BASE FEDERAÇÃO'!$B:$M,8,FALSE),"") -> C | J45: =IF(A45="","",VLOOKUP($A45,'BASE FEDERAÇÃO'!$B:$M,9,0)) -> SR | K45: =IF(B45="","",VLOOKUP($A45,'BASE FEDERAÇÃO'!$B:$M,10,0)) | L45: =IFERROR(VLOOKUP(A45,Apuracão!A:A,1,0),"NÃO CONSTA NA APURAÇÃO") -> 176 | M45: =IFERROR(VLOOKUP(A45,GRUPOS!C:C,1,0),"SEM GRUPO") -> 176 | N45: =IF(COUNTIF(A:A,A45)>1,"REPETIDO - CORRIGIR","OK") -> OK
A46: 270 | B46: =IF(A46>0,VLOOKUP(A46,'BASE FEDERAÇÃO'!$B:$M,2,FALSE),"") -> NOZAWA | C46: =IF(A46>0,VLOOKUP(A46,'BASE FEDERAÇÃO'!$B:$M,3,FALSE),"") -> ASSAMI | D46: =IF(A46>0,VLOOKUP(A46,'BASE FEDERAÇÃO'!$B:$M,4,FALSE),"") -> F | E46: =IF(A46>0,VLOOKUP(A46,'BASE FEDERAÇÃO'!$B:$M,5,FALSE),"") -> 06. KOK | F46: =IFERROR(VLOOKUP(E46,Base!$G:$H,2,0),"") -> KOKUSHIKAN | G46: =IF(A46>0,VLOOKUP(A46,'BASE FEDERAÇÃO'!$B:$M,6,FALSE),"") -> 23351 | H46: =IF(A46>0,VLOOKUP(A46,'BASE FEDERAÇÃO'!$B:$M,7,FALSE),"") -> 12 | I46: =IF(A46>0,VLOOKUP(A46,'BASE FEDERAÇÃO'!$B:$M,8,FALSE),"") -> C | J46: =IF(A46="","",VLOOKUP($A46,'BASE FEDERAÇÃO'!$B:$M,9,0)) -> NSR | K46: =IF(B46="","",VLOOKUP($A46,'BASE FEDERAÇÃO'!$B:$M,10,0)) | L46: =IFERROR(VLOOKUP(A46,Apuracão!A:A,1,0),"NÃO CONSTA NA APURAÇÃO") -> 270 | M46: =IFERROR(VLOOKUP(A46,GRUPOS!C:C,1,0),"SEM GRUPO") -> 270 | N46: =IF(COUNTIF(A:A,A46)>1,"REPETIDO - CORRIGIR","OK") -> OK
A47: 273 | B47: =IF(A47>0,VLOOKUP(A47,'BASE FEDERAÇÃO'!$B:$M,2,FALSE),"") -> SHAKUDA | C47: =IF(A47>0,VLOOKUP(A47,'BASE FEDERAÇÃO'!$B:$M,3,FALSE),"") -> TADASHI | D47: =IF(A47>0,VLOOKUP(A47,'BASE FEDERAÇÃO'!$B:$M,4,FALSE),"") -> M | E47: =IF(A47>0,VLOOKUP(A47,'BASE FEDERAÇÃO'!$B:$M,5,FALSE),"") -> 06. KOK | F47: =IFERROR(VLOOKUP(E47,Base!$G:$H,2,0),"") -> KOKUSHIKAN | G47: =IF(A47>0,VLOOKUP(A47,'BASE FEDERAÇÃO'!$B:$M,6,FALSE),"") -> 15013 | H47: =IF(A47>0,VLOOKUP(A47,'BASE FEDERAÇÃO'!$B:$M,7,FALSE),"") -> 7 | I47: =IF(A47>0,VLOOKUP(A47,'BASE FEDERAÇÃO'!$B:$M,8,FALSE),"") -> B | J47: =IF(A47="","",VLOOKUP($A47,'BASE FEDERAÇÃO'!$B:$M,9,0)) -> MR | K47: =IF(B47="","",VLOOKUP($A47,'BASE FEDERAÇÃO'!$B:$M,10,0)) -> X | L47: =IFERROR(VLOOKUP(A47,Apuracão!A:A,1,0),"NÃO CONSTA NA APURAÇÃO") -> 273 | M47: =IFERROR(VLOOKUP(A47,GRUPOS!C:C,1,0),"SEM GRUPO") -> 273 | N47: =IF(COUNTIF(A:A,A47)>1,"REPETIDO - CORRIGIR","OK") -> OK
A48: 342 | B48: =IF(A48>0,VLOOKUP(A48,'BASE FEDERAÇÃO'!$B:$M,2,FALSE),"") -> TOBIMATSU | C48: =IF(A48>0,VLOOKUP(A48,'BASE FEDERAÇÃO'!$B:$M,3,FALSE),"") -> SHINYA | D48: =IF(A48>0,VLOOKUP(A48,'BASE FEDERAÇÃO'!$B:$M,4,FALSE),"") -> M | E48: =IF(A48>0,VLOOKUP(A48,'BASE FEDERAÇÃO'!$B:$M,5,FALSE),"") -> 06. KOK | F48: =IFERROR(VLOOKUP(E48,Base!$G:$H,2,0),"") -> KOKUSHIKAN | G48: =IF(A48>0,VLOOKUP(A48,'BASE FEDERAÇÃO'!$B:$M,6,FALSE),"") -> 17774 | H48: =IF(A48>0,VLOOKUP(A48,'BASE FEDERAÇÃO'!$B:$M,7,FALSE),"") -> 1 | I48: =IF(A48>0,VLOOKUP(A48,'BASE FEDERAÇÃO'!$B:$M,8,FALSE),"") -> EX | J48: =IF(A48="","",VLOOKUP($A48,'BASE FEDERAÇÃO'!$B:$M,9,0)) -> SR | K48: =IF(B48="","",VLOOKUP($A48,'BASE FEDERAÇÃO'!$B:$M,10,0)) | L48: =IFERROR(VLOOKUP(A48,Apuracão!A:A,1,0),"NÃO CONSTA NA APURAÇÃO") -> 342 | M48: =IFERROR(VLOOKUP(A48,GRUPOS!C:C,1,0),"SEM GRUPO") -> 342 | N48: =IF(COUNTIF(A:A,A48)>1,"REPETIDO - CORRIGIR","OK") -> OK
A49: 406 | B49: =IF(A49>0,VLOOKUP(A49,'BASE FEDERAÇÃO'!$B:$M,2,FALSE),"") -> VALERO ARIAS | C49: =IF(A49>0,VLOOKUP(A49,'BASE FEDERAÇÃO'!$B:$M,3,FALSE),"") -> CARMEN | D49: =IF(A49>0,VLOOKUP(A49,'BASE FEDERAÇÃO'!$B:$M,4,FALSE),"") -> F | E49: =IF(A49>0,VLOOKUP(A49,'BASE FEDERAÇÃO'!$B:$M,5,FALSE),"") -> 06. KOK | F49: =IFERROR(VLOOKUP(E49,Base!$G:$H,2,0),"") -> KOKUSHIKAN | G49: =IF(A49>0,VLOOKUP(A49,'BASE FEDERAÇÃO'!$B:$M,6,FALSE),"") -> 21451 | H49: =IF(A49>0,VLOOKUP(A49,'BASE FEDERAÇÃO'!$B:$M,7,FALSE),"") -> 12 | I49: =IF(A49>0,VLOOKUP(A49,'BASE FEDERAÇÃO'!$B:$M,8,FALSE),"") -> C | J49: =IF(A49="","",VLOOKUP($A49,'BASE FEDERAÇÃO'!$B:$M,9,0)) -> NSR | K49: =IF(B49="","",VLOOKUP($A49,'BASE FEDERAÇÃO'!$B:$M,10,0)) -> #DIV/0! | L49: =IFERROR(VLOOKUP(A49,Apuracão!A:A,1,0),"NÃO CONSTA NA APURAÇÃO") -> 406 | M49: =IFERROR(VLOOKUP(A49,GRUPOS!C:C,1,0),"SEM GRUPO") -> 406 | N49: =IF(COUNTIF(A:A,A49)>1,"REPETIDO - CORRIGIR","OK") -> OK
A50: 463 | B50: =IF(A50>0,VLOOKUP(A50,'BASE FEDERAÇÃO'!$B:$M,2,FALSE),"") -> ISHII | C50: =IF(A50>0,VLOOKUP(A50,'BASE FEDERAÇÃO'!$B:$M,3,FALSE),"") -> HISANOBU | D50: =IF(A50>0,VLOOKUP(A50,'BASE FEDERAÇÃO'!$B:$M,4,FALSE),"") -> M | E50: =IF(A50>0,VLOOKUP(A50,'BASE FEDERAÇÃO'!$B:$M,5,FALSE),"") -> 06. KOK | F50: =IFERROR(VLOOKUP(E50,Base!$G:$H,2,0),"") -> KOKUSHIKAN | G50: =IF(A50>0,VLOOKUP(A50,'BASE FEDERAÇÃO'!$B:$M,6,FALSE),"") -> 14088 | H50: =IF(A50>0,VLOOKUP(A50,'BASE FEDERAÇÃO'!$B:$M,7,FALSE),"") -> 9 | I50: =IF(A50>0,VLOOKUP(A50,'BASE FEDERAÇÃO'!$B:$M,8,FALSE),"") -> B | J50: =IF(A50="","",VLOOKUP($A50,'BASE FEDERAÇÃO'!$B:$M,9,0)) -> MR | K50: =IF(B50="","",VLOOKUP($A50,'BASE FEDERAÇÃO'!$B:$M,10,0)) | L50: =IFERROR(VLOOKUP(A50,Apuracão!A:A,1,0),"NÃO CONSTA NA APURAÇÃO") -> 463 | M50: =IFERROR(VLOOKUP(A50,GRUPOS!C:C,1,0),"SEM GRUPO") -> 463 | N50: =IF(COUNTIF(A:A,A50)>1,"REPETIDO - CORRIGIR","OK") -> OK
A51: 512 | B51: =IF(A51>0,VLOOKUP(A51,'BASE FEDERAÇÃO'!$B:$M,2,FALSE),"") -> MATSUMURA | C51: =IF(A51>0,VLOOKUP(A51,'BASE FEDERAÇÃO'!$B:$M,3,FALSE),"") -> TERUAKI | D51: =IF(A51>0,VLOOKUP(A51,'BASE FEDERAÇÃO'!$B:$M,4,FALSE),"") -> M | E51: =IF(A51>0,VLOOKUP(A51,'BASE FEDERAÇÃO'!$B:$M,5,FALSE),"") -> 06. KOK | F51: =IFERROR(VLOOKUP(E51,Base!$G:$H,2,0),"") -> KOKUSHIKAN | G51: =IF(A51>0,VLOOKUP(A51,'BASE FEDERAÇÃO'!$B:$M,6,FALSE),"") -> 15766 | H51: =IF(A51>0,VLOOKUP(A51,'BASE FEDERAÇÃO'!$B:$M,7,FALSE),"") -> 9 | I51: =IF(A51>0,VLOOKUP(A51,'BASE FEDERAÇÃO'!$B:$M,8,FALSE),"") -> B | J51: =IF(A51="","",VLOOKUP($A51,'BASE FEDERAÇÃO'!$B:$M,9,0)) -> SR | K51: =IF(B51="","",VLOOKUP($A51,'BASE FEDERAÇÃO'!$B:$M,10,0)) | L51: =IFERROR(VLOOKUP(A51,Apuracão!A:A,1,0),"NÃO CONSTA NA APURAÇÃO") -> 512 | M51: =IFERROR(VLOOKUP(A51,GRUPOS!C:C,1,0),"SEM GRUPO") -> 512 | N51: =IF(COUNTIF(A:A,A51)>1,"REPETIDO - CORRIGIR","OK") -> OK
A52: 605 | B52: =IF(A52>0,VLOOKUP(A52,'BASE FEDERAÇÃO'!$B:$M,2,FALSE),"") -> ABE | C52: =IF(A52>0,VLOOKUP(A52,'BASE FEDERAÇÃO'!$B:$M,3,FALSE),"") -> TETSUO | D52: =IF(A52>0,VLOOKUP(A52,'BASE FEDERAÇÃO'!$B:$M,4,FALSE),"") -> M | E52: =IF(A52>0,VLOOKUP(A52,'BASE FEDERAÇÃO'!$B:$M,5,FALSE),"") -> 06. KOK | F52: =IFERROR(VLOOKUP(E52,Base!$G:$H,2,0),"") -> KOKUSHIKAN | G52: =IF(A52>0,VLOOKUP(A52,'BASE FEDERAÇÃO'!$B:$M,6,FALSE),"") -> 12082 | H52: =IF(A52>0,VLOOKUP(A52,'BASE FEDERAÇÃO'!$B:$M,7,FALSE),"") -> 8 | I52: =IF(A52>0,VLOOKUP(A52,'BASE FEDERAÇÃO'!$B:$M,8,FALSE),"") -> B | J52: =IF(A52="","",VLOOKUP($A52,'BASE FEDERAÇÃO'!$B:$M,9,0)) -> MR | K52: =IF(B52="","",VLOOKUP($A52,'BASE FEDERAÇÃO'!$B:$M,10,0)) | L52: =IFERROR(VLOOKUP(A52,Apuracão!A:A,1,0),"NÃO CONSTA NA APURAÇÃO") -> 605 | M52: =IFERROR(VLOOKUP(A52,GRUPOS!C:C,1,0),"SEM GRUPO") -> 605 | N52: =IF(COUNTIF(A:A,A52)>1,"REPETIDO - CORRIGIR","OK") -> OK
...

Sheet GRUPOS
C2: RELAÇÃO DE PARTICIPANTES POR GRUPO | S2: =IF(S4="",S3+1,IF(F5<>"",S4+1,"")) -> 2 | T2: Número maior que 1 = duplicado | AC2: SORTEADOR DE GRUPOS
A3: PARA FICHA | C3: CÓDIGO | D3: GRUPO | E3: CAMPO | F3: PISTA INÍCIO | G3: SOBRENOME | H3: NOME | I3: GÊNERO | J3: CÓDIGO ENT. | K3: ENTIDADE | L3: NASCIMENTO | M3: HC | N3: CATEGORIA | O3: SÊNIOR | P3: LIBERADO | S3: Chave | U3: PARA FICHA | AC3: CÓDIGO | AD3: JÁ CONSIDERADO? | AE3: CIDADE | AF3: {=INDIRECT("AC"&RANDBETWEEN(4,(4-1+COUNTA(AC4:AC125))))} -> 884 | AG3: =VLOOKUP(AF3,INCRIÇÕES!A:F,6,0) -> COOPER COTIA | AH3: =VLOOKUP(AF3,INCRIÇÕES!A:I,9,0) -> B | AI3: *CLICAR F9 PARA SORTEAR UM NOVO NÚMERO
A4: =S4 -> 1 | C4: 878 | D4: 01 | E4: 01 | F4: 01 | G4: =IF(C4>0,VLOOKUP(C4,'BASE FEDERAÇÃO'!$B:$M,2,FALSE),"") -> TANIGUTI | H4: =IF(C4>0,VLOOKUP(C4,'BASE FEDERAÇÃO'!$B:$M,3,FALSE),"") -> PAULO HIDEAKI | I4: =IF($C4>0,VLOOKUP($C4,'BASE FEDERAÇÃO'!$B:$M,4,FALSE),"") -> M | J4: =IF($C4>0,VLOOKUP($C4,'BASE FEDERAÇÃO'!$B:$M,5,FALSE),"") -> 16. SUM | K4: =IFERROR(VLOOKUP(J4,Base!$G:$H,2,0),"") -> SUMARÉ | L4: =IF($C4>0,VLOOKUP($C4,'BASE FEDERAÇÃO'!$B:$M,6,FALSE),"") -> 19749 | M4: =IF($C4>0,VLOOKUP($C4,'BASE FEDERAÇÃO'!$B:$M,7,FALSE),"") -> 1 | N4: =IF($C4>0,VLOOKUP($C4,'BASE FEDERAÇÃO'!$B:$M,8,FALSE),"") -> EX | O4: =IF($C4="","",VLOOKUP($C4,'BASE FEDERAÇÃO'!$B:$M,9,0)) -> NSR | P4: =IF($C4>0,VLOOKUP($C4,INCRIÇÕES!$A:$K,11,0),"") | R4: =IF(ISERROR(VLOOKUP(C4,INCRIÇÕES!A:A,1,0)),"NÃO TEM INSCRIÇÃO","OK") -> OK | S4: 1 | T4: =IF(COUNTIF(C:C,C4)>1,"REPETIDO","OK") -> OK | U4: =CONCATENATE(D4&A4) -> 011 | AC4: 176 | AD4: =IF(ISERROR(VLOOKUP(AC4,C:C,1,0)),"SEM GRUPO","JÁ TEM GRUPO") -> JÁ TEM GRUPO | AE4: =VLOOKUP(AC4,INCRIÇÕES!A:F,6,0) -> KOKUSHIKAN
A5: =S5 -> 2 | C5: 578 | D5: =D4 -> 01 | E5: =E4 -> 01 | F5: =F4 -> 01 | G5: =IF(C5>0,VLOOKUP(C5,'BASE FEDERAÇÃO'!$B:$M,2,FALSE),"") -> TAKAHASHI | H5: =IF(C5>0,VLOOKUP(C5,'BASE FEDERAÇÃO'!$B:$M,3,FALSE),"") -> EDSON SHOJI | I5: =IF($C5>0,VLOOKUP($C5,'BASE FEDERAÇÃO'!$B:$M,4,FALSE),"") -> M | J5: =IF($C5>0,VLOOKUP($C5,'BASE FEDERAÇÃO'!$B:$M,5,FALSE),"") -> 18. SOR | K5: =IFERROR(VLOOKUP(J5,Base!$G:$H,2,0),"") -> SOROCABA | L5: =IF($C5>0,VLOOKUP($C5,'BASE FEDERAÇÃO'!$B:$M,6,FALSE),"") -> 27163 | M5: =IF($C5>0,VLOOKUP($C5,'BASE FEDERAÇÃO'!$B:$M,7,FALSE),"") -> 2 | N5: =IF($C5>0,VLOOKUP($C5,'BASE FEDERAÇÃO'!$B:$M,8,FALSE),"") -> EX | O5: =IF($C5="","",VLOOKUP($C5,'BASE FEDERAÇÃO'!$B:$M,9,0)) -> NSR | P5: =IF($C5>0,VLOOKUP($C5,INCRIÇÕES!$A:$K,11,0),"") | R5: =IF(ISERROR(VLOOKUP(C5,INCRIÇÕES!A:A,1,0)),"NÃO TEM INSCRIÇÃO","OK") -> OK | S5: =IF(S4="",S3+1,IF(F5<>"",S4+1,"")) -> 2 | T5: =IF(COUNTIF(C:C,C5)>1,"REPETIDO","OK") -> OK | U5: =CONCATENATE(D5&A5) -> 012 | AC5: 463 | AD5: =IF(ISERROR(VLOOKUP(AC5,C:C,1,0)),"SEM GRUPO","JÁ TEM GRUPO") -> JÁ TEM GRUPO | AE5: =VLOOKUP(AC5,INCRIÇÕES!A:F,6,0) -> KOKUSHIKAN
A6: =S6 -> 3 | C6: 637 | D6: =D5 -> 01 | E6: =E5 -> 01 | F6: =F5 -> 01 | G6: =IF(C6>0,VLOOKUP(C6,'BASE FEDERAÇÃO'!$B:$M,2,FALSE),"") -> RIBEIRO DE SOUZA | H6: =IF(C6>0,VLOOKUP(C6,'BASE FEDERAÇÃO'!$B:$M,3,FALSE),"") -> TANIA DE FATIMA | I6: =IF($C6>0,VLOOKUP($C6,'BASE FEDERAÇÃO'!$B:$M,4,FALSE),"") -> F | J6: =IF($C6>0,VLOOKUP($C6,'BASE FEDERAÇÃO'!$B:$M,5,FALSE),"") -> 11. NCC | K6: =IFERROR(VLOOKUP(J6,Base!$G:$H,2,0),"") -> NIPPON COUNTRY | L6: =IF($C6>0,VLOOKUP($C6,'BASE FEDERAÇÃO'!$B:$M,6,FALSE),"") -> 23251 | M6: =IF($C6>0,VLOOKUP($C6,'BASE FEDERAÇÃO'!$B:$M,7,FALSE),"") -> 3 | N6: =IF($C6>0,VLOOKUP($C6,'BASE FEDERAÇÃO'!$B:$M,8,FALSE),"") -> EX | O6: =IF($C6="","",VLOOKUP($C6,'BASE FEDERAÇÃO'!$B:$M,9,0)) -> NSR | P6: =IF($C6>0,VLOOKUP($C6,INCRIÇÕES!$A:$K,11,0),"") -> X | R6: =IF(ISERROR(VLOOKUP(C6,INCRIÇÕES!A:A,1,0)),"NÃO TEM INSCRIÇÃO","OK") -> OK | S6: =IF(S5="",S4+1,IF(F6<>"",S5+1,"")) -> 3 | T6: =IF(COUNTIF(C:C,C6)>1,"REPETIDO","OK") -> OK | U6: =CONCATENATE(D6&A6) -> 013 | AC6: 607 | AD6: =IF(ISERROR(VLOOKUP(AC6,C:C,1,0)),"SEM GRUPO","JÁ TEM GRUPO") -> JÁ TEM GRUPO | AE6: =VLOOKUP(AC6,INCRIÇÕES!A:F,6,0) -> KOKUSHIKAN
A7: =S7 -> 4 | C7: 030 | D7: =D6 -> 01 | E7: =E6 -> 01 | F7: =F6 -> 01 | G7: =IF(C7>0,VLOOKUP(C7,'BASE FEDERAÇÃO'!$B:$M,2,FALSE),"") -> FUGIKAWA | H7: =IF(C7>0,VLOOKUP(C7,'BASE FEDERAÇÃO'!$B:$M,3,FALSE),"") -> WATARU | I7: =IF($C7>0,VLOOKUP($C7,'BASE FEDERAÇÃO'!$B:$M,4,FALSE),"") -> M | J7: =IF($C7>0,VLOOKUP($C7,'BASE FEDERAÇÃO'!$B:$M,5,FALSE),"") -> 08. SMA | K7: =IFERROR(VLOOKUP(J7,Base!$G:$H,2,0),"") -> SÃO M. ARCANJO | L7: =IF($C7>0,VLOOKUP($C7,'BASE FEDERAÇÃO'!$B:$M,6,FALSE),"") -> 15177 | M7: =IF($C7>0,VLOOKUP($C7,'BASE FEDERAÇÃO'!$B:$M,7,FALSE),"") -> 5 | N7: =IF($C7>0,VLOOKUP($C7,'BASE FEDERAÇÃO'!$B:$M,8,FALSE),"") -> A | O7: =IF($C7="","",VLOOKUP($C7,'BASE FEDERAÇÃO'!$B:$M,9,0)) -> MR | P7: =IF($C7>0,VLOOKUP($C7,INCRIÇÕES!$A:$K,11,0),"") -> X | R7: =IF(ISERROR(VLOOKUP(C7,INCRIÇÕES!A:A,1,0)),"NÃO TEM INSCRIÇÃO","OK") -> OK | S7: =IF(S6="",S5+1,IF(F7<>"",S6+1,"")) -> 4 | T7: =IF(COUNTIF(C:C,C7)>1,"REPETIDO","OK") -> OK | U7: =CONCATENATE(D7&A7) -> 014 | AC7: 706 | AD7: =IF(ISERROR(VLOOKUP(AC7,C:C,1,0)),"SEM GRUPO","JÁ TEM GRUPO") -> JÁ TEM GRUPO | AE7: =VLOOKUP(AC7,INCRIÇÕES!A:F,6,0) -> KOKUSHIKAN
A8: =S8 | G8: =IF(C8>0,VLOOKUP(C8,'BASE FEDERAÇÃO'!$B:$M,2,FALSE),"") | H8: =IF(C8>0,VLOOKUP(C8,'BASE FEDERAÇÃO'!$B:$M,3,FALSE),"") | I8: =IF($C8>0,VLOOKUP($C8,'BASE FEDERAÇÃO'!$B:$M,4,FALSE),"") | J8: =IF($C8>0,VLOOKUP($C8,'BASE FEDERAÇÃO'!$B:$M,5,FALSE),"") | K8: =IFERROR(VLOOKUP(J8,Base!$G:$H,2,0),"") | L8: =IF($C8>0,VLOOKUP($C8,'BASE FEDERAÇÃO'!$B:$M,6,FALSE),"") | M8: =IF($C8>0,VLOOKUP($C8,'BASE FEDERAÇÃO'!$B:$M,7,FALSE),"") | N8: =IF($C8>0,VLOOKUP($C8,'BASE FEDERAÇÃO'!$B:$M,8,FALSE),"") | O8: =IF($C8="","",VLOOKUP($C8,'BASE FEDERAÇÃO'!$B:$M,9,0)) | P8: =IF($C8>0,VLOOKUP($C8,INCRIÇÕES!$A:$K,11,0),"") | R8: =IF(ISERROR(VLOOKUP(C8,INCRIÇÕES!A:A,1,0)),"NÃO TEM INSCRIÇÃO","OK") -> NÃO TEM INSCRIÇÃO | S8: =IF(S7="",S6+1,IF(F8<>"",S7+1,"")) | T8: =IF(COUNTIF(C:C,C8)>1,"REPETIDO","OK") -> OK | U8: =CONCATENATE(D8&A8) | AC8: 941 | AD8: =IF(ISERROR(VLOOKUP(AC8,C:C,1,0)),"SEM GRUPO","JÁ TEM GRUPO") -> JÁ TEM GRUPO | AE8: =VLOOKUP(AC8,INCRIÇÕES!A:F,6,0) -> KOKUSHIKAN
A9: =S9 -> 5 | C9: 296 | D9: 02 | E9: 01 | F9: 02 | G9: =IF(C9>0,VLOOKUP(C9,'BASE FEDERAÇÃO'!$B:$M,2,FALSE),"") -> UTSUNOMIYA | H9: =IF(C9>0,VLOOKUP(C9,'BASE FEDERAÇÃO'!$B:$M,3,FALSE),"") -> YUKIO | I9: =IF($C9>0,VLOOKUP($C9,'BASE FEDERAÇÃO'!$B:$M,4,FALSE),"") -> M | J9: =IF($C9>0,VLOOKUP($C9,'BASE FEDERAÇÃO'!$B:$M,5,FALSE),"") -> 11. NCC | K9: =IFERROR(VLOOKUP(J9,Base!$G:$H,2,0),"") -> NIPPON COUNTRY | L9: =IF($C9>0,VLOOKUP($C9,'BASE FEDERAÇÃO'!$B:$M,6,FALSE),"") -> 18980 | M9: =IF($C9>0,VLOOKUP($C9,'BASE FEDERAÇÃO'!$B:$M,7,FALSE),"") -> 9 | N9: =IF($C9>0,VLOOKUP($C9,'BASE FEDERAÇÃO'!$B:$M,8,FALSE),"") -> B | O9: =IF($C9="","",VLOOKUP($C9,'BASE FEDERAÇÃO'!$B:$M,9,0)) -> SR | P9: =IF($C9>0,VLOOKUP($C9,INCRIÇÕES!$A:$K,11,0),"") | R9: =IF(ISERROR(VLOOKUP(C9,INCRIÇÕES!A:A,1,0)),"NÃO TEM INSCRIÇÃO","OK") -> OK | S9: =IF(S8="",S7+1,IF(F9<>"",S8+1,"")) -> 5 | T9: =IF(COUNTIF(C:C,C9)>1,"REPETIDO","OK") -> OK | U9: =CONCATENATE(D9&A9) -> 025 | AC9: 782 | AD9: =IF(ISERROR(VLOOKUP(AC9,C:C,1,0)),"SEM GRUPO","JÁ TEM GRUPO") -> JÁ TEM GRUPO | AE9: =VLOOKUP(AC9,INCRIÇÕES!A:F,6,0) -> IBIÚNA
A10: =S10 -> 6 | C10: 604 | D10: =D9 -> 02 | E10: =E9 -> 01 | F10: =F9 -> 02 | G10: =IF(C10>0,VLOOKUP(C10,'BASE FEDERAÇÃO'!$B:$M,2,FALSE),"") -> P. DA S. DE OLIVEIRA | H10: =IF(C10>0,VLOOKUP(C10,'BASE FEDERAÇÃO'!$B:$M,3,FALSE),"") -> MARIA APARECIDA | I10: =IF($C10>0,VLOOKUP($C10,'BASE FEDERAÇÃO'!$B:$M,4,FALSE),"") -> F | J10: =IF($C10>0,VLOOKUP($C10,'BASE FEDERAÇÃO'!$B:$M,5,FALSE),"") -> 18. SOR | K10: =IFERROR(VLOOKUP(J10,Base!$G:$H,2,0),"") -> SOROCABA | L10: =IF($C10>0,VLOOKUP($C10,'BASE FEDERAÇÃO'!$B:$M,6,FALSE),"") -> 22044 | M10: =IF($C10>0,VLOOKUP($C10,'BASE FEDERAÇÃO'!$B:$M,7,FALSE),"") -> 9 | N10: =IF($C10>0,VLOOKUP($C10,'BASE FEDERAÇÃO'!$B:$M,8,FALSE),"") -> B | O10: =IF($C10="","",VLOOKUP($C10,'BASE FEDERAÇÃO'!$B:$M,9,0)) -> NSR | P10: =IF($C10>0,VLOOKUP($C10,INCRIÇÕES!$A:$K,11,0),"") | R10: =IF(ISERROR(VLOOKUP(C10,INCRIÇÕES!A:A,1,0)),"NÃO TEM INSCRIÇÃO","OK") -> OK | S10: =IF(S9="",S8+1,IF(F10<>"",S9+1,"")) -> 6 | T10: =IF(COUNTIF(C:C,C10)>1,"REPETIDO","OK") -> OK | U10: =CONCATENATE(D10&A10) -> 026 | AC10: 012 | AD10: =IF(ISERROR(VLOOKUP(AC10,C:C,1,0)),"SEM GRUPO","JÁ TEM GRUPO") -> JÁ TEM GRUPO | AE10: =VLOOKUP(AC10,INCRIÇÕES!A:F,6,0) -> IBIÚNA
A11: =S11 -> 7 | C11: 782 | D11: =D10 -> 02 | E11: =E10 -> 01 | F11: =F10 -> 02 | G11: =IF(C11>0,VLOOKUP(C11,'BASE FEDERAÇÃO'!$B:$M,2,FALSE),"") -> MATSUMOTO | H11: =IF(C11>0,VLOOKUP(C11,'BASE FEDERAÇÃO'!$B:$M,3,FALSE),"") -> KAZUKO | I11: =IF($C11>0,VLOOKUP($C11,'BASE FEDERAÇÃO'!$B:$M,4,FALSE),"") -> F | J11: =IF($C11>0,VLOOKUP($C11,'BASE FEDERAÇÃO'!$B:$M,5,FALSE),"") -> 03. IBI | K11: =IFERROR(VLOOKUP(J11,Base!$G:$H,2,0),"") -> IBIÚNA | L11: =IF($C11>0,VLOOKUP($C11,'BASE FEDERAÇÃO'!$B:$M,6,FALSE),"") -> 13623 | M11: =IF($C11>0,VLOOKUP($C11,'BASE FEDERAÇÃO'!$B:$M,7,FALSE),"") -> 9 | N11: =IF($C11>0,VLOOKUP($C11,'BASE FEDERAÇÃO'!$B:$M,8,FALSE),"") -> B | O11: =IF($C11="","",VLOOKUP($C11,'BASE FEDERAÇÃO'!$B:$M,9,0)) -> MR | P11: =IF($C11>0,VLOOKUP($C11,INCRIÇÕES!$A:$K,11,0),"") | R11: =IF(ISERROR(VLOOKUP(C11,INCRIÇÕES!A:A,1,0)),"NÃO TEM INSCRIÇÃO","OK") -> OK | S11: =IF(S10="",S9+1,IF(F11<>"",S10+1,"")) -> 7 | T11: =IF(COUNTIF(C:C,C11)>1,"REPETIDO","OK") -> OK | U11: =CONCATENATE(D11&A11) -> 027 | AC11: 835 | AD11: =IF(ISERROR(VLOOKUP(AC11,C:C,1,0)),"SEM GRUPO","JÁ TEM GRUPO") -> JÁ TEM GRUPO | AE11: =VLOOKUP(AC11,INCRIÇÕES!A:F,6,0) -> IBIÚNA
A12: =S12 -> 8 | C12: 322 | D12: =D11 -> 02 | E12: =E11 -> 01 | F12: =F11 -> 02 | G12: =IF(C12>0,VLOOKUP(C12,'BASE FEDERAÇÃO'!$B:$M,2,FALSE),"") -> COGA | H12: =IF(C12>0,VLOOKUP(C12,'BASE FEDERAÇÃO'!$B:$M,3,FALSE),"") -> FUMIE | I12: =IF($C12>0,VLOOKUP($C12,'BASE FEDERAÇÃO'!$B:$M,4,FALSE),"") -> F | J12: =IF($C12>0,VLOOKUP($C12,'BASE FEDERAÇÃO'!$B:$M,5,FALSE),"") -> 12. COO | K12: =IFERROR(VLOOKUP(J12,Base!$G:$H,2,0),"") -> COOPER COTIA | L12: =IF($C12>0,VLOOKUP($C12,'BASE FEDERAÇÃO'!$B:$M,6,FALSE),"") -> 16466 | M12: =IF($C12>0,VLOOKUP($C12,'BASE FEDERAÇÃO'!$B:$M,7,FALSE),"") -> 12 | N12: =IF($C12>0,VLOOKUP($C12,'BASE FEDERAÇÃO'!$B:$M,8,FALSE),"") -> C | O12: =IF($C12="","",VLOOKUP($C12,'BASE FEDERAÇÃO'!$B:$M,9,0)) -> SR | P12: =IF($C12>0,VLOOKUP($C12,INCRIÇÕES!$A:$K,11,0),"") | R12: =IF(ISERROR(VLOOKUP(C12,INCRIÇÕES!A:A,1,0)),"NÃO TEM INSCRIÇÃO","OK") -> OK | S12: =IF(S11="",S10+1,IF(F12<>"",S11+1,"")) -> 8 | T12: =IF(COUNTIF(C:C,C12)>1,"REPETIDO","OK") -> OK | U12: =CONCATENATE(D12&A12) -> 028 | AC12: 612 | AD12: =IF(ISERROR(VLOOKUP(AC12,C:C,1,0)),"SEM GRUPO","JÁ TEM GRUPO") -> SEM GRUPO | AE12: =VLOOKUP(AC12,INCRIÇÕES!A:F,6,0) -> #N/A
A13: =S13 | G13: =IF(C13>0,VLOOKUP(C13,'BASE FEDERAÇÃO'!$B:$M,2,FALSE),"") | H13: =IF(C13>0,VLOOKUP(C13,'BASE FEDERAÇÃO'!$B:$M,3,FALSE),"") | I13: =IF($C13>0,VLOOKUP($C13,'BASE FEDERAÇÃO'!$B:$M,4,FALSE),"") | J13: =IF($C13>0,VLOOKUP($C13,'BASE FEDERAÇÃO'!$B:$M,5,FALSE),"") | K13: =IFERROR(VLOOKUP(J13,Base!$G:$H,2,0),"") | L13: =IF($C13>0,VLOOKUP($C13,'BASE FEDERAÇÃO'!$B:$M,6,FALSE),"") | M13: =IF($C13>0,VLOOKUP($C13,'BASE FEDERAÇÃO'!$B:$M,7,FALSE),"") | N13: =IF($C13>0,VLOOKUP($C13,'BASE FEDERAÇÃO'!$B:$M,8,FALSE),"") | O13: =IF($C13="","",VLOOKUP($C13,'BASE FEDERAÇÃO'!$B:$M,9,0)) | P13: =IF($C13>0,VLOOKUP($C13,INCRIÇÕES!$A:$K,11,0),"") | R13: =IF(ISERROR(VLOOKUP(C13,INCRIÇÕES!A:A,1,0)),"NÃO TEM INSCRIÇÃO","OK") -> NÃO TEM INSCRIÇÃO | S13: =IF(S12="",S11+1,IF(F13<>"",S12+1,"")) | T13: =IF(COUNTIF(C:C,C13)>1,"REPETIDO","OK") -> OK | U13: =CONCATENATE(D13&A13) | AC13: 613 | AD13: =IF(ISERROR(VLOOKUP(AC13,C:C,1,0)),"SEM GRUPO","JÁ TEM GRUPO") -> SEM GRUPO | AE13: =VLOOKUP(AC13,INCRIÇÕES!A:F,6,0) -> #N/A
A14: =S14 -> 9 | C14: 473 | D14: 03 | E14: 01 | F14: 03 | G14: =IF(C14>0,VLOOKUP(C14,'BASE FEDERAÇÃO'!$B:$M,2,FALSE),"") -> NAKANO | H14: =IF(C14>0,VLOOKUP(C14,'BASE FEDERAÇÃO'!$B:$M,3,FALSE),"") -> RUBENS SHOZI | I14: =IF($C14>0,VLOOKUP($C14,'BASE FEDERAÇÃO'!$B:$M,4,FALSE),"") -> M | J14: =IF($C14>0,VLOOKUP($C14,'BASE FEDERAÇÃO'!$B:$M,5,FALSE),"") -> 11. NCC | K14: =IFERROR(VLOOKUP(J14,Base!$G:$H,2,0),"") -> NIPPON COUNTRY | L14: =IF($C14>0,VLOOKUP($C14,'BASE FEDERAÇÃO'!$B:$M,6,FALSE),"") -> 17547 | M14: =IF($C14>0,VLOOKUP($C14,'BASE FEDERAÇÃO'!$B:$M,7,FALSE),"") -> 6 | N14: =IF($C14>0,VLOOKUP($C14,'BASE FEDERAÇÃO'!$B:$M,8,FALSE),"") -> A | O14: =IF($C14="","",VLOOKUP($C14,'BASE FEDERAÇÃO'!$B:$M,9,0)) -> SR | P14: =IF($C14>0,VLOOKUP($C14,INCRIÇÕES!$A:$K,11,0),"") -> X | R14: =IF(ISERROR(VLOOKUP(C14,INCRIÇÕES!A:A,1,0)),"NÃO TEM INSCRIÇÃO","OK") -> OK | S14: =IF(S13="",S12+1,IF(F14<>"",S13+1,"")) -> 9 | T14: =IF(COUNTIF(C:C,C14)>1,"REPETIDO","OK") -> OK | U14: =CONCATENATE(D14&A14) -> 039 | AC14: 665 | AD14: =IF(ISERROR(VLOOKUP(AC14,C:C,1,0)),"SEM GRUPO","JÁ TEM GRUPO") -> JÁ TEM GRUPO | AE14: =VLOOKUP(AC14,INCRIÇÕES!A:F,6,0) -> GRANDE SÃO PAULO
A15: =S15 -> 10 | C15: 178 | D15: =D14 -> 03 | E15: =E14 -> 01 | F15: =F14 -> 03 | G15: =IF(C15>0,VLOOKUP(C15,'BASE FEDERAÇÃO'!$B:$M,2,FALSE),"") -> KAWAKAMI | H15: =IF(C15>0,VLOOKUP(C15,'BASE FEDERAÇÃO'!$B:$M,3,FALSE),"") -> TETSUSHI | I15: =IF($C15>0,VLOOKUP($C15,'BASE FEDERAÇÃO'!$B:$M,4,FALSE),"") -> M | J15: =IF($C15>0,VLOOKUP($C15,'BASE FEDERAÇÃO'!$B:$M,5,FALSE),"") -> 01. PIE | K15: =IFERROR(VLOOKUP(J15,Base!$G:$H,2,0),"") -> PIEDADE | L15: =IF($C15>0,VLOOKUP($C15,'BASE FEDERAÇÃO'!$B:$M,6,FALSE),"") -> 14323 | M15: =IF($C15>0,VLOOKUP($C15,'BASE FEDERAÇÃO'!$B:$M,7,FALSE),"") -> 6 | N15: =IF($C15>0,VLOOKUP($C15,'BASE FEDERAÇÃO'!$B:$M,8,FALSE),"") -> A | O15: =IF($C15="","",VLOOKUP($C15,'BASE FEDERAÇÃO'!$B:$M,9,0)) -> MR | P15: =IF($C15>0,VLOOKUP($C15,INCRIÇÕES!$A:$K,11,0),"") -> X | R15: =IF(ISERROR(VLOOKUP(C15,INCRIÇÕES!A:A,1,0)),"NÃO TEM INSCRIÇÃO","OK") -> OK | S15: =IF(S14="",S13+1,IF(F15<>"",S14+1,"")) -> 10 | T15: =IF(COUNTIF(C:C,C15)>1,"REPETIDO","OK") -> OK | U15: =CONCATENATE(D15&A15) -> 0310 | AC15: 716 | AD15: =IF(ISERROR(VLOOKUP(AC15,C:C,1,0)),"SEM GRUPO","JÁ TEM GRUPO") -> JÁ TEM GRUPO | AE15: =VLOOKUP(AC15,INCRIÇÕES!A:F,6,0) -> GRANDE SÃO PAULO
A16: =S16 -> 11 | C16: 875 | D16: =D15 -> 03 | E16: =E15 -> 01 | F16: =F15 -> 03 | G16: =IF(C16>0,VLOOKUP(C16,'BASE FEDERAÇÃO'!$B:$M,2,FALSE),"") -> KAWASAKA | H16: =IF(C16>0,VLOOKUP(C16,'BASE FEDERAÇÃO'!$B:$M,3,FALSE),"") -> M. INES KINUKO | I16: =IF($C16>0,VLOOKUP($C16,'BASE FEDERAÇÃO'!$B:$M,4,FALSE),"") -> F | J16: =IF($C16>0,VLOOKUP($C16,'BASE FEDERAÇÃO'!$B:$M,5,FALSE),"") -> 07. GSP | K16: =IFERROR(VLOOKUP(J16,Base!$G:$H,2,0),"") -> GRANDE SÃO PAULO | L16: =IF($C16>0,VLOOKUP($C16,'BASE FEDERAÇÃO'!$B:$M,6,FALSE),"") -> 18296 | M16: =IF($C16>0,VLOOKUP($C16,'BASE FEDERAÇÃO'!$B:$M,7,FALSE),"") -> 6 | N16: =IF($C16>0,VLOOKUP($C16,'BASE FEDERAÇÃO'!$B:$M,8,FALSE),"") -> A | O16: =IF($C16="","",VLOOKUP($C16,'BASE FEDERAÇÃO'!$B:$M,9,0)) -> SR | P16: =IF($C16>0,VLOOKUP($C16,INCRIÇÕES!$A:$K,11,0),"") | R16: =IF(ISERROR(VLOOKUP(C16,INCRIÇÕES!A:A,1,0)),"NÃO TEM INSCRIÇÃO","OK") -> OK | S16: =IF(S15="",S14+1,IF(F16<>"",S15+1,"")) -> 11 | T16: =IF(COUNTIF(C:C,C16)>1,"REPETIDO","OK") -> OK | U16: =CONCATENATE(D16&A16) -> 0311 | AC16: 653 | AD16: =IF(ISERROR(VLOOKUP(AC16,C:C,1,0)),"SEM GRUPO","JÁ TEM GRUPO") -> JÁ TEM GRUPO | AE16: =VLOOKUP(AC16,INCRIÇÕES!A:F,6,0) -> PIEDADE
A17: =S17 -> 12 | C17: 855 | D17: =D16 -> 03 | E17: =E16 -> 01 | F17: =F16 -> 03 | G17: =IF(C17>0,VLOOKUP(C17,'BASE FEDERAÇÃO'!$B:$M,2,FALSE),"") -> YAMANO | H17: =IF(C17>0,VLOOKUP(C17,'BASE FEDERAÇÃO'!$B:$M,3,FALSE),"") -> MASSAKATSU | I17: =IF($C17>0,VLOOKUP($C17,'BASE FEDERAÇÃO'!$B:$M,4,FALSE),"") -> M | J17: =IF($C17>0,VLOOKUP($C17,'BASE FEDERAÇÃO'!$B:$M,5,FALSE),"") -> 03. IBI | K17: =IFERROR(VLOOKUP(J17,Base!$G:$H,2,0),"") -> IBIÚNA | L17: =IF($C17>0,VLOOKUP($C17,'BASE FEDERAÇÃO'!$B:$M,6,FALSE),"") -> 16365 | M17: =IF($C17>0,VLOOKUP($C17,'BASE FEDERAÇÃO'!$B:$M,7,FALSE),"") -> 5 | N17: =IF($C17>0,VLOOKUP($C17,'BASE FEDERAÇÃO'!$B:$M,8,FALSE),"") -> A | O17: =IF($C17="","",VLOOKUP($C17,'BASE FEDERAÇÃO'!$B:$M,9,0)) -> SR | P17: =IF($C17>0,VLOOKUP($C17,INCRIÇÕES!$A:$K,11,0),"") -> X | R17: =IF(ISERROR(VLOOKUP(C17,INCRIÇÕES!A:A,1,0)),"NÃO TEM INSCRIÇÃO","OK") -> OK | S17: =IF(S16="",S15+1,IF(F17<>"",S16+1,"")) -> 12 | T17: =IF(COUNTIF(C:C,C17)>1,"REPETIDO","OK") -> OK | U17: =CONCATENATE(D17&A17) -> 0312 | AC17: 699 | AD17: =IF(ISERROR(VLOOKUP(AC17,C:C,1,0)),"SEM GRUPO","JÁ TEM GRUPO") -> JÁ TEM GRUPO | AE17: =VLOOKUP(AC17,INCRIÇÕES!A:F,6,0) -> PIEDADE
