Workbook

Sheet BASE FEDERAÇÃO
A2: Observação | B2: No. DA FEDERAÇÃO | C2: SOBRENOME | D2: NOME | E2: SEXO | F2: TIME | G2: NASCIMENTO | H2: HC Jan-Dez 2022 | I2: Cat. Jan-Dez 2022 (Senior não separado) | J2: Cat. Senior | K2: HC Alterado de Jan-Dez2020 p/ Jan-Dez 2022 | L2: PAGTO FEDERAÇÃO | M2: Concorrentes Etapas Net 2020/23 (2019>=0); Final 2020/23 (2020/23>=7)
B3: 131 | C3: IBUSUKI | D3: FUMIYOSHI | E3: M | F3: 01. PIE | G3: 24985 | H3: 4 | I3: A | J3: NSR | L3: LIB2026 | M3: X
B4: 168 | C4: INUTSUKA | D4: TIYOKO | E4: F | F4: 01. PIE | G4: 15534 | H4: 9 | I4: B | J4: SR | L4: LIB2026 | M4: X
B5: 178 | C5: KAWAKAMI | D5: TETSUSHI | E5: M | F5: 01. PIE | G5: 14323 | H5: 6 | I5: A | J5: MR | K5: X | L5: LIB2026 | M5: X
B6: 201 | C6: MASUDA | D6: TERUO | E6: M | F6: 01. PIE | G6: 15336 | H6: 3 | I6: EX | J6: MR | L6: LIB2026 | M6: X
B7: 203 | C7: NAKAMURA | D7: EDSON | E7: M | F7: 01. PIE | G7: 21525 | H7: 4 | I7: A | J7: NSR | K7: X | L7: LIB2026 | M7: X
B8: 248 | C8: NISHIMURA | D8: KESAO | E8: M | F8: 01. PIE | G8: 15479 | H8: 9 | I8: B | J8: SR | L8: LIB2026 | M8: X
B9: 249 | C9: NISHIMURA | D9: MITIKO | E9: F | F9: 01. PIE | G9: 15668 | H9: 9 | I9: B | J9: SR | L9: LIB2026 | M9: X
B10: 266 | C10: TOYODA | D10: MATOMU | E10: M | F10: 01. PIE | G10: 13051 | H10: 12 | I10: C | J10: MR | K10: #DIV/0! | L10: LIB2026i | M10: X
B11: 267 | C11: UEYAMA | D11: MARIA KIYOKO | E11: F | F11: 01. PIE | G11: 14975 | H11: 9 | I11: B | J11: MR | K11: X | L11: LIB2026 | M11: X
B12: 268 | C12: UEYAMA | D12: TAKINORI | E12: M | F12: 01. PIE | G12: 13234 | H12: 8 | I12: B | J12: MR | K12: X | L12: LIB2026i | M12: X
B13: 347 | C13: MASUDA | D13: TIZUKO | E13: F | F13: 01. PIE | G13: 15977 | H13: 5 | I13: A | J13: SR | K13: X | L13: LIB2026 | M13: X
B14: 397 | C14: NAKAZATO | D14: JORGE SHITOMI | E14: M | F14: 01. PIE | G14: 16003 | H14: 12 | I14: C | J14: SR | K14: #DIV/0! | L14: LIB2026 | M14: X
B15: 398 | C15: MURAKAMI DOKAN | D15: RUMI | E15: F | F15: 01. PIE | G15: 23097 | H15: 12 | I15: C | J15: NSR | K15: #DIV/0! | L15: LIB2026 | M15: X
B16: 399 | C16: INOUE ISHIHARA | D16: IRENE FUMI | E16: F | F16: 01. PIE | G16: 30851 | H16: 12 | I16: C | J16: NSR | K16: #DIV/0! | L16: LIB2026 | M16: X
B17: 400 | C17: NAKAZATO | D17: SETSUKO | E17: F | F17: 01. PIE | G17: 17648 | H17: 12 | I17: C | J17: SR | K17: #DIV/0! | L17: LIB2026 | M17: X
B18: 401 | C18: KANNO | D18: HELIO MINORU | E18: M | F18: 01. PIE | G18: 26227 | H18: 12 | I18: C | J18: NSR | K18: #DIV/0! | L18: LIB2026 | M18: X
B19: 402 | C19: ISHIHARA | D19: MARCIO EIDI | E19: M | F19: 01. PIE | G19: 27323 | H19: 12 | I19: C | J19: NSR | K19: #DIV/0! | L19: LIB2026 | M19: X
B20: 434 | C20: KATO | D20: MASSAKAZU | E20: M | F20: 01. PIE | G20: 15/07/1960 | H20: 4 | I20: A | J20: NSR | L20: LIB2026 | M20: X
B21: 437 | C21: SACAMOTO | D21: MORIO | E21: M | F21: 01. PIE | G21: 23045 | H21: 5 | I21: A | J21: NSR | K21: X | L21: LIB2026 | M21: X
B22: 442 | C22: ARIZAWA | D22: MARIKO | E22: F | F22: 01. PIE | G22: 17503 | H22: 6 | I22: A | J22: SR | K22: X | L22: LIB2026 | M22: X
B23: 526 | C23: NAKAMURA | D23: EMI KAWAKAMI | E23: F | F23: 01. PIE | G23: 21828 | H23: 12 | I23: C | J23: NSR | L23: LIB2026 | M23: X
B24: 617 | C24: DOKAN | D24: CARLOS EIITI | E24: M | F24: 01. PIE | G24: 22800 | H24: 4 | I24: A | J24: NSR | K24: X | L24: LIB2026 | M24: X
B25: 653 | C25: TAKAMUNE | D25: ATSUSHI | E25: M | F25: 01. PIE | G25: 16893 | H25: 8 | I25: B | J25: SR | L25: LIB2026 | M25: X
B26: 699 | C26: MISOBUSHI | D26: ARMANDO KOMI | E26: M | F26: 01. PIE | G26: 21065 | H26: 11 | I26: C | J26: NSR | K26: X | L26: LIB2026 | M26: X
B27: 700 | C27: TAKAMUNE MISOBUSHI | D27: JURACI HIROKO | E27: F | F27: 01. PIE | G27: 21779 | H27: 12 | I27: C | J27: NSR | L27: LIB2026 | M27: X
B28: 744 | C28: UEMURA | D28: JORGE | E28: M | F28: 01. PIE | G28: 29247 | H28: 9 | I28: B | J28: NSR | K28: X | L28: LIB2026 | M28: X
B29: 763 | C29: ANTAL MASUDA | D29: RODRIGO YUJI | E29: M | F29: 01. PIE | G29: 41082 | H29: 12 | I29: C | J29: NSR | K29: #DIV/0! | L29: LIB2026 | M29: X
B30: 764 | C30: ISHIHARA | D30: HILTON HARUAKI | E30: M | F30: 01. PIE | G30: 41116 | H30: 12 | I30: C | J30: NSR | K30: #DIV/0! | L30: LIB2026 | M30: X
B31: 866 | C31: SAKAGUTI | D31: MARIO | E31: M | F31: 01. PIE | G31: 28572 | H31: 5 | I31: A | J31: NSR | K31: X | L31: LIB2026 | M31: X
B32: 876 | C32: DE MELO DE JESUS | D32: BRUNO | E32: M | F32: 01. PIE | G32: 34349 | H32: 4 | I32: A | J32: NSR | L32: LIB2026 | M32: X
B33: 917 | C33: SAKAGUTI KAWANAKA | D33: YOUKO | E33: F | F33: 01. PIE | G33: 18970 | H33: 12 | I33: C | J33: SR | L33: LIB2026 | M33: X
B34: 958 | C34: NUNES | D34: MARIA HELENA | E34: F | F34: 01. PIE | G34: 16884 | H34: 12 | I34: C | J34: SR | L34: LIB2026 | M34: X
B35: 976 | C35: MORI | D35: SADAO | E35: M | F35: 01. PIE | G35: 19729 | H35: 8 | I35: B | J35: NSR | K35: X | L35: LIB2026 | M35: X
B36: 991 | C36: KANAI | D36: MICHIO | E36: M | F36: 01. PIE | G36: 19641 | H36: 1 | I36: EX | J36: NSR | K36: X | L36: LIB2026 | M36: X
B37: 001 | C37: SAITO | D37: ISSAO | E37: M | F37: 03. IBI | G37: 14862 | H37: 12 | I37: C | J37: MR | L37: LIB2026 | M37: X
B38: 002 | C38: SAITO | D38: SETSUKO | E38: F | F38: 03. IBI | G38: 15412 | H38: 7 | I38: B | J38: SR | K38: X | L38: LIB2026 | M38: X
B39: 010 | C39: FURUYA | D39: ISAO | E39: M | F39: 03. IBI | G39: 14983 | H39: 3 | I39: EX | J39: MR | K39: X | L39: LIB2026 | M39: X
B40: 11 | C40: FURUYA | D40: AYAKO | E40: F | F40: 03. IBI | G40: 17976 | H40: 7 | I40: B | J40: SR | K40: X | L40: LIB2026 | M40: X
B41: 012 | C41: SHIMIZU | D41: HIDEO | E41: M | F41: 03. IBI | G41: 15076 | H41: 9 | I41: B | J41: MR | L41: LIB2026 | M41: X
B42: 017 | C42: SHIMOYAMA | D42: KAZUKO | E42: F | F42: 03. IBI | G42: 14507 | H42: 8 | I42: B | J42: MR | K42: X | L42: LIB2026 | M42: X
B43: 019 | C43: YOSHIZUMI | D43: MASARU | E43: M | F43: 03. IBI | G43: 11650 | H43: 7 | I43: B | J43: MR | K43: X | L43: LIB2026i | M43: X
B44: 022 | C44: MIYAJI | D44: SETSUKO | E44: F | F44: 03. IBI | G44: 16538 | H44: 12 | I44: C | J44: SR | L44: LIB2026 | M44: X
B45: 037 | C45: UCHIMURA | D45: HISAO | E45: M | F45: 03. IBI | G45: 10971 | H45: 6 | I45: A | J45: MR | L45: LIB2026i | M45: X
B46: 055 | C46: OZAKI | D46: MIE | E46: F | F46: 03. IBI | G46: 15211 | H46: 5 | I46: A | J46: MR | L46: LIB2026 | M46: X
B47: 068 | C47: OZAKI | D47: TOMIKO | E47: F | F47: 03. IBI | G47: 16167 | H47: 9 | I47: B | J47: SR | K47: X | L47: LIB2026 | M47: X
B48: 073 | C48: TAKANO | D48: YASUO | E48: M | F48: 03. IBI | G48: 16369 | H48: 6 | I48: A | J48: SR | K48: X | L48: LIB2026 | M48: X
B49: 084 | C49: YAMASHITA | D49: KAZUO | E49: M | F49: 03. IBI | G49: 14666 | H49: 8 | I49: B | J49: MR | K49: X | L49: LIB2026 | M49: X
B50: 097 | C50: MUKAYAMA | D50: AMELIA | E50: F | F50: 03. IBI | G50: 19188 | H50: 7 | I50: B | J50: NSR | L50: LIB2026 | M50: X
B51: 108 | C51: KAWANO | D51: KIYOKO | E51: F | F51: 03. IBI | G51: 16772 | H51: 7 | I51: B | J51: SR | K51: X | L51: LIB2026 | M51: X
B52: 111 | C52: MORITA | D52: AKIRA | E52: M | F52: 03. IBI | G52: 14656 | H52: 8 | I52: B | J52: MR | L52: LIB2026 | M52: X
B53: 348 | C53: FUJIMOTO | D53: MARIA | E53: F | F53: 03. IBI | G53: 13431 | H53: 12 | I53: C | J53: MR | K53: X | L53: LIB2026i | M53: X
B54: 403 | C54: SHIMOYAMA | D54: MIYUKI | E54: F | F54: 03. IBI | G54: 25386 | H54: 12 | I54: C | J54: NSR | K54: X | L54: LIB2026 | M54: X
B55: 466 | C55: HAGUIMOTO | D55: LUCIA HIROKO | E55: F | F55: 03. IBI | G55: 22015 | H55: 9 | I55: B | J55: NSR | K55: X | L55: LIB2026 | M55: X
B56: 533 | C56: TANAKA | D56: TAKAAKI | E56: M | F56: 03. IBI | G56: 14124 | H56: 12 | I56: C | J56: MR | L56: LIB2026 | M56: X
B57: 579 | C57: HITOMI | D57: ITIRO | E57: M | F57: 03. IBI | G57: 16522 | H57: 6 | I57: A | J57: SR | L57: LIB2026 | M57: X
B58: 639 | C58: HITOMI | D58: HATSUE | E58: F | F58: 03. IBI | G58: 17336 | H58: 8 | I58: B | J58: SR | L58: LIB2026 | M58: X
B59: 712 | C59: LEME DA SILVA | D59: LUIZ GABRIEL | E59: M | F59: 03. IBI | G59: 38679 | H59: 12 | I59: C | J59: NSR | L59: LIB2026 | M59: X
B60: 715 | C60: MAEDA | D60: ALLAN YUJI | E60: M | F60: 03. IBI | G60: 32498 | H60: 7 | I60: B | J60: NSR | K60: X | L60: LIB2026 | M60: X
B61: 727 | C61: KAWAMURA | D61: MILTON MASSAR | E61: M | F61: 03. IBI | G61: 18665 | H61: 12 | I61: C | J61: SR | L61: LIB2026 | M61: X
B62: 782 | C62: MATSUMOTO | D62: KAZUKO | E62: F | F62: 03. IBI | G62: 13623 | H62: 9 | I62: B | J62: MR | L62: LIB2026 | M62: X
B63: 800 | C63: FIUZA DE OLIVEIRA | D63: IVAN | E63: M | F63: 03. IBI | G63: 29849 | H63: 2 | I63: EX | J63: NSR | K63: X | L63: LIB2026 | M63: X
B64: 825 | C64: TAKANO | D64: NOBUKI | E64: M | F64: 03. IBI | G64: 17060 | H64: 4 | I64: A | J64: SR | L64: LIB2026 | M64: X
B65: 834 | C65: YAMANO | D65: PAULO | E65: M | F65: 03. IBI | G65: 17828 | H65: 6 | I65: A | J65: SR | L65: LIB2026 | M65: X
B66: 835 | C66: YAMANO | D66: ROSA | E66: F | F66: 03. IBI | G66: 20212 | H66: 8 | I66: B | J66: NSR | K66: X | L66: LIB2026 | M66: X
B67: 855 | C67: YAMANO | D67: MASSAKATSU | E67: M | F67: 03. IBI | G67: 16365 | H67: 5 | I67: A | J67: SR | K67: X | L67: LIB2026 | M67: X
B68: 856 | C68: YAMANO | D68: ISABEL TIYOKO | E68: F | F68: 03. IBI | G68: 18926 | H68: 9 | I68: B | J68: SR | L68: LIB2026 | M68: X
B69: 141 | C69: HASHIZUME | D69: AKIO | E69: M | F69: 06. KOK | G69: 16851 | H69: 6 | I69: A | J69: SR | L69: LIB2026 | M69: X
B70: 143 | C70: KUROKI | D70: MISAKO | E70: F | F70: 06. KOK | G70: 14045 | H70: 9 | I70: B | J70: MR | L70: LIB2026 | M70: X
B71: 145 | C71: NISHIMURA | D71: CHISEKO | E71: F | F71: 06. KOK | G71: 17575 | H71: 9 | I71: B | J71: SR | K71: X | L71: LIB2026 | M71: X
B72: 146 | C72: YAMASHITA | D72: MISSAO | E72: F | F72: 06. KOK | G72: 15561 | H72: 12 | I72: C | J72: SR | L72: LIB2026 | M72: X
B73: 152 | C73: SHIRAHATA | D73: MAKOTO | E73: M | F73: 06. KOK | G73: 13189 | H73: 9 | I73: B | J73: MR | L73: LIB2026i | M73: X
B74: 153 | C74: FURUKAWA | D74: FUMIKO | E74: F | F74: 06. KOK | G74: 13386 | H74: 12 | I74: C | J74: MR | L74: LIB2026i | M74: X
B75: 155 | C75: HASHIZUME | D75: AKIKO | E75: F | F75: 06. KOK | G75: 18684 | H75: 6 | I75: A | J75: SR | L75: LIB2026 | M75: X
B76: 167 | C76: NOZAWA | D76: YURIKO | E76: F | F76: 06. KOK | G76: 13844 | H76: 12 | I76: C | J76: MR | L76: LIB2026 | M76: X
B77: 169 | C77: SILVA | D77: MANOEL | E77: M | F77: 06. KOK | G77: 20205 | H77: 9 | I77: B | J77: NSR | L77: LIB2026 | M77: X
B78: 176 | C78: SHAKUDA | D78: MIYOKO | E78: F | F78: 06. KOK | G78: 15849 | H78: 12 | I78: C | J78: SR | L78: LIB2026 | M78: X
B79: 184 | C79: UTSUMI | D79: CHIOMI | E79: F | F79: 06. KOK | G79: 14740 | H79: 12 | I79: C | J79: MR | L79: LIB2026 | M79: X
B80: 197 | C80: OZAKI | D80: TOSHIO | E80: M | F80: 06. KOK | G80: 18013 | H80: 3 | I80: EX | J80: SR | K80: X | L80: LIB2026 | M80: X
B81: 261 | C81: KUROKI | D81: KEI | E81: M | F81: 06. KOK | G81: 12721 | H81: 6 | I81: A | J81: MR | L81: LIB2026i | M81: X
B82: 270 | C82: NOZAWA | D82: ASSAMI | E82: F | F82: 06. KOK | G82: 23351 | H82: 12 | I82: C | J82: NSR | L82: LIB2026 | M82: X
B83: 273 | C83: SHAKUDA | D83: TADASHI | E83: M | F83: 06. KOK | G83: 15013 | H83: 7 | I83: B | J83: MR | K83: X | L83: LIB2026 | M83: X
B84: 276 | C84: KUDO | D84: SHOJI | E84: M | F84: 06. KOK | G84: 13665 | H84: 6 | I84: A | J84: MR | K84: X | L84: LIB2026 | M84: X
B85: 278 | C85: KUDO | D85: AKIKO | E85: F | F85: 06. KOK | G85: 15656 | H85: 7 | I85: B | J85: SR | K85: X | L85: LIB2026 | M85: X
B86: 342 | C86: TOBIMATSU | D86: SHINYA | E86: M | F86: 06. KOK | G86: 17774 | H86: 1 | I86: EX | J86: SR | L86: LIB2026 | M86: X
B87: 404 | C87: 0ZAKI | D87: RAPHAEL M. | E87: M | F87: 06. KOK | G87: 32446 | H87: 12 | I87: C | J87: NSR | K87: #DIV/0! | L87: LIB2026 | M87: X
B88: 406 | C88: VALERO ARIAS | D88: CARMEN | E88: F | F88: 06. KOK | G88: 21451 | H88: 12 | I88: C | J88: NSR | K88: #DIV/0! | L88: LIB2026 | M88: X
B89: 407 | C89: HIROSE YOKOTA | D89: HAYDEE HARUMI | E89: F | F89: 06. KOK | G89: 22444 | H89: 12 | I89: C | J89: NSR | K89: #DIV/0! | L89: LIB2026 | M89: X
B90: 408 | C90: YOKOTA | D90: NELSON AKIRA | E90: M | F90: 06. KOK | G90: 20468 | H90: 12 | I90: C | J90: NSR | K90: #DIV/0! | L90: LIB2026 | M90: X
B91: 463 | C91: ISHII | D91: HISANOBU | E91: M | F91: 06. KOK | G91: 14088 | H91: 9 | I91: B | J91: MR | L91: LIB2026 | M91: X
B92: 512 | C92: MATSUMURA | D92: TERUAKI | E92: M | F92: 06. KOK | G92: 15766 | H92: 9 | I92: B | J92: SR | L92: LIB2026 | M92: X
B93: 605 | C93: ABE | D93: TETSUO | E93: M | F93: 06. KOK | G93: 12082 | H93: 8 | I93: B | J93: MR | L93: LIB2026i | M93: X
B94: 607 | C94: ABE | D94: KAZUKO | E94: F | F94: 06. KOK | G94: 18129 | H94: 9 | I94: B | J94: SR | L94: LIB2026 | M94: X
B95: 609 | C95: NAKASHIMA | D95: MITSUKO | E95: F | F95: 06. KOK | G95: 19177 | H95: 9 | I95: B | J95: NSR | K95: X | L95: LIB2026 | M95: X
B96: 618 | C96: HASEGAWA | D96: FUMIO | E96: M | F96: 06. KOK | G96: 15404 | H96: 9 | I96: B | J96: SR | K96: X | L96: LIB2026 | M96: X
B97: 632 | C97: U. MORIOKA | D97: YOMEI | E97: M | F97: 06. KOK | G97: 16671 | H97: 12 | I97: C | J97: SR | L97: LIB2026 | M97: X
B98: 635 | C98: BABATA | D98: JORGE TOSHIO | E98: M | F98: 06. KOK | G98: 21124 | H98: 3 | I98: EX | J98: NSR | K98: X | L98: LIB2026 | M98: X
B99: 661 | C99: FURUKAWA | D99: KOITI | E99: M | F99: 06. KOK | G99: 16653 | H99: 9 | I99: B | J99: SR | K99: X | L99: LIB2026 | M99: X
B100: 670 | C100: FUKUZAWA | D100: AKIRA | E100: M | F100: 06. KOK | G100: 18276 | H100: 6 | I100: A | J100: SR | L100: LIB2026 | M100: X
B101: 672 | C101: FUKUZAWA | D101: ISAURA | E101: F | F101: 06. KOK | G101: 19670 | H101: 8 | I101: B | J101: NSR | K101: X | L101: LIB2026 | M101: X
...

Sheet INCRIÇÕES
A1: Código | B1: SOBRENOME | C1: NOME | D1: GÊNERO | E1: CÓDIGO ENT. | F1: ENTIDADE | G1: NASCIMENTO | H1: HC | I1: CATEGORIA | J1: SENIOR | K1: NET | L1: Está na apuração? | M1: Consta na aba grupos? | N1: Está repetido? | P1: ENTIDADE | Q1: Total | S1: CATEGORIA | T1: Total | V1: 4pessoas | W1: 3pessoas | Y1: 4pessoas | Z1: 3pessoas | AA1: Total
A2: 129 | B2: =IF(A2>0,VLOOKUP(A2,'BASE FEDERAÇÃO'!$B:$M,2,FALSE),"") -> YAMAKAWA | C2: =IF(A2>0,VLOOKUP(A2,'BASE FEDERAÇÃO'!$B:$M,3,FALSE),"") -> TAKAO | D2: =IF(A2>0,VLOOKUP(A2,'BASE FEDERAÇÃO'!$B:$M,4,FALSE),"") -> M | E2: =IF(A2>0,VLOOKUP(A2,'BASE FEDERAÇÃO'!$B:$M,5,FALSE),"") -> 11. NCC | F2: =IFERROR(VLOOKUP(E2,Base!$G:$H,2,0),"") -> NIPPON COUNTRY | G2: =IF(A2>0,VLOOKUP(A2,'BASE FEDERAÇÃO'!$B:$M,6,FALSE),"") -> 16818 | H2: =IF(A2>0,VLOOKUP(A2,'BASE FEDERAÇÃO'!$B:$M,7,FALSE),"") -> 6 | I2: =IF(A2>0,VLOOKUP(A2,'BASE FEDERAÇÃO'!$B:$M,8,FALSE),"") -> A | J2: =IF(A2="","",VLOOKUP($A2,'BASE FEDERAÇÃO'!$B:$M,9,0)) -> SR | K2: =IF(B2="","",VLOOKUP($A2,'BASE FEDERAÇÃO'!$B:$M,10,0)) | L2: =IFERROR(VLOOKUP(A2,Apuracão!A:A,1,0),"NÃO CONSTA NA APURAÇÃO") -> 129 | M2: =IFERROR(VLOOKUP(A2,GRUPOS!C:C,1,0),"SEM GRUPO") -> 129 | N2: =IF(COUNTIF(A:A,A2)>1,"REPETIDO - CORRIGIR","OK") -> OK | P2: BIRITIBA MIRIM | Q2: =COUNTIF($F:$F,P2) -> 16 | S2: A + EX | T2: =COUNTIF(I:I,"A") + COUNTIF(I:I,"EX") -> 76 | V2: 16 | W2: 4 | Y2: =+V2*4 -> 64 | Z2: =+W2*3 -> 12 | AA2: =+Y2+Z2 -> 76 | AB2: =+T2-AA2 -> 0
A3: 170 | B3: =IF(A3>0,VLOOKUP(A3,'BASE FEDERAÇÃO'!$B:$M,2,FALSE),"") -> YAMAKAWA | C3: =IF(A3>0,VLOOKUP(A3,'BASE FEDERAÇÃO'!$B:$M,3,FALSE),"") -> YOCHINOBU | D3: =IF(A3>0,VLOOKUP(A3,'BASE FEDERAÇÃO'!$B:$M,4,FALSE),"") -> M | E3: =IF(A3>0,VLOOKUP(A3,'BASE FEDERAÇÃO'!$B:$M,5,FALSE),"") -> 11. NCC | F3: =IFERROR(VLOOKUP(E3,Base!$G:$H,2,0),"") -> NIPPON COUNTRY | G3: =IF(A3>0,VLOOKUP(A3,'BASE FEDERAÇÃO'!$B:$M,6,FALSE),"") -> 17962 | H3: =IF(A3>0,VLOOKUP(A3,'BASE FEDERAÇÃO'!$B:$M,7,FALSE),"") -> 2 | I3: =IF(A3>0,VLOOKUP(A3,'BASE FEDERAÇÃO'!$B:$M,8,FALSE),"") -> EX | J3: =IF(A3="","",VLOOKUP($A3,'BASE FEDERAÇÃO'!$B:$M,9,0)) -> SR | K3: =IF(B3="","",VLOOKUP($A3,'BASE FEDERAÇÃO'!$B:$M,10,0)) | L3: =IFERROR(VLOOKUP(A3,Apuracão!A:A,1,0),"NÃO CONSTA NA APURAÇÃO") -> 170 | M3: =IFERROR(VLOOKUP(A3,GRUPOS!C:C,1,0),"SEM GRUPO") -> 170 | N3: =IF(COUNTIF(A:A,A3)>1,"REPETIDO - CORRIGIR","OK") -> OK | P3: COOPER COTIA | Q3: =COUNTIF($F:$F,P3) -> 14 | S3: B + C | T3: =COUNTIF(I:I,"B") + COUNTIF(I:I,"C") -> 122 | V3: 30 | W3: 2 | Y3: =+V3*4 -> 120 | Z3: =+W3*3 -> 6 | AA3: =+Y3+Z3 -> 126 | AB3: =+T3-AA3 -> -4
A4: 292 | B4: =IF(A4>0,VLOOKUP(A4,'BASE FEDERAÇÃO'!$B:$M,2,FALSE),"") -> OKADA | C4: =IF(A4>0,VLOOKUP(A4,'BASE FEDERAÇÃO'!$B:$M,3,FALSE),"") -> OLIMPIO | D4: =IF(A4>0,VLOOKUP(A4,'BASE FEDERAÇÃO'!$B:$M,4,FALSE),"") -> M | E4: =IF(A4>0,VLOOKUP(A4,'BASE FEDERAÇÃO'!$B:$M,5,FALSE),"") -> 11. NCC | F4: =IFERROR(VLOOKUP(E4,Base!$G:$H,2,0),"") -> NIPPON COUNTRY | G4: =IF(A4>0,VLOOKUP(A4,'BASE FEDERAÇÃO'!$B:$M,6,FALSE),"") -> 19194 | H4: =IF(A4>0,VLOOKUP(A4,'BASE FEDERAÇÃO'!$B:$M,7,FALSE),"") -> 0 | I4: =IF(A4>0,VLOOKUP(A4,'BASE FEDERAÇÃO'!$B:$M,8,FALSE),"") -> EX | J4: =IF(A4="","",VLOOKUP($A4,'BASE FEDERAÇÃO'!$B:$M,9,0)) -> NSR | K4: =IF(B4="","",VLOOKUP($A4,'BASE FEDERAÇÃO'!$B:$M,10,0)) | L4: =IFERROR(VLOOKUP(A4,Apuracão!A:A,1,0),"NÃO CONSTA NA APURAÇÃO") -> 292 | M4: =IFERROR(VLOOKUP(A4,GRUPOS!C:C,1,0),"SEM GRUPO") -> 292 | N4: =IF(COUNTIF(A:A,A4)>1,"REPETIDO - CORRIGIR","OK") -> OK | P4: GRANDE SÃO PAULO | Q4: =COUNTIF($F:$F,P4) -> 31 | S4: TOTAL | T4: =SUM(T2:T3) -> 198 | V4: =SUM(V2:V3) -> 46 | W4: =SUM(W2:W3) -> 6
A5: 296 | B5: =IF(A5>0,VLOOKUP(A5,'BASE FEDERAÇÃO'!$B:$M,2,FALSE),"") -> UTSUNOMIYA | C5: =IF(A5>0,VLOOKUP(A5,'BASE FEDERAÇÃO'!$B:$M,3,FALSE),"") -> YUKIO | D5: =IF(A5>0,VLOOKUP(A5,'BASE FEDERAÇÃO'!$B:$M,4,FALSE),"") -> M | E5: =IF(A5>0,VLOOKUP(A5,'BASE FEDERAÇÃO'!$B:$M,5,FALSE),"") -> 11. NCC | F5: =IFERROR(VLOOKUP(E5,Base!$G:$H,2,0),"") -> NIPPON COUNTRY | G5: =IF(A5>0,VLOOKUP(A5,'BASE FEDERAÇÃO'!$B:$M,6,FALSE),"") -> 18980 | H5: =IF(A5>0,VLOOKUP(A5,'BASE FEDERAÇÃO'!$B:$M,7,FALSE),"") -> 9 | I5: =IF(A5>0,VLOOKUP(A5,'BASE FEDERAÇÃO'!$B:$M,8,FALSE),"") -> B | J5: =IF(A5="","",VLOOKUP($A5,'BASE FEDERAÇÃO'!$B:$M,9,0)) -> SR | K5: =IF(B5="","",VLOOKUP($A5,'BASE FEDERAÇÃO'!$B:$M,10,0)) | L5: =IFERROR(VLOOKUP(A5,Apuracão!A:A,1,0),"NÃO CONSTA NA APURAÇÃO") -> 296 | M5: =IFERROR(VLOOKUP(A5,GRUPOS!C:C,1,0),"SEM GRUPO") -> 296 | N5: =IF(COUNTIF(A:A,A5)>1,"REPETIDO - CORRIGIR","OK") -> OK | P5: IBIÚNA | Q5: =COUNTIF($F:$F,P5) -> 14 | S5: Check | T5: =+T4-Q14 -> 0
A6: 308 | B6: =IF(A6>0,VLOOKUP(A6,'BASE FEDERAÇÃO'!$B:$M,2,FALSE),"") -> SATO | C6: =IF(A6>0,VLOOKUP(A6,'BASE FEDERAÇÃO'!$B:$M,3,FALSE),"") -> HIROYUKI | D6: =IF(A6>0,VLOOKUP(A6,'BASE FEDERAÇÃO'!$B:$M,4,FALSE),"") -> M | E6: =IF(A6>0,VLOOKUP(A6,'BASE FEDERAÇÃO'!$B:$M,5,FALSE),"") -> 11. NCC | F6: =IFERROR(VLOOKUP(E6,Base!$G:$H,2,0),"") -> NIPPON COUNTRY | G6: =IF(A6>0,VLOOKUP(A6,'BASE FEDERAÇÃO'!$B:$M,6,FALSE),"") -> 13814 | H6: =IF(A6>0,VLOOKUP(A6,'BASE FEDERAÇÃO'!$B:$M,7,FALSE),"") -> 9 | I6: =IF(A6>0,VLOOKUP(A6,'BASE FEDERAÇÃO'!$B:$M,8,FALSE),"") -> B | J6: =IF(A6="","",VLOOKUP($A6,'BASE FEDERAÇÃO'!$B:$M,9,0)) -> MR | K6: =IF(B6="","",VLOOKUP($A6,'BASE FEDERAÇÃO'!$B:$M,10,0)) -> X | L6: =IFERROR(VLOOKUP(A6,Apuracão!A:A,1,0),"NÃO CONSTA NA APURAÇÃO") -> 308 | M6: =IFERROR(VLOOKUP(A6,GRUPOS!C:C,1,0),"SEM GRUPO") -> 308 | N6: =IF(COUNTIF(A:A,A6)>1,"REPETIDO - CORRIGIR","OK") -> OK | P6: ITAPETININGA | Q6: =COUNTIF($F:$F,P6) -> 6
A7: 320 | B7: =IF(A7>0,VLOOKUP(A7,'BASE FEDERAÇÃO'!$B:$M,2,FALSE),"") -> WAKABAYASHI | C7: =IF(A7>0,VLOOKUP(A7,'BASE FEDERAÇÃO'!$B:$M,3,FALSE),"") -> KOITI | D7: =IF(A7>0,VLOOKUP(A7,'BASE FEDERAÇÃO'!$B:$M,4,FALSE),"") -> M | E7: =IF(A7>0,VLOOKUP(A7,'BASE FEDERAÇÃO'!$B:$M,5,FALSE),"") -> 11. NCC | F7: =IFERROR(VLOOKUP(E7,Base!$G:$H,2,0),"") -> NIPPON COUNTRY | G7: =IF(A7>0,VLOOKUP(A7,'BASE FEDERAÇÃO'!$B:$M,6,FALSE),"") -> 15516 | H7: =IF(A7>0,VLOOKUP(A7,'BASE FEDERAÇÃO'!$B:$M,7,FALSE),"") -> 5 | I7: =IF(A7>0,VLOOKUP(A7,'BASE FEDERAÇÃO'!$B:$M,8,FALSE),"") -> A | J7: =IF(A7="","",VLOOKUP($A7,'BASE FEDERAÇÃO'!$B:$M,9,0)) -> SR | K7: =IF(B7="","",VLOOKUP($A7,'BASE FEDERAÇÃO'!$B:$M,10,0)) -> X | L7: =IFERROR(VLOOKUP(A7,Apuracão!A:A,1,0),"NÃO CONSTA NA APURAÇÃO") -> 320 | M7: =IFERROR(VLOOKUP(A7,GRUPOS!C:C,1,0),"SEM GRUPO") -> 320 | N7: =IF(COUNTIF(A:A,A7)>1,"REPETIDO - CORRIGIR","OK") -> OK | P7: KOKUSHIKAN | Q7: =COUNTIF($F:$F,P7) -> 26 | V7: 4pessoas | W7: 3pessoas | X7: Total
A8: 335 | B8: =IF(A8>0,VLOOKUP(A8,'BASE FEDERAÇÃO'!$B:$M,2,FALSE),"") -> KITANO | C8: =IF(A8>0,VLOOKUP(A8,'BASE FEDERAÇÃO'!$B:$M,3,FALSE),"") -> KAZUO | D8: =IF(A8>0,VLOOKUP(A8,'BASE FEDERAÇÃO'!$B:$M,4,FALSE),"") -> M | E8: =IF(A8>0,VLOOKUP(A8,'BASE FEDERAÇÃO'!$B:$M,5,FALSE),"") -> 11. NCC | F8: =IFERROR(VLOOKUP(E8,Base!$G:$H,2,0),"") -> NIPPON COUNTRY | G8: =IF(A8>0,VLOOKUP(A8,'BASE FEDERAÇÃO'!$B:$M,6,FALSE),"") -> 19890 | H8: =IF(A8>0,VLOOKUP(A8,'BASE FEDERAÇÃO'!$B:$M,7,FALSE),"") -> 8 | I8: =IF(A8>0,VLOOKUP(A8,'BASE FEDERAÇÃO'!$B:$M,8,FALSE),"") -> B | J8: =IF(A8="","",VLOOKUP($A8,'BASE FEDERAÇÃO'!$B:$M,9,0)) -> NSR | K8: =IF(B8="","",VLOOKUP($A8,'BASE FEDERAÇÃO'!$B:$M,10,0)) -> X | L8: =IFERROR(VLOOKUP(A8,Apuracão!A:A,1,0),"NÃO CONSTA NA APURAÇÃO") -> 335 | M8: =IFERROR(VLOOKUP(A8,GRUPOS!C:C,1,0),"SEM GRUPO") -> 335 | N8: =IF(COUNTIF(A:A,A8)>1,"REPETIDO - CORRIGIR","OK") -> OK | P8: NIPPON COUNTRY | Q8: =COUNTIF($F:$F,P8) -> 39 | U8: A + EX | V8: =+V2 -> 16 | W8: =+W2 -> 4 | X8: =+W8+V8 -> 20 | Y8: 20 | Z8: =+X8-Y8 -> 0
A9: 366 | B9: =IF(A9>0,VLOOKUP(A9,'BASE FEDERAÇÃO'!$B:$M,2,FALSE),"") -> KOJA | C9: =IF(A9>0,VLOOKUP(A9,'BASE FEDERAÇÃO'!$B:$M,3,FALSE),"") -> T.EDISON | D9: =IF(A9>0,VLOOKUP(A9,'BASE FEDERAÇÃO'!$B:$M,4,FALSE),"") -> M | E9: =IF(A9>0,VLOOKUP(A9,'BASE FEDERAÇÃO'!$B:$M,5,FALSE),"") -> 11. NCC | F9: =IFERROR(VLOOKUP(E9,Base!$G:$H,2,0),"") -> NIPPON COUNTRY | G9: =IF(A9>0,VLOOKUP(A9,'BASE FEDERAÇÃO'!$B:$M,6,FALSE),"") -> 17495 | H9: =IF(A9>0,VLOOKUP(A9,'BASE FEDERAÇÃO'!$B:$M,7,FALSE),"") -> 4 | I9: =IF(A9>0,VLOOKUP(A9,'BASE FEDERAÇÃO'!$B:$M,8,FALSE),"") -> A | J9: =IF(A9="","",VLOOKUP($A9,'BASE FEDERAÇÃO'!$B:$M,9,0)) -> SR | K9: =IF(B9="","",VLOOKUP($A9,'BASE FEDERAÇÃO'!$B:$M,10,0)) | L9: =IFERROR(VLOOKUP(A9,Apuracão!A:A,1,0),"NÃO CONSTA NA APURAÇÃO") -> 366 | M9: =IFERROR(VLOOKUP(A9,GRUPOS!C:C,1,0),"SEM GRUPO") -> 366 | N9: =IF(COUNTIF(A:A,A9)>1,"REPETIDO - CORRIGIR","OK") -> OK | P9: PIEDADE | Q9: =COUNTIF($F:$F,P9) -> 21 | U9: B + C | V9: =+V3 -> 30 | W9: =+W3 -> 2 | X9: =+W9+V9 -> 32 | Y9: 32 | Z9: =+X9-Y9 -> 0
A10: 375 | B10: =IF(A10>0,VLOOKUP(A10,'BASE FEDERAÇÃO'!$B:$M,2,FALSE),"") -> KOJA | C10: =IF(A10>0,VLOOKUP(A10,'BASE FEDERAÇÃO'!$B:$M,3,FALSE),"") -> J. JORGE | D10: =IF(A10>0,VLOOKUP(A10,'BASE FEDERAÇÃO'!$B:$M,4,FALSE),"") -> M | E10: =IF(A10>0,VLOOKUP(A10,'BASE FEDERAÇÃO'!$B:$M,5,FALSE),"") -> 11. NCC | F10: =IFERROR(VLOOKUP(E10,Base!$G:$H,2,0),"") -> NIPPON COUNTRY | G10: =IF(A10>0,VLOOKUP(A10,'BASE FEDERAÇÃO'!$B:$M,6,FALSE),"") -> 16676 | H10: =IF(A10>0,VLOOKUP(A10,'BASE FEDERAÇÃO'!$B:$M,7,FALSE),"") -> 2 | I10: =IF(A10>0,VLOOKUP(A10,'BASE FEDERAÇÃO'!$B:$M,8,FALSE),"") -> EX | J10: =IF(A10="","",VLOOKUP($A10,'BASE FEDERAÇÃO'!$B:$M,9,0)) -> SR | K10: =IF(B10="","",VLOOKUP($A10,'BASE FEDERAÇÃO'!$B:$M,10,0)) -> X | L10: =IFERROR(VLOOKUP(A10,Apuracão!A:A,1,0),"NÃO CONSTA NA APURAÇÃO") -> 375 | M10: =IFERROR(VLOOKUP(A10,GRUPOS!C:C,1,0),"SEM GRUPO") -> 375 | N10: =IF(COUNTIF(A:A,A10)>1,"REPETIDO - CORRIGIR","OK") -> OK | P10: SÃO M. ARCANJO | Q10: =COUNTIF($F:$F,P10) -> 10 | U10: Total de grupos | V10: =SUM(V8:V9) -> 46 | W10: =SUM(W8:W9) -> 6
A11: 410 | B11: =IF(A11>0,VLOOKUP(A11,'BASE FEDERAÇÃO'!$B:$M,2,FALSE),"") -> YOSHINO | C11: =IF(A11>0,VLOOKUP(A11,'BASE FEDERAÇÃO'!$B:$M,3,FALSE),"") -> GUIDO YOSHIAKI | D11: =IF(A11>0,VLOOKUP(A11,'BASE FEDERAÇÃO'!$B:$M,4,FALSE),"") -> M | E11: =IF(A11>0,VLOOKUP(A11,'BASE FEDERAÇÃO'!$B:$M,5,FALSE),"") -> 11. NCC | F11: =IFERROR(VLOOKUP(E11,Base!$G:$H,2,0),"") -> NIPPON COUNTRY | G11: =IF(A11>0,VLOOKUP(A11,'BASE FEDERAÇÃO'!$B:$M,6,FALSE),"") -> 21607 | H11: =IF(A11>0,VLOOKUP(A11,'BASE FEDERAÇÃO'!$B:$M,7,FALSE),"") -> 12 | I11: =IF(A11>0,VLOOKUP(A11,'BASE FEDERAÇÃO'!$B:$M,8,FALSE),"") -> C | J11: =IF(A11="","",VLOOKUP($A11,'BASE FEDERAÇÃO'!$B:$M,9,0)) -> NSR | K11: =IF(B11="","",VLOOKUP($A11,'BASE FEDERAÇÃO'!$B:$M,10,0)) -> #DIV/0! | L11: =IFERROR(VLOOKUP(A11,Apuracão!A:A,1,0),"NÃO CONSTA NA APURAÇÃO") -> 410 | M11: =IFERROR(VLOOKUP(A11,GRUPOS!C:C,1,0),"SEM GRUPO") -> 410 | N11: =IF(COUNTIF(A:A,A11)>1,"REPETIDO - CORRIGIR","OK") -> OK | P11: SOROCABA | Q11: =COUNTIF($F:$F,P11) -> 14
A12: 411 | B12: =IF(A12>0,VLOOKUP(A12,'BASE FEDERAÇÃO'!$B:$M,2,FALSE),"") -> SATO YOSHINO | C12: =IF(A12>0,VLOOKUP(A12,'BASE FEDERAÇÃO'!$B:$M,3,FALSE),"") -> MARLI | D12: =IF(A12>0,VLOOKUP(A12,'BASE FEDERAÇÃO'!$B:$M,4,FALSE),"") -> F | E12: =IF(A12>0,VLOOKUP(A12,'BASE FEDERAÇÃO'!$B:$M,5,FALSE),"") -> 11. NCC | F12: =IFERROR(VLOOKUP(E12,Base!$G:$H,2,0),"") -> NIPPON COUNTRY | G12: =IF(A12>0,VLOOKUP(A12,'BASE FEDERAÇÃO'!$B:$M,6,FALSE),"") -> 22208 | H12: =IF(A12>0,VLOOKUP(A12,'BASE FEDERAÇÃO'!$B:$M,7,FALSE),"") -> 9 | I12: =IF(A12>0,VLOOKUP(A12,'BASE FEDERAÇÃO'!$B:$M,8,FALSE),"") -> B | J12: =IF(A12="","",VLOOKUP($A12,'BASE FEDERAÇÃO'!$B:$M,9,0)) -> NSR | K12: =IF(B12="","",VLOOKUP($A12,'BASE FEDERAÇÃO'!$B:$M,10,0)) -> #DIV/0! | L12: =IFERROR(VLOOKUP(A12,Apuracão!A:A,1,0),"NÃO CONSTA NA APURAÇÃO") -> 411 | M12: =IFERROR(VLOOKUP(A12,GRUPOS!C:C,1,0),"SEM GRUPO") -> 411 | N12: =IF(COUNTIF(A:A,A12)>1,"REPETIDO - CORRIGIR","OK") -> OK | P12: SUMARÉ | Q12: =COUNTIF($F:$F,P12) -> 7
A13: 427 | B13: =IF(A13>0,VLOOKUP(A13,'BASE FEDERAÇÃO'!$B:$M,2,FALSE),"") -> HORITA | C13: =IF(A13>0,VLOOKUP(A13,'BASE FEDERAÇÃO'!$B:$M,3,FALSE),"") -> SETSUOMI | D13: =IF(A13>0,VLOOKUP(A13,'BASE FEDERAÇÃO'!$B:$M,4,FALSE),"") -> M | E13: =IF(A13>0,VLOOKUP(A13,'BASE FEDERAÇÃO'!$B:$M,5,FALSE),"") -> 11. NCC | F13: =IFERROR(VLOOKUP(E13,Base!$G:$H,2,0),"") -> NIPPON COUNTRY | G13: =IF(A13>0,VLOOKUP(A13,'BASE FEDERAÇÃO'!$B:$M,6,FALSE),"") -> 16582 | H13: =IF(A13>0,VLOOKUP(A13,'BASE FEDERAÇÃO'!$B:$M,7,FALSE),"") -> 4 | I13: =IF(A13>0,VLOOKUP(A13,'BASE FEDERAÇÃO'!$B:$M,8,FALSE),"") -> A | J13: =IF(A13="","",VLOOKUP($A13,'BASE FEDERAÇÃO'!$B:$M,9,0)) -> SR | K13: =IF(B13="","",VLOOKUP($A13,'BASE FEDERAÇÃO'!$B:$M,10,0)) -> X | L13: =IFERROR(VLOOKUP(A13,Apuracão!A:A,1,0),"NÃO CONSTA NA APURAÇÃO") -> 427 | M13: =IFERROR(VLOOKUP(A13,GRUPOS!C:C,1,0),"SEM GRUPO") -> 427 | N13: =IF(COUNTIF(A:A,A13)>1,"REPETIDO - CORRIGIR","OK") -> OK
A14: 472 | B14: =IF(A14>0,VLOOKUP(A14,'BASE FEDERAÇÃO'!$B:$M,2,FALSE),"") -> NAKANO | C14: =IF(A14>0,VLOOKUP(A14,'BASE FEDERAÇÃO'!$B:$M,3,FALSE),"") -> MARIA LUCIA | D14: =IF(A14>0,VLOOKUP(A14,'BASE FEDERAÇÃO'!$B:$M,4,FALSE),"") -> F | E14: =IF(A14>0,VLOOKUP(A14,'BASE FEDERAÇÃO'!$B:$M,5,FALSE),"") -> 11. NCC | F14: =IFERROR(VLOOKUP(E14,Base!$G:$H,2,0),"") -> NIPPON COUNTRY | G14: =IF(A14>0,VLOOKUP(A14,'BASE FEDERAÇÃO'!$B:$M,6,FALSE),"") -> 18638 | H14: =IF(A14>0,VLOOKUP(A14,'BASE FEDERAÇÃO'!$B:$M,7,FALSE),"") -> 6 | I14: =IF(A14>0,VLOOKUP(A14,'BASE FEDERAÇÃO'!$B:$M,8,FALSE),"") -> A | J14: =IF(A14="","",VLOOKUP($A14,'BASE FEDERAÇÃO'!$B:$M,9,0)) -> SR | K14: =IF(B14="","",VLOOKUP($A14,'BASE FEDERAÇÃO'!$B:$M,10,0)) | L14: =IFERROR(VLOOKUP(A14,Apuracão!A:A,1,0),"NÃO CONSTA NA APURAÇÃO") -> 472 | M14: =IFERROR(VLOOKUP(A14,GRUPOS!C:C,1,0),"SEM GRUPO") -> 472 | N14: =IF(COUNTIF(A:A,A14)>1,"REPETIDO - CORRIGIR","OK") -> OK | P14: TOTAL | Q14: =SUM(Q2:Q12) -> 198
A15: 473 | B15: =IF(A15>0,VLOOKUP(A15,'BASE FEDERAÇÃO'!$B:$M,2,FALSE),"") -> NAKANO | C15: =IF(A15>0,VLOOKUP(A15,'BASE FEDERAÇÃO'!$B:$M,3,FALSE),"") -> RUBENS SHOZI | D15: =IF(A15>0,VLOOKUP(A15,'BASE FEDERAÇÃO'!$B:$M,4,FALSE),"") -> M | E15: =IF(A15>0,VLOOKUP(A15,'BASE FEDERAÇÃO'!$B:$M,5,FALSE),"") -> 11. NCC | F15: =IFERROR(VLOOKUP(E15,Base!$G:$H,2,0),"") -> NIPPON COUNTRY | G15: =IF(A15>0,VLOOKUP(A15,'BASE FEDERAÇÃO'!$B:$M,6,FALSE),"") -> 17547 | H15: =IF(A15>0,VLOOKUP(A15,'BASE FEDERAÇÃO'!$B:$M,7,FALSE),"") -> 6 | I15: =IF(A15>0,VLOOKUP(A15,'BASE FEDERAÇÃO'!$B:$M,8,FALSE),"") -> A | J15: =IF(A15="","",VLOOKUP($A15,'BASE FEDERAÇÃO'!$B:$M,9,0)) -> SR | K15: =IF(B15="","",VLOOKUP($A15,'BASE FEDERAÇÃO'!$B:$M,10,0)) -> X | L15: =IFERROR(VLOOKUP(A15,Apuracão!A:A,1,0),"NÃO CONSTA NA APURAÇÃO") -> 473 | M15: =IFERROR(VLOOKUP(A15,GRUPOS!C:C,1,0),"SEM GRUPO") -> 473 | N15: =IF(COUNTIF(A:A,A15)>1,"REPETIDO - CORRIGIR","OK") -> OK | P15: check | Q15: =COUNTA(A2:A1048576)-Q14 -> 0
A16: 478 | B16: =IF(A16>0,VLOOKUP(A16,'BASE FEDERAÇÃO'!$B:$M,2,FALSE),"") -> HIGUCHI | C16: =IF(A16>0,VLOOKUP(A16,'BASE FEDERAÇÃO'!$B:$M,3,FALSE),"") -> ARTUR KEN | D16: =IF(A16>0,VLOOKUP(A16,'BASE FEDERAÇÃO'!$B:$M,4,FALSE),"") -> M | E16: =IF(A16>0,VLOOKUP(A16,'BASE FEDERAÇÃO'!$B:$M,5,FALSE),"") -> 11. NCC | F16: =IFERROR(VLOOKUP(E16,Base!$G:$H,2,0),"") -> NIPPON COUNTRY | G16: =IF(A16>0,VLOOKUP(A16,'BASE FEDERAÇÃO'!$B:$M,6,FALSE),"") -> 19959 | H16: =IF(A16>0,VLOOKUP(A16,'BASE FEDERAÇÃO'!$B:$M,7,FALSE),"") -> 3 | I16: =IF(A16>0,VLOOKUP(A16,'BASE FEDERAÇÃO'!$B:$M,8,FALSE),"") -> EX | J16: =IF(A16="","",VLOOKUP($A16,'BASE FEDERAÇÃO'!$B:$M,9,0)) -> NSR | K16: =IF(B16="","",VLOOKUP($A16,'BASE FEDERAÇÃO'!$B:$M,10,0)) -> X | L16: =IFERROR(VLOOKUP(A16,Apuracão!A:A,1,0),"NÃO CONSTA NA APURAÇÃO") -> 478 | M16: =IFERROR(VLOOKUP(A16,GRUPOS!C:C,1,0),"SEM GRUPO") -> 478 | N16: =IF(COUNTIF(A:A,A16)>1,"REPETIDO - CORRIGIR","OK") -> OK
A17: 479 | B17: =IF(A17>0,VLOOKUP(A17,'BASE FEDERAÇÃO'!$B:$M,2,FALSE),"") -> SATO | C17: =IF(A17>0,VLOOKUP(A17,'BASE FEDERAÇÃO'!$B:$M,3,FALSE),"") -> EDSON ATUSHI | D17: =IF(A17>0,VLOOKUP(A17,'BASE FEDERAÇÃO'!$B:$M,4,FALSE),"") -> M | E17: =IF(A17>0,VLOOKUP(A17,'BASE FEDERAÇÃO'!$B:$M,5,FALSE),"") -> 11. NCC | F17: =IFERROR(VLOOKUP(E17,Base!$G:$H,2,0),"") -> NIPPON COUNTRY | G17: =IF(A17>0,VLOOKUP(A17,'BASE FEDERAÇÃO'!$B:$M,6,FALSE),"") -> 15912 | H17: =IF(A17>0,VLOOKUP(A17,'BASE FEDERAÇÃO'!$B:$M,7,FALSE),"") -> 12 | I17: =IF(A17>0,VLOOKUP(A17,'BASE FEDERAÇÃO'!$B:$M,8,FALSE),"") -> C | J17: =IF(A17="","",VLOOKUP($A17,'BASE FEDERAÇÃO'!$B:$M,9,0)) -> SR | K17: =IF(B17="","",VLOOKUP($A17,'BASE FEDERAÇÃO'!$B:$M,10,0)) -> X | L17: =IFERROR(VLOOKUP(A17,Apuracão!A:A,1,0),"NÃO CONSTA NA APURAÇÃO") -> 479 | M17: =IFERROR(VLOOKUP(A17,GRUPOS!C:C,1,0),"SEM GRUPO") -> 479 | N17: =IF(COUNTIF(A:A,A17)>1,"REPETIDO - CORRIGIR","OK") -> OK
A18: 480 | B18: =IF(A18>0,VLOOKUP(A18,'BASE FEDERAÇÃO'!$B:$M,2,FALSE),"") -> SIGAKI HIGUCHI | C18: =IF(A18>0,VLOOKUP(A18,'BASE FEDERAÇÃO'!$B:$M,3,FALSE),"") -> LOURDES YASSUKO | D18: =IF(A18>0,VLOOKUP(A18,'BASE FEDERAÇÃO'!$B:$M,4,FALSE),"") -> F | E18: =IF(A18>0,VLOOKUP(A18,'BASE FEDERAÇÃO'!$B:$M,5,FALSE),"") -> 11. NCC | F18: =IFERROR(VLOOKUP(E18,Base!$G:$H,2,0),"") -> NIPPON COUNTRY | G18: =IF(A18>0,VLOOKUP(A18,'BASE FEDERAÇÃO'!$B:$M,6,FALSE),"") -> 20585 | H18: =IF(A18>0,VLOOKUP(A18,'BASE FEDERAÇÃO'!$B:$M,7,FALSE),"") -> 6 | I18: =IF(A18>0,VLOOKUP(A18,'BASE FEDERAÇÃO'!$B:$M,8,FALSE),"") -> A | J18: =IF(A18="","",VLOOKUP($A18,'BASE FEDERAÇÃO'!$B:$M,9,0)) -> NSR | K18: =IF(B18="","",VLOOKUP($A18,'BASE FEDERAÇÃO'!$B:$M,10,0)) -> X | L18: =IFERROR(VLOOKUP(A18,Apuracão!A:A,1,0),"NÃO CONSTA NA APURAÇÃO") -> 480 | M18: =IFERROR(VLOOKUP(A18,GRUPOS!C:C,1,0),"SEM GRUPO") -> 480 | N18: =IF(COUNTIF(A:A,A18)>1,"REPETIDO - CORRIGIR","OK") -> OK
A19: 506 | B19: =IF(A19>0,VLOOKUP(A19,'BASE FEDERAÇÃO'!$B:$M,2,FALSE),"") -> KIYOHARA | C19: =IF(A19>0,VLOOKUP(A19,'BASE FEDERAÇÃO'!$B:$M,3,FALSE),"") -> IKUO | D19: =IF(A19>0,VLOOKUP(A19,'BASE FEDERAÇÃO'!$B:$M,4,FALSE),"") -> M | E19: =IF(A19>0,VLOOKUP(A19,'BASE FEDERAÇÃO'!$B:$M,5,FALSE),"") -> 11. NCC | F19: =IFERROR(VLOOKUP(E19,Base!$G:$H,2,0),"") -> NIPPON COUNTRY | G19: =IF(A19>0,VLOOKUP(A19,'BASE FEDERAÇÃO'!$B:$M,6,FALSE),"") -> 14496 | H19: =IF(A19>0,VLOOKUP(A19,'BASE FEDERAÇÃO'!$B:$M,7,FALSE),"") -> 9 | I19: =IF(A19>0,VLOOKUP(A19,'BASE FEDERAÇÃO'!$B:$M,8,FALSE),"") -> B | J19: =IF(A19="","",VLOOKUP($A19,'BASE FEDERAÇÃO'!$B:$M,9,0)) -> MR | K19: =IF(B19="","",VLOOKUP($A19,'BASE FEDERAÇÃO'!$B:$M,10,0)) | L19: =IFERROR(VLOOKUP(A19,Apuracão!A:A,1,0),"NÃO CONSTA NA APURAÇÃO") -> 506 | M19: =IFERROR(VLOOKUP(A19,GRUPOS!C:C,1,0),"SEM GRUPO") -> 506 | N19: =IF(COUNTIF(A:A,A19)>1,"REPETIDO - CORRIGIR","OK") -> OK
A20: 539 | B20: =IF(A20>0,VLOOKUP(A20,'BASE FEDERAÇÃO'!$B:$M,2,FALSE),"") -> NICIHOKA | C20: =IF(A20>0,VLOOKUP(A20,'BASE FEDERAÇÃO'!$B:$M,3,FALSE),"") -> LUCIA MIEKO | D20: =IF(A20>0,VLOOKUP(A20,'BASE FEDERAÇÃO'!$B:$M,4,FALSE),"") -> F | E20: =IF(A20>0,VLOOKUP(A20,'BASE FEDERAÇÃO'!$B:$M,5,FALSE),"") -> 11. NCC | F20: =IFERROR(VLOOKUP(E20,Base!$G:$H,2,0),"") -> NIPPON COUNTRY | G20: =IF(A20>0,VLOOKUP(A20,'BASE FEDERAÇÃO'!$B:$M,6,FALSE),"") -> 21429 | H20: =IF(A20>0,VLOOKUP(A20,'BASE FEDERAÇÃO'!$B:$M,7,FALSE),"") -> 9 | I20: =IF(A20>0,VLOOKUP(A20,'BASE FEDERAÇÃO'!$B:$M,8,FALSE),"") -> B | J20: =IF(A20="","",VLOOKUP($A20,'BASE FEDERAÇÃO'!$B:$M,9,0)) -> NSR | K20: =IF(B20="","",VLOOKUP($A20,'BASE FEDERAÇÃO'!$B:$M,10,0)) -> X | L20: =IFERROR(VLOOKUP(A20,Apuracão!A:A,1,0),"NÃO CONSTA NA APURAÇÃO") -> 539 | M20: =IFERROR(VLOOKUP(A20,GRUPOS!C:C,1,0),"SEM GRUPO") -> 539 | N20: =IF(COUNTIF(A:A,A20)>1,"REPETIDO - CORRIGIR","OK") -> OK
A21: 637 | B21: =IF(A21>0,VLOOKUP(A21,'BASE FEDERAÇÃO'!$B:$M,2,FALSE),"") -> RIBEIRO DE SOUZA | C21: =IF(A21>0,VLOOKUP(A21,'BASE FEDERAÇÃO'!$B:$M,3,FALSE),"") -> TANIA DE FATIMA | D21: =IF(A21>0,VLOOKUP(A21,'BASE FEDERAÇÃO'!$B:$M,4,FALSE),"") -> F | E21: =IF(A21>0,VLOOKUP(A21,'BASE FEDERAÇÃO'!$B:$M,5,FALSE),"") -> 11. NCC | F21: =IFERROR(VLOOKUP(E21,Base!$G:$H,2,0),"") -> NIPPON COUNTRY | G21: =IF(A21>0,VLOOKUP(A21,'BASE FEDERAÇÃO'!$B:$M,6,FALSE),"") -> 23251 | H21: =IF(A21>0,VLOOKUP(A21,'BASE FEDERAÇÃO'!$B:$M,7,FALSE),"") -> 3 | I21: =IF(A21>0,VLOOKUP(A21,'BASE FEDERAÇÃO'!$B:$M,8,FALSE),"") -> EX | J21: =IF(A21="","",VLOOKUP($A21,'BASE FEDERAÇÃO'!$B:$M,9,0)) -> NSR | K21: =IF(B21="","",VLOOKUP($A21,'BASE FEDERAÇÃO'!$B:$M,10,0)) -> X | L21: =IFERROR(VLOOKUP(A21,Apuracão!A:A,1,0),"NÃO CONSTA NA APURAÇÃO") -> 637 | M21: =IFERROR(VLOOKUP(A21,GRUPOS!C:C,1,0),"SEM GRUPO") -> 637 | N21: =IF(COUNTIF(A:A,A21)>1,"REPETIDO - CORRIGIR","OK") -> OK
A22: 656 | B22: =IF(A22>0,VLOOKUP(A22,'BASE FEDERAÇÃO'!$B:$M,2,FALSE),"") -> MORISHITA | C22: =IF(A22>0,VLOOKUP(A22,'BASE FEDERAÇÃO'!$B:$M,3,FALSE),"") -> MASAHARU | D22: =IF(A22>0,VLOOKUP(A22,'BASE FEDERAÇÃO'!$B:$M,4,FALSE),"") -> M | E22: =IF(A22>0,VLOOKUP(A22,'BASE FEDERAÇÃO'!$B:$M,5,FALSE),"") -> 11. NCC | F22: =IFERROR(VLOOKUP(E22,Base!$G:$H,2,0),"") -> NIPPON COUNTRY | G22: =IF(A22>0,VLOOKUP(A22,'BASE FEDERAÇÃO'!$B:$M,6,FALSE),"") -> 17774 | H22: =IF(A22>0,VLOOKUP(A22,'BASE FEDERAÇÃO'!$B:$M,7,FALSE),"") -> 3 | I22: =IF(A22>0,VLOOKUP(A22,'BASE FEDERAÇÃO'!$B:$M,8,FALSE),"") -> EX | J22: =IF(A22="","",VLOOKUP($A22,'BASE FEDERAÇÃO'!$B:$M,9,0)) -> SR | K22: =IF(B22="","",VLOOKUP($A22,'BASE FEDERAÇÃO'!$B:$M,10,0)) -> X | L22: =IFERROR(VLOOKUP(A22,Apuracão!A:A,1,0),"NÃO CONSTA NA APURAÇÃO") -> 656 | M22: =IFERROR(VLOOKUP(A22,GRUPOS!C:C,1,0),"SEM GRUPO") -> 656 | N22: =IF(COUNTIF(A:A,A22)>1,"REPETIDO - CORRIGIR","OK") -> OK
A23: 677 | B23: =IF(A23>0,VLOOKUP(A23,'BASE FEDERAÇÃO'!$B:$M,2,FALSE),"") -> KANASHIRO | C23: =IF(A23>0,VLOOKUP(A23,'BASE FEDERAÇÃO'!$B:$M,3,FALSE),"") -> TERUMI APARECIDO | D23: =IF(A23>0,VLOOKUP(A23,'BASE FEDERAÇÃO'!$B:$M,4,FALSE),"") -> M | E23: =IF(A23>0,VLOOKUP(A23,'BASE FEDERAÇÃO'!$B:$M,5,FALSE),"") -> 11. NCC | F23: =IFERROR(VLOOKUP(E23,Base!$G:$H,2,0),"") -> NIPPON COUNTRY | G23: =IF(A23>0,VLOOKUP(A23,'BASE FEDERAÇÃO'!$B:$M,6,FALSE),"") -> 19681 | H23: =IF(A23>0,VLOOKUP(A23,'BASE FEDERAÇÃO'!$B:$M,7,FALSE),"") -> 4 | I23: =IF(A23>0,VLOOKUP(A23,'BASE FEDERAÇÃO'!$B:$M,8,FALSE),"") -> A | J23: =IF(A23="","",VLOOKUP($A23,'BASE FEDERAÇÃO'!$B:$M,9,0)) -> NSR | K23: =IF(B23="","",VLOOKUP($A23,'BASE FEDERAÇÃO'!$B:$M,10,0)) -> X | L23: =IFERROR(VLOOKUP(A23,Apuracão!A:A,1,0),"NÃO CONSTA NA APURAÇÃO") -> 677 | M23: =IFERROR(VLOOKUP(A23,GRUPOS!C:C,1,0),"SEM GRUPO") -> 677 | N23: =IF(COUNTIF(A:A,A23)>1,"REPETIDO - CORRIGIR","OK") -> OK
A24: 719 | B24: =IF(A24>0,VLOOKUP(A24,'BASE FEDERAÇÃO'!$B:$M,2,FALSE),"") -> AZEVEDO | C24: =IF(A24>0,VLOOKUP(A24,'BASE FEDERAÇÃO'!$B:$M,3,FALSE),"") -> IDELSON | D24: =IF(A24>0,VLOOKUP(A24,'BASE FEDERAÇÃO'!$B:$M,4,FALSE),"") -> M | E24: =IF(A24>0,VLOOKUP(A24,'BASE FEDERAÇÃO'!$B:$M,5,FALSE),"") -> 11. NCC | F24: =IFERROR(VLOOKUP(E24,Base!$G:$H,2,0),"") -> NIPPON COUNTRY | G24: =IF(A24>0,VLOOKUP(A24,'BASE FEDERAÇÃO'!$B:$M,6,FALSE),"") -> 16509 | H24: =IF(A24>0,VLOOKUP(A24,'BASE FEDERAÇÃO'!$B:$M,7,FALSE),"") -> 8 | I24: =IF(A24>0,VLOOKUP(A24,'BASE FEDERAÇÃO'!$B:$M,8,FALSE),"") -> B | J24: =IF(A24="","",VLOOKUP($A24,'BASE FEDERAÇÃO'!$B:$M,9,0)) -> SR | K24: =IF(B24="","",VLOOKUP($A24,'BASE FEDERAÇÃO'!$B:$M,10,0)) -> X | L24: =IFERROR(VLOOKUP(A24,Apuracão!A:A,1,0),"NÃO CONSTA NA APURAÇÃO") -> 719 | M24: =IFERROR(VLOOKUP(A24,GRUPOS!C:C,1,0),"SEM GRUPO") -> 719 | N24: =IF(COUNTIF(A:A,A24)>1,"REPETIDO - CORRIGIR","OK") -> OK
A25: 733 | B25: =IF(A25>0,VLOOKUP(A25,'BASE FEDERAÇÃO'!$B:$M,2,FALSE),"") -> WATANABE | C25: =IF(A25>0,VLOOKUP(A25,'BASE FEDERAÇÃO'!$B:$M,3,FALSE),"") -> EMILIA | D25: =IF(A25>0,VLOOKUP(A25,'BASE FEDERAÇÃO'!$B:$M,4,FALSE),"") -> F | E25: =IF(A25>0,VLOOKUP(A25,'BASE FEDERAÇÃO'!$B:$M,5,FALSE),"") -> 11. NCC | F25: =IFERROR(VLOOKUP(E25,Base!$G:$H,2,0),"") -> NIPPON COUNTRY | G25: =IF(A25>0,VLOOKUP(A25,'BASE FEDERAÇÃO'!$B:$M,6,FALSE),"") -> 20589 | H25: =IF(A25>0,VLOOKUP(A25,'BASE FEDERAÇÃO'!$B:$M,7,FALSE),"") -> 3 | I25: =IF(A25>0,VLOOKUP(A25,'BASE FEDERAÇÃO'!$B:$M,8,FALSE),"") -> EX | J25: =IF(A25="","",VLOOKUP($A25,'BASE FEDERAÇÃO'!$B:$M,9,0)) -> NSR | K25: =IF(B25="","",VLOOKUP($A25,'BASE FEDERAÇÃO'!$B:$M,10,0)) -> X | L25: =IFERROR(VLOOKUP(A25,Apuracão!A:A,1,0),"NÃO CONSTA NA APURAÇÃO") -> 733 | M25: =IFERROR(VLOOKUP(A25,GRUPOS!C:C,1,0),"SEM GRUPO") -> 733 | N25: =IF(COUNTIF(A:A,A25)>1,"REPETIDO - CORRIGIR","OK") -> OK
A26: 781 | B26: =IF(A26>0,VLOOKUP(A26,'BASE FEDERAÇÃO'!$B:$M,2,FALSE),"") -> KOJA | C26: =IF(A26>0,VLOOKUP(A26,'BASE FEDERAÇÃO'!$B:$M,3,FALSE),"") -> MARIO | D26: =IF(A26>0,VLOOKUP(A26,'BASE FEDERAÇÃO'!$B:$M,4,FALSE),"") -> M | E26: =IF(A26>0,VLOOKUP(A26,'BASE FEDERAÇÃO'!$B:$M,5,FALSE),"") -> 11. NCC | F26: =IFERROR(VLOOKUP(E26,Base!$G:$H,2,0),"") -> NIPPON COUNTRY | G26: =IF(A26>0,VLOOKUP(A26,'BASE FEDERAÇÃO'!$B:$M,6,FALSE),"") -> 18155 | H26: =IF(A26>0,VLOOKUP(A26,'BASE FEDERAÇÃO'!$B:$M,7,FALSE),"") -> 9 | I26: =IF(A26>0,VLOOKUP(A26,'BASE FEDERAÇÃO'!$B:$M,8,FALSE),"") -> B | J26: =IF(A26="","",VLOOKUP($A26,'BASE FEDERAÇÃO'!$B:$M,9,0)) -> SR | K26: =IF(B26="","",VLOOKUP($A26,'BASE FEDERAÇÃO'!$B:$M,10,0)) | L26: =IFERROR(VLOOKUP(A26,Apuracão!A:A,1,0),"NÃO CONSTA NA APURAÇÃO") -> 781 | M26: =IFERROR(VLOOKUP(A26,GRUPOS!C:C,1,0),"SEM GRUPO") -> 781 | N26: =IF(COUNTIF(A:A,A26)>1,"REPETIDO - CORRIGIR","OK") -> OK
A27: 786 | B27: =IF(A27>0,VLOOKUP(A27,'BASE FEDERAÇÃO'!$B:$M,2,FALSE),"") -> KAMIMURA | C27: =IF(A27>0,VLOOKUP(A27,'BASE FEDERAÇÃO'!$B:$M,3,FALSE),"") -> PAULO Y. | D27: =IF(A27>0,VLOOKUP(A27,'BASE FEDERAÇÃO'!$B:$M,4,FALSE),"") -> M | E27: =IF(A27>0,VLOOKUP(A27,'BASE FEDERAÇÃO'!$B:$M,5,FALSE),"") -> 11. NCC | F27: =IFERROR(VLOOKUP(E27,Base!$G:$H,2,0),"") -> NIPPON COUNTRY | G27: =IF(A27>0,VLOOKUP(A27,'BASE FEDERAÇÃO'!$B:$M,6,FALSE),"") -> 23165 | H27: =IF(A27>0,VLOOKUP(A27,'BASE FEDERAÇÃO'!$B:$M,7,FALSE),"") -> 2 | I27: =IF(A27>0,VLOOKUP(A27,'BASE FEDERAÇÃO'!$B:$M,8,FALSE),"") -> EX | J27: =IF(A27="","",VLOOKUP($A27,'BASE FEDERAÇÃO'!$B:$M,9,0)) -> NSR | K27: =IF(B27="","",VLOOKUP($A27,'BASE FEDERAÇÃO'!$B:$M,10,0)) | L27: =IFERROR(VLOOKUP(A27,Apuracão!A:A,1,0),"NÃO CONSTA NA APURAÇÃO") -> 786 | M27: =IFERROR(VLOOKUP(A27,GRUPOS!C:C,1,0),"SEM GRUPO") -> 786 | N27: =IF(COUNTIF(A:A,A27)>1,"REPETIDO - CORRIGIR","OK") -> OK
... A40: 977 | B40: =IF(A40>0,VLOOKUP(A40,'BASE FEDERAÇÃO'!$B:$M,2,FALSE),"") -> DE ARAUJO A. GOMES | C40: =IF(A40>0,VLOOKUP(A40,'BASE FEDERAÇÃO'!$B:$M,3,FALSE),"") -> ROSIMAR | D40: =IF(A40>0,VLOOKUP(A40,'BASE FEDERAÇÃO'!$B:$M,4,FALSE),"") -> F | E40: =IF(A40>0,VLOOKUP(A40,'BASE FEDERAÇÃO'!$B:$M,5,FALSE),"") -> 11. NCC | F40: =IFERROR(VLOOKUP(E40,Base!$G:$H,2,0),"") -> NIPPON COUNTRY | G40: =IF(A40>0,VLOOKUP(A40,'BASE FEDERAÇÃO'!$B:$M,6,FALSE),"") -> 23484 | H40: =IF(A40>0,VLOOKUP(A40,'BASE FEDERAÇÃO'!$B:$M,7,FALSE),"") -> 9 | I40: =IF(A40>0,VLOOKUP(A40,'BASE FEDERAÇÃO'!$B:$M,8,FALSE),"") -> B | J40: =IF(A40="","",VLOOKUP($A40,'BASE FEDERAÇÃO'!$B:$M,9,0)) -> NSR | K40: =IF(B40="","",VLOOKUP($A40,'BASE FEDERAÇÃO'!$B:$M,10,0)) -> X | L40: =IFERROR(VLOOKUP(A40,Apuracão!A:A,1,0),"NÃO CONSTA NA APURAÇÃO") -> 977 | M40: =IFERROR(VLOOKUP(A40,GRUPOS!C:C,1,0),"SEM GRUPO") -> 977 | N40: =IF(COUNTIF(A:A,A40)>1,"REPETIDO - CORRIGIR","OK") -> OK
B41: =IF(A41>0,VLOOKUP(A41,'BASE FEDERAÇÃO'!$B:$M,2,FALSE),"") | C41: =IF(A41>0,VLOOKUP(A41,'BASE FEDERAÇÃO'!$B:$M,3,FALSE),"") | D41: =IF(A41>0,VLOOKUP(A41,'BASE FEDERAÇÃO'!$B:$M,4,FALSE),"") | E41: =IF(A41>0,VLOOKUP(A41,'BASE FEDERAÇÃO'!$B:$M,5,FALSE),"") | F41: =IFERROR(VLOOKUP(E41,Base!$G:$H,2,0),"") | G41: =IF(A41>0,VLOOKUP(A41,'BASE FEDERAÇÃO'!$B:$M,6,FALSE),"") | H41: =IF(A41>0,VLOOKUP(A41,'BASE FEDERAÇÃO'!$B:$M,7,FALSE),"") | I41: =IF(A41>0,VLOOKUP(A41,'BASE FEDERAÇÃO'!$B:$M,8,FALSE),"") | J41: =IF(A41="","",VLOOKUP($A41,'BASE FEDERAÇÃO'!$B:$M,9,0)) | K41: =IF(B41="","",VLOOKUP($A41,'BASE FEDERAÇÃO'!$B:$M,10,0)) | L41: =IFERROR(VLOOKUP(A41,Apuracão!A:A,1,0),"NÃO CONSTA NA APURAÇÃO") -> NÃO CONSTA NA APURAÇÃO | M41: =IFERROR(VLOOKUP(A41,GRUPOS!C:C,1,0),"SEM GRUPO") -> SEM GRUPO | N41: =IF(COUNTIF(A:A,A41)>1,"REPETIDO - CORRIGIR","OK") -> OK
A42: 152 | B42: =IF(A42>0,VLOOKUP(A42,'BASE FEDERAÇÃO'!$B:$M,2,FALSE),"") -> SHIRAHATA | C42: =IF(A42>0,VLOOKUP(A42,'BASE FEDERAÇÃO'!$B:$M,3,FALSE),"") -> MAKOTO | D42: =IF(A42>0,VLOOKUP(A42,'BASE FEDERAÇÃO'!$B:$M,4,FALSE),"") -> M | E42: =IF(A42>0,VLOOKUP(A42,'BASE FEDERAÇÃO'!$B:$M,5,FALSE),"") -> 06. KOK | F42: =IFERROR(VLOOKUP(E42,Base!$G:$H,2,0),"") -> KOKUSHIKAN | G42: =IF(A42>0,VLOOKUP(A42,'BASE FEDERAÇÃO'!$B:$M,6,FALSE),"") -> 13189 | H42: =IF(A42>0,VLOOKUP(A42,'BASE FEDERAÇÃO'!$B:$M,7,FALSE),"") -> 9 | I42: =IF(A42>0,VLOOKUP(A42,'BASE FEDERAÇÃO'!$B:$M,8,FALSE),"") -> B | J42: =IF(A42="","",VLOOKUP($A42,'BASE FEDERAÇÃO'!$B:$M,9,0)) -> MR | K42: =IF(B42="","",VLOOKUP($A42,'BASE FEDERAÇÃO'!$B:$M,10,0)) | L42: =IFERROR(VLOOKUP(A42,Apuracão!A:A,1,0),"NÃO CONSTA NA APURAÇÃO") -> 152 | M42: =IFERROR(VLOOKUP(A42,GRUPOS!C:C,1,0),"SEM GRUPO") -> 152 | N42: =IF(COUNTIF(A:A,A42)>1,"REPETIDO - CORRIGIR","OK") -> OK
A43: 167 | B43: =IF(A43>0,VLOOKUP(A43,'BASE FEDERAÇÃO'!$B:$M,2,FALSE),"") -> NOZAWA | C43: =IF(A43>0,VLOOKUP(A43,'BASE FEDERAÇÃO'!$B:$M,3,FALSE),"") -> YURIKO | D43: =IF(A43>0,VLOOKUP(A43,'BASE FEDERAÇÃO'!$B:$M,4,FALSE),"") -> F | E43: =IF(A43>0,VLOOKUP(A43,'BASE FEDERAÇÃO'!$B:$M,5,FALSE),"") -> 06. KOK | F43: =IFERROR(VLOOKUP(E43,Base!$G:$H,2,0),"") -> KOKUSHIKAN | G43: =IF(A43>0,VLOOKUP(A43,'BASE FEDERAÇÃO'!$B:$M,6,FALSE),"") -> 13844 | H43: =IF(A43>0,VLOOKUP(A43,'BASE FEDERAÇÃO'!$B:$M,7,FALSE),"") -> 12 | I43: =IF(A43>0,VLOOKUP(A43,'BASE FEDERAÇÃO'!$B:$M,8,FALSE),"") -> C | J43: =IF(A43="","",VLOOKUP($A43,'BASE FEDERAÇÃO'!$B:$M,9,0)) -> MR | K43: =IF(B43="","",VLOOKUP($A43,'BASE FEDERAÇÃO'!$B:$M,10,0)) | L43: =IFERROR(VLOOKUP(A43,Apuracão!A:A,1,0),"NÃO CONSTA NA APURAÇÃO") -> 167 | M43: =IFERROR(VLOOKUP(A43,GRUPOS!C:C,1,0),"SEM GRUPO") -> 167 | N43: =IF(COUNTIF(A:A,A43)>1,"REPETIDO - CORRIGIR","OK") -> OK
A44: 169 | B44: =IF(A44>0,VLOOKUP(A44,'BASE FEDERAÇÃO'!$B:$M,2,FALSE),"") -> SILVA | C44: =IF(A44>0,VLOOKUP(A44,'BASE FEDERAÇÃO'!$B:$M,3,FALSE),"") -> MANOEL | D44: =IF(A44>0,VLOOKUP(A44,'BASE FEDERAÇÃO'!$B:$M,4,FALSE),"") -> M | E44: =IF(A44>0,VLOOKUP(A44,'BASE FEDERAÇÃO'!$B:$M,5,FALSE),"") -> 06. KOK | F44: =IFERROR(VLOOKUP(E44,Base!$G:$H,2,0),"") -> KOKUSHIKAN | G44: =IF(A44>0,VLOOKUP(A44,'BASE FEDERAÇÃO'!$B:$M,6,FALSE),"") -> 20205 | H44: =IF(A44>0,VLOOKUP(A44,'BASE FEDERAÇÃO'!$B:$M,7,FALSE),"") -> 9 | I44: =IF(A44>0,VLOOKUP(A44,'BASE FEDERAÇÃO'!$B:$M,8,FALSE),"") -> B | J44: =IF(A44="","",VLOOKUP($A44,'BASE FEDERAÇÃO'!$B:$M,9,0)) -> NSR | K44: =IF(B44="","",VLOOKUP($A44,'BASE FEDERAÇÃO'!$B:$M,10,0)) | L44: =IFERROR(VLOOKUP(A44,Apuracão!A:A,1,0),"NÃO CONSTA NA APURAÇÃO") -> 169 | M44: =IFERROR(VLOOKUP(A44,GRUPOS!C:C,1,0),"SEM GRUPO") -> 169 | N44: =IF(COUNTIF(A:A,A44)>1,"REPETIDO - CORRIGIR","OK") -> OK
A45: 176 | B45: =IF(A45>0,VLOOKUP(A45,'BASE FEDERAÇÃO'!$B:$M,2,FALSE),"") -> SHAKUDA | C45: =IF(A45>0,VLOOKUP(A45,'BASE FEDERAÇÃO'!$B:$M,3,FALSE),"") -> MIYOKO | D45: =IF(A45>0,VLOOKUP(A45,'BASE FEDERAÇÃO'!$B:$M,4,FALSE),"") -> F | E45: =IF(A45>0,VLOOKUP(A45,'BASE FEDERAÇÃO'!$B:$M,5,FALSE),"") -> 06. KOK | F45: =IFERROR(VLOOKUP(E45,Base!$G:$H,2,0),"") -> KOKUSHIKAN | G45: =IF(A45>0,VLOOKUP(A45,'BASE FEDERAÇÃO'!$B:$M,6,FALSE),"") -> 15849 | H45: =IF(A45>0,VLOOKUP(A45,'BASE FEDERAÇÃO'!$B:$M,7,FALSE),"") -> 12 | I45: =IF(A45>0,VLOOKUP(A45,'BASE FEDERAÇÃO'!$B:$M,8,FALSE),"") -> C | J45: =IF(A45="","",VLOOKUP($A45,'BASE FEDERAÇÃO'!$B:$M,9,0)) -> SR | K45: =IF(B45="","",VLOOKUP($A45,'BASE FEDERAÇÃO'!$B:$M,10,0)) | L45: =IFERROR(VLOOKUP(A45,Apuracão!A:A,1,0),"NÃO CONSTA NA APURAÇÃO") -> 176 | M45: =IFERROR(VLOOKUP(A45,GRUPOS!C:C,1,0),"SEM GRUPO") -> 176 | N45: =IF(COUNTIF(A:A,A45)>1,"REPETIDO - CORRIGIR","OK") -> OK
A46: 270 | B46: =IF(A46>0,VLOOKUP(A46,'BASE FEDERAÇÃO'!$B:$M,2,FALSE),"") -> NOZAWA | C46: =IF(A46>0,VLOOKUP(A46,'BASE FEDERAÇÃO'!$B:$M,3,FALSE),"") -> ASSAMI | D46: =IF(A46>0,VLOOKUP(A46,'BASE FEDERAÇÃO'!$B:$M,4,FALSE),"") -> F | E46: =IF(A46>0,VLOOKUP(A46,'BASE FEDERAÇÃO'!$B:$M,5,FALSE),"") -> 06. KOK | F46: =IFERROR(VLOOKUP(E46,Base!$G:$H,2,0),"") -> KOKUSHIKAN | G46: =IF(A46>0,VLOOKUP(A46,'BASE FEDERAÇÃO'!$B:$M,6,FALSE),"") -> 23351 | H46: =IF(A46>0,VLOOKUP(A46,'BASE FEDERAÇÃO'!$B:$M,7,FALSE),"") -> 12 | I46: =IF(A46>0,VLOOKUP(A46,'BASE FEDERAÇÃO'!$B:$M,8,FALSE),"") -> C | J46: =IF(A46="","",VLOOKUP($A46,'BASE FEDERAÇÃO'!$B:$M,9,0)) -> NSR | K46: =IF(B46="","",VLOOKUP($A46,'BASE FEDERAÇÃO'!$B:$M,10,0)) | L46: =IFERROR(VLOOKUP(A46,Apuracão!A:A,1,0),"NÃO CONSTA NA APURAÇÃO") -> 270 | M46: =IFERROR(VLOOKUP(A46,GRUPOS!C:C,1,0),"SEM GRUPO") -> 270 | N46: =IF(COUNTIF(A:A,A46)>1,"REPETIDO - CORRIGIR","OK") -> OK
A47: 273 | B47: =IF(A47>0,VLOOKUP(A47,'BASE FEDERAÇÃO'!$B:$M,2,FALSE),"") -> SHAKUDA | C47: =IF(A47>0,VLOOKUP(A47,'BASE FEDERAÇÃO'!$B:$M,3,FALSE),"") -> TADASHI | D47: =IF(A47>0,VLOOKUP(A47,'BASE FEDERAÇÃO'!$B:$M,4,FALSE),"") -> M | E47: =IF(A47>0,VLOOKUP(A47,'BASE FEDERAÇÃO'!$B:$M,5,FALSE),"") -> 06. KOK | F47: =IFERROR(VLOOKUP(E47,Base!$G:$H,2,0),"") -> KOKUSHIKAN | G47: =IF(A47>0,VLOOKUP(A47,'BASE FEDERAÇÃO'!$B:$M,6,FALSE),"") -> 15013 | H47: =IF(A47>0,VLOOKUP(A47,'BASE FEDERAÇÃO'!$B:$M,7,FALSE),"") -> 7 | I47: =IF(A47>0,VLOOKUP(A47,'BASE FEDERAÇÃO'!$B:$M,8,FALSE),"") -> B | J47: =IF(A47="","",VLOOKUP($A47,'BASE FEDERAÇÃO'!$B:$M,9,0)) -> MR | K47: =IF(B47="","",VLOOKUP($A47,'BASE FEDERAÇÃO'!$B:$M,10,0)) -> X | L47: =IFERROR(VLOOKUP(A47,Apuracão!A:A,1,0),"NÃO CONSTA NA APURAÇÃO") -> 273 | M47: =IFERROR(VLOOKUP(A47,GRUPOS!C:C,1,0),"SEM GRUPO") -> 273 | N47: =IF(COUNTIF(A:A,A47)>1,"REPETIDO - CORRIGIR","OK") -> OK
A48: 342 | B48: =IF(A48>0,VLOOKUP(A48,'BASE FEDERAÇÃO'!$B:$M,2,FALSE),"") -> TOBIMATSU | C48: =IF(A48>0,VLOOKUP(A48,'BASE FEDERAÇÃO'!$B:$M,3,FALSE),"") -> SHINYA | D48: =IF(A48>0,VLOOKUP(A48,'BASE FEDERAÇÃO'!$B:$M,4,FALSE),"") -> M | E48: =IF(A48>0,VLOOKUP(A48,'BASE FEDERAÇÃO'!$B:$M,5,FALSE),"") -> 06. KOK | F48: =IFERROR(VLOOKUP(E48,Base!$G:$H,2,0),"") -> KOKUSHIKAN | G48: =IF(A48>0,VLOOKUP(A48,'BASE FEDERAÇÃO'!$B:$M,6,FALSE),"") -> 17774 | H48: =IF(A48>0,VLOOKUP(A48,'BASE FEDERAÇÃO'!$B:$M,7,FALSE),"") -> 1 | I48: =IF(A48>0,VLOOKUP(A48,'BASE FEDERAÇÃO'!$B:$M,8,FALSE),"") -> EX | J48: =IF(A48="","",VLOOKUP($A48,'BASE FEDERAÇÃO'!$B:$M,9,0)) -> SR | K48: =IF(B48="","",VLOOKUP($A48,'BASE FEDERAÇÃO'!$B:$M,10,0)) | L48: =IFERROR(VLOOKUP(A48,Apuracão!A:A,1,0),"NÃO CONSTA NA APURAÇÃO") -> 342 | M48: =IFERROR(VLOOKUP(A48,GRUPOS!C:C,1,0),"SEM GRUPO") -> 342 | N48: =IF(COUNTIF(A:A,A48)>1,"REPETIDO - CORRIGIR","OK") -> OK
A49: 406 | B49: =IF(A49>0,VLOOKUP(A49,'BASE FEDERAÇÃO'!$B:$M,2,FALSE),"") -> VALERO ARIAS | C49: =IF(A49>0,VLOOKUP(A49,'BASE FEDERAÇÃO'!$B:$M,3,FALSE),"") -> CARMEN | D49: =IF(A49>0,VLOOKUP(A49,'BASE FEDERAÇÃO'!$B:$M,4,FALSE),"") -> F | E49: =IF(A49>0,VLOOKUP(A49,'BASE FEDERAÇÃO'!$B:$M,5,FALSE),"") -> 06. KOK | F49: =IFERROR(VLOOKUP(E49,Base!$G:$H,2,0),"") -> KOKUSHIKAN | G49: =IF(A49>0,VLOOKUP(A49,'BASE FEDERAÇÃO'!$B:$M,6,FALSE),"") -> 21451 | H49: =IF(A49>0,VLOOKUP(A49,'BASE FEDERAÇÃO'!$B:$M,7,FALSE),"") -> 12 | I49: =IF(A49>0,VLOOKUP(A49,'BASE FEDERAÇÃO'!$B:$M,8,FALSE),"") -> C | J49: =IF(A49="","",VLOOKUP($A49,'BASE FEDERAÇÃO'!$B:$M,9,0)) -> NSR | K49: =IF(B49="","",VLOOKUP($A49,'BASE FEDERAÇÃO'!$B:$M,10,0)) -> #DIV/0! | L49: =IFERROR(VLOOKUP(A49,Apuracão!A:A,1,0),"NÃO CONSTA NA APURAÇÃO") -> 406 | M49: =IFERROR(VLOOKUP(A49,GRUPOS!C:C,1,0),"SEM GRUPO") -> 406 | N49: =IF(COUNTIF(A:A,A49)>1,"REPETIDO - CORRIGIR","OK") -> OK
A50: 463 | B50: =IF(A50>0,VLOOKUP(A50,'BASE FEDERAÇÃO'!$B:$M,2,FALSE),"") -> ISHII | C50: =IF(A50>0,VLOOKUP(A50,'BASE FEDERAÇÃO'!$B:$M,3,FALSE),"") -> HISANOBU | D50: =IF(A50>0,VLOOKUP(A50,'BASE FEDERAÇÃO'!$B:$M,4,FALSE),"") -> M | E50: =IF(A50>0,VLOOKUP(A50,'BASE FEDERAÇÃO'!$B:$M,5,FALSE),"") -> 06. KOK | F50: =IFERROR(VLOOKUP(E50,Base!$G:$H,2,0),"") -> KOKUSHIKAN | G50: =IF(A50>0,VLOOKUP(A50,'BASE FEDERAÇÃO'!$B:$M,6,FALSE),"") -> 14088 | H50: =IF(A50>0,VLOOKUP(A50,'BASE FEDERAÇÃO'!$B:$M,7,FALSE),"") -> 9 | I50: =IF(A50>0,VLOOKUP(A50,'BASE FEDERAÇÃO'!$B:$M,8,FALSE),"") -> B | J50: =IF(A50="","",VLOOKUP($A50,'BASE FEDERAÇÃO'!$B:$M,9,0)) -> MR | K50: =IF(B50="","",VLOOKUP($A50,'BASE FEDERAÇÃO'!$B:$M,10,0)) | L50: =IFERROR(VLOOKUP(A50,Apuracão!A:A,1,0),"NÃO CONSTA NA APURAÇÃO") -> 463 | M50: =IFERROR(VLOOKUP(A50,GRUPOS!C:C,1,0),"SEM GRUPO") -> 463 | N50: =IF(COUNTIF(A:A,A50)>1,"REPETIDO - CORRIGIR","OK") -> OK
A51: 512 | B51: =IF(A51>0,VLOOKUP(A51,'BASE FEDERAÇÃO'!$B:$M,2,FALSE),"") -> MATSUMURA | C51: =IF(A51>0,VLOOKUP(A51,'BASE FEDERAÇÃO'!$B:$M,3,FALSE),"") -> TERUAKI | D51: =IF(A51>0,VLOOKUP(A51,'BASE FEDERAÇÃO'!$B:$M,4,FALSE),"") -> M | E51: =IF(A51>0,VLOOKUP(A51,'BASE FEDERAÇÃO'!$B:$M,5,FALSE),"") -> 06. KOK | F51: =IFERROR(VLOOKUP(E51,Base!$G:$H,2,0),"") -> KOKUSHIKAN | G51: =IF(A51>0,VLOOKUP(A51,'BASE FEDERAÇÃO'!$B:$M,6,FALSE),"") -> 15766 | H51: =IF(A51>0,VLOOKUP(A51,'BASE FEDERAÇÃO'!$B:$M,7,FALSE),"") -> 9 | I51: =IF(A51>0,VLOOKUP(A51,'BASE FEDERAÇÃO'!$B:$M,8,FALSE),"") -> B | J51: =IF(A51="","",VLOOKUP($A51,'BASE FEDERAÇÃO'!$B:$M,9,0)) -> SR | K51: =IF(B51="","",VLOOKUP($A51,'BASE FEDERAÇÃO'!$B:$M,10,0)) | L51: =IFERROR(VLOOKUP(A51,Apuracão!A:A,1,0),"NÃO CONSTA NA APURAÇÃO") -> 512 | M51: =IFERROR(VLOOKUP(A51,GRUPOS!C:C,1,0),"SEM GRUPO") -> 512 | N51: =IF(COUNTIF(A:A,A51)>1,"REPETIDO - CORRIGIR","OK") -> OK
A52: 605 | B52: =IF(A52>0,VLOOKUP(A52,'BASE FEDERAÇÃO'!$B:$M,2,FALSE),"") -> ABE | C52: =IF(A52>0,VLOOKUP(A52,'BASE FEDERAÇÃO'!$B:$M,3,FALSE),"") -> TETSUO | D52: =IF(A52>0,VLOOKUP(A52,'BASE FEDERAÇÃO'!$B:$M,4,FALSE),"") -> M | E52: =IF(A52>0,VLOOKUP(A52,'BASE FEDERAÇÃO'!$B:$M,5,FALSE),"") -> 06. KOK | F52: =IFERROR(VLOOKUP(E52,Base!$G:$H,2,0),"") -> KOKUSHIKAN | G52: =IF(A52>0,VLOOKUP(A52,'BASE FEDERAÇÃO'!$B:$M,6,FALSE),"") -> 12082 | H52: =IF(A52>0,VLOOKUP(A52,'BASE FEDERAÇÃO'!$B:$M,7,FALSE),"") -> 8 | I52: =IF(A52>0,VLOOKUP(A52,'BASE FEDERAÇÃO'!$B:$M,8,FALSE),"") -> B | J52: =IF(A52="","",VLOOKUP($A52,'BASE FEDERAÇÃO'!$B:$M,9,0)) -> MR | K52: =IF(B52="","",VLOOKUP($A52,'BASE FEDERAÇÃO'!$B:$M,10,0)) | L52: =IFERROR(VLOOKUP(A52,Apuracão!A:A,1,0),"NÃO CONSTA NA APURAÇÃO") -> 605 | M52: =IFERROR(VLOOKUP(A52,GRUPOS!C:C,1,0),"SEM GRUPO") -> 605 | N52: =IF(COUNTIF(A:A,A52)>1,"REPETIDO - CORRIGIR","OK") -> OK
A53: 607 | B53: =IF(A53>0,VLOOKUP(A53,'BASE FEDERAÇÃO'!$B:$M,2,FALSE),"") -> ABE | C53: =IF(A53>0,VLOOKUP(A53,'BASE FEDERAÇÃO'!$B:$M,3,FALSE),"") -> KAZUKO | D53: =IF(A53>0,VLOOKUP(A53,'BASE FEDERAÇÃO'!$B:$M,4,FALSE),"") -> F | E53: =IF(A53>0,VLOOKUP(A53,'BASE FEDERAÇÃO'!$B:$M,5,FALSE),"") -> 06. KOK | F53: =IFERROR(VLOOKUP(E53,Base!$G:$H,2,0),"") -> KOKUSHIKAN | G53: =IF(A53>0,VLOOKUP(A53,'BASE FEDERAÇÃO'!$B:$M,6,FALSE),"") -> 18129 | H53: =IF(A53>0,VLOOKUP(A53,'BASE FEDERAÇÃO'!$B:$M,7,FALSE),"") -> 9 | I53: =IF(A53>0,VLOOKUP(A53,'BASE FEDERAÇÃO'!$B:$M,8,FALSE),"") -> B | J53: =IF(A53="","",VLOOKUP($A53,'BASE FEDERAÇÃO'!$B:$M,9,0)) -> SR | K53: =IF(B53="","",VLOOKUP($A53,'BASE FEDERAÇÃO'!$B:$M,10,0)) | L53: =IFERROR(VLOOKUP(A53,Apuracão!A:A,1,0),"NÃO CONSTA NA APURAÇÃO") -> 607 | M53: =IFERROR(VLOOKUP(A53,GRUPOS!C:C,1,0),"SEM GRUPO") -> 607 | N53: =IF(COUNTIF(A:A,A53)>1,"REPETIDO - CORRIGIR","OK") -> OK
... A67: 941 | B67: =IF(A67>0,VLOOKUP(A67,'BASE FEDERAÇÃO'!$B:$M,2,FALSE),"") -> OKUYAMA | C67: =IF(A67>0,VLOOKUP(A67,'BASE FEDERAÇÃO'!$B:$M,3,FALSE),"") -> NOBORU | D67: =IF(A67>0,VLOOKUP(A67,'BASE FEDERAÇÃO'!$B:$M,4,FALSE),"") -> M | E67: =IF(A67>0,VLOOKUP(A67,'BASE FEDERAÇÃO'!$B:$M,5,FALSE),"") -> 06. KOK | F67: =IFERROR(VLOOKUP(E67,Base!$G:$H,2,0),"") -> KOKUSHIKAN | G67: =IF(A67>0,VLOOKUP(A67,'BASE FEDERAÇÃO'!$B:$M,6,FALSE),"") -> 17489 | H67: =IF(A67>0,VLOOKUP(A67,'BASE FEDERAÇÃO'!$B:$M,7,FALSE),"") -> 12 | I67: =IF(A67>0,VLOOKUP(A67,'BASE FEDERAÇÃO'!$B:$M,8,FALSE),"") -> C | J67: =IF(A67="","",VLOOKUP($A67,'BASE FEDERAÇÃO'!$B:$M,9,0)) -> SR | K67: =IF(B67="","",VLOOKUP($A67,'BASE FEDERAÇÃO'!$B:$M,10,0)) | L67: =IFERROR(VLOOKUP(A67,Apuracão!A:A,1,0),"NÃO CONSTA NA APURAÇÃO") -> 941 | M67: =IFERROR(VLOOKUP(A67,GRUPOS!C:C,1,0),"SEM GRUPO") -> 941 | N67: =IF(COUNTIF(A:A,A67)>1,"REPETIDO - CORRIGIR","OK") -> OK
B68: =IF(A68>0,VLOOKUP(A68,'BASE FEDERAÇÃO'!$B:$M,2,FALSE),"") | C68: =IF(A68>0,VLOOKUP(A68,'BASE FEDERAÇÃO'!$B:$M,3,FALSE),"") | D68: =IF(A68>0,VLOOKUP(A68,'BASE FEDERAÇÃO'!$B:$M,4,FALSE),"") | E68: =IF(A68>0,VLOOKUP(A68,'BASE FEDERAÇÃO'!$B:$M,5,FALSE),"") | F68: =IFERROR(VLOOKUP(E68,Base!$G:$H,2,0),"") | G68: =IF(A68>0,VLOOKUP(A68,'BASE FEDERAÇÃO'!$B:$M,6,FALSE),"") | H68: =IF(A68>0,VLOOKUP(A68,'BASE FEDERAÇÃO'!$B:$M,7,FALSE),"") | I68: =IF(A68>0,VLOOKUP(A68,'BASE FEDERAÇÃO'!$B:$M,8,FALSE),"") | J68: =IF(A68="","",VLOOKUP($A68,'BASE FEDERAÇÃO'!$B:$M,9,0)) | K68: =IF(B68="","",VLOOKUP($A68,'BASE FEDERAÇÃO'!$B:$M,10,0)) | L68: =IFERROR(VLOOKUP(A68,Apuracão!A:A,1,0),"NÃO CONSTA NA APURAÇÃO") -> NÃO CONSTA NA APURAÇÃO | M68: =IFERROR(VLOOKUP(A68,GRUPOS!C:C,1,0),"SEM GRUPO") -> SEM GRUPO | N68: =IF(COUNTIF(A:A,A68)>1,"REPETIDO - CORRIGIR","OK") -> OK
A69: 800 | B69: =IF(A69>0,VLOOKUP(A69,'BASE FEDERAÇÃO'!$B:$M,2,FALSE),"") -> FIUZA DE OLIVEIRA | C69: =IF(A69>0,VLOOKUP(A69,'BASE FEDERAÇÃO'!$B:$M,3,FALSE),"") -> IVAN | D69: =IF(A69>0,VLOOKUP(A69,'BASE FEDERAÇÃO'!$B:$M,4,FALSE),"") -> M | E69: =IF(A69>0,VLOOKUP(A69,'BASE FEDERAÇÃO'!$B:$M,5,FALSE),"") -> 03. IBI | F69: =IFERROR(VLOOKUP(E69,Base!$G:$H,2,0),"") -> IBIÚNA | G69: =IF(A69>0,VLOOKUP(A69,'BASE FEDERAÇÃO'!$B:$M,6,FALSE),"") -> 29849 | H69: =IF(A69>0,VLOOKUP(A69,'BASE FEDERAÇÃO'!$B:$M,7,FALSE),"") -> 2 | I69: =IF(A69>0,VLOOKUP(A69,'BASE FEDERAÇÃO'!$B:$M,8,FALSE),"") -> EX | J69: =IF(A69="","",VLOOKUP($A69,'BASE FEDERAÇÃO'!$B:$M,9,0)) -> NSR | K69: =IF(B69="","",VLOOKUP($A69,'BASE FEDERAÇÃO'!$B:$M,10,0)) -> X | L69: =IFERROR(VLOOKUP(A69,Apuracão!A:A,1,0),"NÃO CONSTA NA APURAÇÃO") -> 800 | M69: =IFERROR(VLOOKUP(A69,GRUPOS!C:C,1,0),"SEM GRUPO") -> 800 | N69: =IF(COUNTIF(A:A,A69)>1,"REPETIDO - CORRIGIR","OK") -> OK
A70: 108 | B70: =IF(A70>0,VLOOKUP(A70,'BASE FEDERAÇÃO'!$B:$M,2,FALSE),"") -> KAWANO | C70: =IF(A70>0,VLOOKUP(A70,'BASE FEDERAÇÃO'!$B:$M,3,FALSE),"") -> KIYOKO | D70: =IF(A70>0,VLOOKUP(A70,'BASE FEDERAÇÃO'!$B:$M,4,FALSE),"") -> F | E70: =IF(A70>0,VLOOKUP(A70,'BASE FEDERAÇÃO'!$B:$M,5,FALSE),"") -> 03. IBI | F70: =IFERROR(VLOOKUP(E70,Base!$G:$H,2,0),"") -> IBIÚNA | G70: =IF(A70>0,VLOOKUP(A70,'BASE FEDERAÇÃO'!$B:$M,6,FALSE),"") -> 16772 | H70: =IF(A70>0,VLOOKUP(A70,'BASE FEDERAÇÃO'!$B:$M,7,FALSE),"") -> 7 | I70: =IF(A70>0,VLOOKUP(A70,'BASE FEDERAÇÃO'!$B:$M,8,FALSE),"") -> B | J70: =IF(A70="","",VLOOKUP($A70,'BASE FEDERAÇÃO'!$B:$M,9,0)) -> SR | K70: =IF(B70="","",VLOOKUP($A70,'BASE FEDERAÇÃO'!$B:$M,10,0)) -> X | L70: =IFERROR(VLOOKUP(A70,Apuracão!A:A,1,0),"NÃO CONSTA NA APURAÇÃO") -> 108 | M70: =IFERROR(VLOOKUP(A70,GRUPOS!C:C,1,0),"SEM GRUPO") -> 108 | N70: =IF(COUNTIF(A:A,A70)>1,"REPETIDO - CORRIGIR","OK") -> OK
A71: 782 | B71: =IF(A71>0,VLOOKUP(A71,'BASE FEDERAÇÃO'!$B:$M,2,FALSE),"") -> MATSUMOTO | C71: =IF(A71>0,VLOOKUP(A71,'BASE FEDERAÇÃO'!$B:$M,3,FALSE),"") -> KAZUKO | D71: =IF(A71>0,VLOOKUP(A71,'BASE FEDERAÇÃO'!$B:$M,4,FALSE),"") -> F | E71: =IF(A71>0,VLOOKUP(A71,'BASE FEDERAÇÃO'!$B:$M,5,FALSE),"") -> 03. IBI | F71: =IFERROR(VLOOKUP(E71,Base!$G:$H,2,0),"") -> IBIÚNA | G71: =IF(A71>0,VLOOKUP(A71,'BASE FEDERAÇÃO'!$B:$M,6,FALSE),"") -> 13623 | H71: =IF(A71>0,VLOOKUP(A71,'BASE FEDERAÇÃO'!$B:$M,7,FALSE),"") -> 9 | I71: =IF(A71>0,VLOOKUP(A71,'BASE FEDERAÇÃO'!$B:$M,8,FALSE),"") -> B | J71: =IF(A71="","",VLOOKUP($A71,'BASE FEDERAÇÃO'!$B:$M,9,0)) -> MR | K71: =IF(B71="","",VLOOKUP($A71,'BASE FEDERAÇÃO'!$B:$M,10,0)) | L71: =IFERROR(VLOOKUP(A71,Apuracão!A:A,1,0),"NÃO CONSTA NA APURAÇÃO") -> 782 | M71: =IFERROR(VLOOKUP(A71,GRUPOS!C:C,1,0),"SEM GRUPO") -> 782 | N71: =IF(COUNTIF(A:A,A71)>1,"REPETIDO - CORRIGIR","OK") -> OK
A72: 068 | B72: =IF(A72>0,VLOOKUP(A72,'BASE FEDERAÇÃO'!$B:$M,2,FALSE),"") -> OZAKI | C72: =IF(A72>0,VLOOKUP(A72,'BASE FEDERAÇÃO'!$B:$M,3,FALSE),"") -> TOMIKO | D72: =IF(A72>0,VLOOKUP(A72,'BASE FEDERAÇÃO'!$B:$M,4,FALSE),"") -> F | E72: =IF(A72>0,VLOOKUP(A72,'BASE FEDERAÇÃO'!$B:$M,5,FALSE),"") -> 03. IBI | F72: =IFERROR(VLOOKUP(E72,Base!$G:$H,2,0),"") -> IBIÚNA | G72: =IF(A72>0,VLOOKUP(A72,'BASE FEDERAÇÃO'!$B:$M,6,FALSE),"") -> 16167 | H72: =IF(A72>0,VLOOKUP(A72,'BASE FEDERAÇÃO'!$B:$M,7,FALSE),"") -> 9 | I72: =IF(A72>0,VLOOKUP(A72,'BASE FEDERAÇÃO'!$B:$M,8,FALSE),"") -> B | J72: =IF(A72="","",VLOOKUP($A72,'BASE FEDERAÇÃO'!$B:$M,9,0)) -> SR | K72: =IF(B72="","",VLOOKUP($A72,'BASE FEDERAÇÃO'!$B:$M,10,0)) -> X | L72: =IFERROR(VLOOKUP(A72,Apuracão!A:A,1,0),"NÃO CONSTA NA APURAÇÃO") -> 068 | M72: =IFERROR(VLOOKUP(A72,GRUPOS!C:C,1,0),"SEM GRUPO") -> 068 | N72: =IF(COUNTIF(A:A,A72)>1,"REPETIDO - CORRIGIR","OK") -> OK
A73: 002 | B73: =IF(A73>0,VLOOKUP(A73,'BASE FEDERAÇÃO'!$B:$M,2,FALSE),"") -> SAITO | C73: =IF(A73>0,VLOOKUP(A73,'BASE FEDERAÇÃO'!$B:$M,3,FALSE),"") -> SETSUKO | D73: =IF(A73>0,VLOOKUP(A73,'BASE FEDERAÇÃO'!$B:$M,4,FALSE),"") -> F | E73: =IF(A73>0,VLOOKUP(A73,'BASE FEDERAÇÃO'!$B:$M,5,FALSE),"") -> 03. IBI | F73: =IFERROR(VLOOKUP(E73,Base!$G:$H,2,0),"") -> IBIÚNA | G73: =IF(A73>0,VLOOKUP(A73,'BASE FEDERAÇÃO'!$B:$M,6,FALSE),"") -> 15412 | H73: =IF(A73>0,VLOOKUP(A73,'BASE FEDERAÇÃO'!$B:$M,7,FALSE),"") -> 7 | I73: =IF(A73>0,VLOOKUP(A73,'BASE FEDERAÇÃO'!$B:$M,8,FALSE),"") -> B | J73: =IF(A73="","",VLOOKUP($A73,'BASE FEDERAÇÃO'!$B:$M,9,0)) -> SR | K73: =IF(B73="","",VLOOKUP($A73,'BASE FEDERAÇÃO'!$B:$M,10,0)) -> X | L73: =IFERROR(VLOOKUP(A73,Apuracão!A:A,1,0),"NÃO CONSTA NA APURAÇÃO") -> 002 | M73: =IFERROR(VLOOKUP(A73,GRUPOS!C:C,1,0),"SEM GRUPO") -> 002 | N73: =IF(COUNTIF(A:A,A73)>1,"REPETIDO - CORRIGIR","OK") -> OK
A74: 012 | B74: =IF(A74>0,VLOOKUP(A74,'BASE FEDERAÇÃO'!$B:$M,2,FALSE),"") -> SHIMIZU | C74: =IF(A74>0,VLOOKUP(A74,'BASE FEDERAÇÃO'!$B:$M,3,FALSE),"") -> HIDEO | D74: =IF(A74>0,VLOOKUP(A74,'BASE FEDERAÇÃO'!$B:$M,4,FALSE),"") -> M | E74: =IF(A74>0,VLOOKUP(A74,'BASE FEDERAÇÃO'!$B:$M,5,FALSE),"") -> 03. IBI | F74: =IFERROR(VLOOKUP(E74,Base!$G:$H,2,0),"") -> IBIÚNA | G74: =IF(A74>0,VLOOKUP(A74,'BASE FEDERAÇÃO'!$B:$M,6,FALSE),"") -> 15076 | H74: =IF(A74>0,VLOOKUP(A74,'BASE FEDERAÇÃO'!$B:$M,7,FALSE),"") -> 9 | I74: =IF(A74>0,VLOOKUP(A74,'BASE FEDERAÇÃO'!$B:$M,8,FALSE),"") -> B | J74: =IF(A74="","",VLOOKUP($A74,'BASE FEDERAÇÃO'!$B:$M,9,0)) -> MR | K74: =IF(B74="","",VLOOKUP($A74,'BASE FEDERAÇÃO'!$B:$M,10,0)) | L74: =IFERROR(VLOOKUP(A74,Apuracão!A:A,1,0),"NÃO CONSTA NA APURAÇÃO") -> 012 | M74: =IFERROR(VLOOKUP(A74,GRUPOS!C:C,1,0),"SEM GRUPO") -> 012 | N74: =IF(COUNTIF(A:A,A74)>1,"REPETIDO - CORRIGIR","OK") -> OK
A75: 017 | B75: =IF(A75>0,VLOOKUP(A75,'BASE FEDERAÇÃO'!$B:$M,2,FALSE),"") -> SHIMOYAMA | C75: =IF(A75>0,VLOOKUP(A75,'BASE FEDERAÇÃO'!$B:$M,3,FALSE),"") -> KAZUKO | D75: =IF(A75>0,VLOOKUP(A75,'BASE FEDERAÇÃO'!$B:$M,4,FALSE),"") -> F | E75: =IF(A75>0,VLOOKUP(A75,'BASE FEDERAÇÃO'!$B:$M,5,FALSE),"") -> 03. IBI | F75: =IFERROR(VLOOKUP(E75,Base!$G:$H,2,0),"") -> IBIÚNA | G75: =IF(A75>0,VLOOKUP(A75,'BASE FEDERAÇÃO'!$B:$M,6,FALSE),"") -> 14507 | H75: =IF(A75>0,VLOOKUP(A75,'BASE FEDERAÇÃO'!$B:$M,7,FALSE),"") -> 8 | I75: =IF(A75>0,VLOOKUP(A75,'BASE FEDERAÇÃO'!$B:$M,8,FALSE),"") -> B | J75: =IF(A75="","",VLOOKUP($A75,'BASE FEDERAÇÃO'!$B:$M,9,0)) -> MR | K75: =IF(B75="","",VLOOKUP($A75,'BASE FEDERAÇÃO'!$B:$M,10,0)) -> X | L75: =IFERROR(VLOOKUP(A75,Apuracão!A:A,1,0),"NÃO CONSTA NA APURAÇÃO") -> 017 | M75: =IFERROR(VLOOKUP(A75,GRUPOS!C:C,1,0),"SEM GRUPO") -> 017 | N75: =IF(COUNTIF(A:A,A75)>1,"REPETIDO - CORRIGIR","OK") -> OK
A76: 825 | B76: =IF(A76>0,VLOOKUP(A76,'BASE FEDERAÇÃO'!$B:$M,2,FALSE),"") -> TAKANO | C76: =IF(A76>0,VLOOKUP(A76,'BASE FEDERAÇÃO'!$B:$M,3,FALSE),"") -> NOBUKI | D76: =IF(A76>0,VLOOKUP(A76,'BASE FEDERAÇÃO'!$B:$M,4,FALSE),"") -> M | E76: =IF(A76>0,VLOOKUP(A76,'BASE FEDERAÇÃO'!$B:$M,5,FALSE),"") -> 03. IBI | F76: =IFERROR(VLOOKUP(E76,Base!$G:$H,2,0),"") -> IBIÚNA | G76: =IF(A76>0,VLOOKUP(A76,'BASE FEDERAÇÃO'!$B:$M,6,FALSE),"") -> 17060 | H76: =IF(A76>0,VLOOKUP(A76,'BASE FEDERAÇÃO'!$B:$M,7,FALSE),"") -> 4 | I76: =IF(A76>0,VLOOKUP(A76,'BASE FEDERAÇÃO'!$B:$M,8,FALSE),"") -> A | J76: =IF(A76="","",VLOOKUP($A76,'BASE FEDERAÇÃO'!$B:$M,9,0)) -> SR | K76: =IF(B76="","",VLOOKUP($A76,'BASE FEDERAÇÃO'!$B:$M,10,0)) | L76: =IFERROR(VLOOKUP(A76,Apuracão!A:A,1,0),"NÃO CONSTA NA APURAÇÃO") -> 825 | M76: =IFERROR(VLOOKUP(A76,GRUPOS!C:C,1,0),"SEM GRUPO") -> 825 | N76: =IF(COUNTIF(A:A,A76)>1,"REPETIDO - CORRIGIR","OK") -> OK
A77: 073 | B77: =IF(A77>0,VLOOKUP(A77,'BASE FEDERAÇÃO'!$B:$M,2,FALSE),"") -> TAKANO | C77: =IF(A77>0,VLOOKUP(A77,'BASE FEDERAÇÃO'!$B:$M,3,FALSE),"") -> YASUO | D77: =IF(A77>0,VLOOKUP(A77,'BASE FEDERAÇÃO'!$B:$M,4,FALSE),"") -> M | E77: =IF(A77>0,VLOOKUP(A77,'BASE FEDERAÇÃO'!$B:$M,5,FALSE),"") -> 03. IBI | F77: =IFERROR(VLOOKUP(E77,Base!$G:$H,2,0),"") -> IBIÚNA | G77: =IF(A77>0,VLOOKUP(A77,'BASE FEDERAÇÃO'!$B:$M,6,FALSE),"") -> 16369 | H77: =IF(A77>0,VLOOKUP(A77,'BASE FEDERAÇÃO'!$B:$M,7,FALSE),"") -> 6 | I77: =IF(A77>0,VLOOKUP(A77,'BASE FEDERAÇÃO'!$B:$M,8,FALSE),"") -> A | J77: =IF(A77="","",VLOOKUP($A77,'BASE FEDERAÇÃO'!$B:$M,9,0)) -> SR | K77: =IF(B77="","",VLOOKUP($A77,'BASE FEDERAÇÃO'!$B:$M,10,0)) -> X | L77: =IFERROR(VLOOKUP(A77,Apuracão!A:A,1,0),"NÃO CONSTA NA APURAÇÃO") -> 073 | M77: =IFERROR(VLOOKUP(A77,GRUPOS!C:C,1,0),"SEM GRUPO") -> 073 | N77: =IF(COUNTIF(A:A,A77)>1,"REPETIDO - CORRIGIR","OK") -> OK
A78: 533 | B78: =IF(A78>0,VLOOKUP(A78,'BASE FEDERAÇÃO'!$B:$M,2,FALSE),"") -> TANAKA | C78: =IF(A78>0,VLOOKUP(A78,'BASE FEDERAÇÃO'!$B:$M,3,FALSE),"") -> TAKAAKI | D78: =IF(A78>0,VLOOKUP(A78,'BASE FEDERAÇÃO'!$B:$M,4,FALSE),"") -> M | E78: =IF(A78>0,VLOOKUP(A78,'BASE FEDERAÇÃO'!$B:$M,5,FALSE),"") -> 03. IBI | F78: =IFERROR(VLOOKUP(E78,Base!$G:$H,2,0),"") -> IBIÚNA | G78: =IF(A78>0,VLOOKUP(A78,'BASE FEDERAÇÃO'!$B:$M,6,FALSE),"") -> 14124 | H78: =IF(A78>0,VLOOKUP(A78,'BASE FEDERAÇÃO'!$B:$M,7,FALSE),"") -> 12 | I78: =IF(A78>0,VLOOKUP(A78,'BASE FEDERAÇÃO'!$B:$M,8,FALSE),"") -> C | J78: =IF(A78="","",VLOOKUP($A78,'BASE FEDERAÇÃO'!$B:$M,9,0)) -> MR | K78: =IF(B78="","",VLOOKUP($A78,'BASE FEDERAÇÃO'!$B:$M,10,0)) | L78: =IFERROR(VLOOKUP(A78,Apuracão!A:A,1,0),"NÃO CONSTA NA APURAÇÃO") -> 533 | M78: =IFERROR(VLOOKUP(A78,GRUPOS!C:C,1,0),"SEM GRUPO") -> 533 | N78: =IF(COUNTIF(A:A,A78)>1,"REPETIDO - CORRIGIR","OK") -> OK
A79: 855 | B79: =IF(A79>0,VLOOKUP(A79,'BASE FEDERAÇÃO'!$B:$M,2,FALSE),"") -> YAMANO | C79: =IF(A79>0,VLOOKUP(A79,'BASE FEDERAÇÃO'!$B:$M,3,FALSE),"") -> MASSAKATSU | D79: =IF(A79>0,VLOOKUP(A79,'BASE FEDERAÇÃO'!$B:$M,4,FALSE),"") -> M | E79: =IF(A79>0,VLOOKUP(A79,'BASE FEDERAÇÃO'!$B:$M,5,FALSE),"") -> 03. IBI | F79: =IFERROR(VLOOKUP(E79,Base!$G:$H,2,0),"") -> IBIÚNA | G79: =IF(A79>0,VLOOKUP(A79,'BASE FEDERAÇÃO'!$B:$M,6,FALSE),"") -> 16365 | H79: =IF(A79>0,VLOOKUP(A79,'BASE FEDERAÇÃO'!$B:$M,7,FALSE),"") -> 5 | I79: =IF(A79>0,VLOOKUP(A79,'BASE FEDERAÇÃO'!$B:$M,8,FALSE),"") -> A | J79: =IF(A79="","",VLOOKUP($A79,'BASE FEDERAÇÃO'!$B:$M,9,0)) -> SR | K79: =IF(B79="","",VLOOKUP($A79,'BASE FEDERAÇÃO'!$B:$M,10,0)) -> X | L79: =IFERROR(VLOOKUP(A79,Apuracão!A:A,1,0),"NÃO CONSTA NA APURAÇÃO") -> 855 | M79: =IFERROR(VLOOKUP(A79,GRUPOS!C:C,1,0),"SEM GRUPO") -> 855 | N79: =IF(COUNTIF(A:A,A79)>1,"REPETIDO - CORRIGIR","OK") -> OK
A80: 834 | B80: =IF(A80>0,VLOOKUP(A80,'BASE FEDERAÇÃO'!$B:$M,2,FALSE),"") -> YAMANO | C80: =IF(A80>0,VLOOKUP(A80,'BASE FEDERAÇÃO'!$B:$M,3,FALSE),"") -> PAULO | D80: =IF(A80>0,VLOOKUP(A80,'BASE FEDERAÇÃO'!$B:$M,4,FALSE),"") -> M | E80: =IF(A80>0,VLOOKUP(A80,'BASE FEDERAÇÃO'!$B:$M,5,FALSE),"") -> 03. IBI | F80: =IFERROR(VLOOKUP(E80,Base!$G:$H,2,0),"") -> IBIÚNA | G80: =IF(A80>0,VLOOKUP(A80,'BASE FEDERAÇÃO'!$B:$M,6,FALSE),"") -> 17828 | H80: =IF(A80>0,VLOOKUP(A80,'BASE FEDERAÇÃO'!$B:$M,7,FALSE),"") -> 6 | I80: =IF(A80>0,VLOOKUP(A80,'BASE FEDERAÇÃO'!$B:$M,8,FALSE),"") -> A | J80: =IF(A80="","",VLOOKUP($A80,'BASE FEDERAÇÃO'!$B:$M,9,0)) -> SR | K80: =IF(B80="","",VLOOKUP($A80,'BASE FEDERAÇÃO'!$B:$M,10,0)) | L80: =IFERROR(VLOOKUP(A80,Apuracão!A:A,1,0),"NÃO CONSTA NA APURAÇÃO") -> 834 | M80: =IFERROR(VLOOKUP(A80,GRUPOS!C:C,1,0),"SEM GRUPO") -> 834 | N80: =IF(COUNTIF(A:A,A80)>1,"REPETIDO - CORRIGIR","OK") -> OK
... A82: 715 | B82: =IF(A82>0,VLOOKUP(A82,'BASE FEDERAÇÃO'!$B:$M,2,FALSE),"") -> MAEDA | C82: =IF(A82>0,VLOOKUP(A82,'BASE FEDERAÇÃO'!$B:$M,3,FALSE),"") -> ALLAN YUJI | D82: =IF(A82>0,VLOOKUP(A82,'BASE FEDERAÇÃO'!$B:$M,4,FALSE),"") -> M | E82: =IF(A82>0,VLOOKUP(A82,'BASE FEDERAÇÃO'!$B:$M,5,FALSE),"") -> 03. IBI | F82: =IFERROR(VLOOKUP(E82,Base!$G:$H,2,0),"") -> IBIÚNA | G82: =IF(A82>0,VLOOKUP(A82,'BASE FEDERAÇÃO'!$B:$M,6,FALSE),"") -> 32498 | H82: =IF(A82>0,VLOOKUP(A82,'BASE FEDERAÇÃO'!$B:$M,7,FALSE),"") -> 7 | I82: =IF(A82>0,VLOOKUP(A82,'BASE FEDERAÇÃO'!$B:$M,8,FALSE),"") -> B | J82: =IF(A82="","",VLOOKUP($A82,'BASE FEDERAÇÃO'!$B:$M,9,0)) -> NSR | K82: =IF(B82="","",VLOOKUP($A82,'BASE FEDERAÇÃO'!$B:$M,10,0)) -> X | L82: =IFERROR(VLOOKUP(A82,Apuracão!A:A,1,0),"NÃO CONSTA NA APURAÇÃO") -> 715 | M82: =IFERROR(VLOOKUP(A82,GRUPOS!C:C,1,0),"SEM GRUPO") -> 715 | N82: =IF(COUNTIF(A:A,A82)>1,"REPETIDO - CORRIGIR","OK") -> OK
B83: =IF(A83>0,VLOOKUP(A83,'BASE FEDERAÇÃO'!$B:$M,2,FALSE),"") | C83: =IF(A83>0,VLOOKUP(A83,'BASE FEDERAÇÃO'!$B:$M,3,FALSE),"") | D83: =IF(A83>0,VLOOKUP(A83,'BASE FEDERAÇÃO'!$B:$M,4,FALSE),"") | E83: =IF(A83>0,VLOOKUP(A83,'BASE FEDERAÇÃO'!$B:$M,5,FALSE),"") | F83: =IFERROR(VLOOKUP(E83,Base!$G:$H,2,0),"") | G83: =IF(A83>0,VLOOKUP(A83,'BASE FEDERAÇÃO'!$B:$M,6,FALSE),"") | H83: =IF(A83>0,VLOOKUP(A83,'BASE FEDERAÇÃO'!$B:$M,7,FALSE),"") | I83: =IF(A83>0,VLOOKUP(A83,'BASE FEDERAÇÃO'!$B:$M,8,FALSE),"") | J83: =IF(A83="","",VLOOKUP($A83,'BASE FEDERAÇÃO'!$B:$M,9,0)) | K83: =IF(B83="","",VLOOKUP($A83,'BASE FEDERAÇÃO'!$B:$M,10,0)) | L83: =IFERROR(VLOOKUP(A83,Apuracão!A:A,1,0),"NÃO CONSTA NA APURAÇÃO") -> NÃO CONSTA NA APURAÇÃO | M83: =IFERROR(VLOOKUP(A83,GRUPOS!C:C,1,0),"SEM GRUPO") -> SEM GRUPO | N83: =IF(COUNTIF(A:A,A83)>1,"REPETIDO - CORRIGIR","OK") -> OK
A84: 256 | B84: =IF(A84>0,VLOOKUP(A84,'BASE FEDERAÇÃO'!$B:$M,2,FALSE),"") -> UEMURA | C84: =IF(A84>0,VLOOKUP(A84,'BASE FEDERAÇÃO'!$B:$M,3,FALSE),"") -> YASUGI | D84: =IF(A84>0,VLOOKUP(A84,'BASE FEDERAÇÃO'!$B:$M,4,FALSE),"") -> M | E84: =IF(A84>0,VLOOKUP(A84,'BASE FEDERAÇÃO'!$B:$M,5,FALSE),"") -> 07. GSP | F84: =IFERROR(VLOOKUP(E84,Base!$G:$H,2,0),"") -> GRANDE SÃO PAULO | G84: =IF(A84>0,VLOOKUP(A84,'BASE FEDERAÇÃO'!$B:$M,6,FALSE),"") -> 15220 | H84: =IF(A84>0,VLOOKUP(A84,'BASE FEDERAÇÃO'!$B:$M,7,FALSE),"") -> 3 | I84: =IF(A84>0,VLOOKUP(A84,'BASE FEDERAÇÃO'!$B:$M,8,FALSE),"") -> EX | J84: =IF(A84="","",VLOOKUP($A84,'BASE FEDERAÇÃO'!$B:$M,9,0)) -> MR | K84: =IF(B84="","",VLOOKUP($A84,'BASE FEDERAÇÃO'!$B:$M,10,0)) | L84: =IFERROR(VLOOKUP(A84,Apuracão!A:A,1,0),"NÃO CONSTA NA APURAÇÃO") -> 256 | M84: =IFERROR(VLOOKUP(A84,GRUPOS!C:C,1,0),"SEM GRUPO") -> 256 | N84: =IF(COUNTIF(A:A,A84)>1,"REPETIDO - CORRIGIR","OK") -> OK
A85: 395 | B85: =IF(A85>0,VLOOKUP(A85,'BASE FEDERAÇÃO'!$B:$M,2,FALSE),"") -> UEMURA | C85: =IF(A85>0,VLOOKUP(A85,'BASE FEDERAÇÃO'!$B:$M,3,FALSE),"") -> LUCIA | D85: =IF(A85>0,VLOOKUP(A85,'BASE FEDERAÇÃO'!$B:$M,4,FALSE),"") -> F | E85: =IF(A85>0,VLOOKUP(A85,'BASE FEDERAÇÃO'!$B:$M,5,FALSE),"") -> 07. GSP | F85: =IFERROR(VLOOKUP(E85,Base!$G:$H,2,0),"") -> GRANDE SÃO PAULO | G85: =IF(A85>0,VLOOKUP(A85,'BASE FEDERAÇÃO'!$B:$M,6,FALSE),"") -> 17241 | H85: =IF(A85>0,VLOOKUP(A85,'BASE FEDERAÇÃO'!$B:$M,7,FALSE),"") -> 6 | I85: =IF(A85>0,VLOOKUP(A85,'BASE FEDERAÇÃO'!$B:$M,8,FALSE),"") -> A | J85: =IF(A85="","",VLOOKUP($A85,'BASE FEDERAÇÃO'!$B:$M,9,0)) -> SR | K85: =IF(B85="","",VLOOKUP($A85,'BASE FEDERAÇÃO'!$B:$M,10,0)) -> X | L85: =IFERROR(VLOOKUP(A85,Apuracão!A:A,1,0),"NÃO CONSTA NA APURAÇÃO") -> 395 | M85: =IFERROR(VLOOKUP(A85,GRUPOS!C:C,1,0),"SEM GRUPO") -> 395 | N85: =IF(COUNTIF(A:A,A85)>1,"REPETIDO - CORRIGIR","OK") -> OK
A86: 489 | B86: =IF(A86>0,VLOOKUP(A86,'BASE FEDERAÇÃO'!$B:$M,2,FALSE),"") -> TOGO | C86: =IF(A86>0,VLOOKUP(A86,'BASE FEDERAÇÃO'!$B:$M,3,FALSE),"") -> NARIKO | D86: =IF(A86>0,VLOOKUP(A86,'BASE FEDERAÇÃO'!$B:$M,4,FALSE),"") -> F | E86: =IF(A86>0,VLOOKUP(A86,'BASE FEDERAÇÃO'!$B:$M,5,FALSE),"") -> 07. GSP | F86: =IFERROR(VLOOKUP(E86,Base!$G:$H,2,0),"") -> GRANDE SÃO PAULO | G86: =IF(A86>0,VLOOKUP(A86,'BASE FEDERAÇÃO'!$B:$M,6,FALSE),"") -> 18327 | H86: =IF(A86>0,VLOOKUP(A86,'BASE FEDERAÇÃO'!$B:$M,7,FALSE),"") -> 4 | I86: =IF(A86>0,VLOOKUP(A86,'BASE FEDERAÇÃO'!$B:$M,8,FALSE),"") -> A | J86: =IF(A86="","",VLOOKUP($A86,'BASE FEDERAÇÃO'!$B:$M,9,0)) -> SR | K86: =IF(B86="","",VLOOKUP($A86,'BASE FEDERAÇÃO'!$B:$M,10,0)) | L86: =IFERROR(VLOOKUP(A86,Apuracão!A:A,1,0),"NÃO CONSTA NA APURAÇÃO") -> 489 | M86: =IFERROR(VLOOKUP(A86,GRUPOS!C:C,1,0),"SEM GRUPO") -> 489 | N86: =IF(COUNTIF(A:A,A86)>1,"REPETIDO - CORRIGIR","OK") -> OK
A87: 513 | B87: =IF(A87>0,VLOOKUP(A87,'BASE FEDERAÇÃO'!$B:$M,2,FALSE),"") -> TIZUKA | C87: =IF(A87>0,VLOOKUP(A87,'BASE FEDERAÇÃO'!$B:$M,3,FALSE),"") -> SACHIKO | D87: =IF(A87>0,VLOOKUP(A87,'BASE FEDERAÇÃO'!$B:$M,4,FALSE),"") -> F | E87: =IF(A87>0,VLOOKUP(A87,'BASE FEDERAÇÃO'!$B:$M,5,FALSE),"") -> 07. GSP | F87: =IFERROR(VLOOKUP(E87,Base!$G:$H,2,0),"") -> GRANDE SÃO PAULO | G87: =IF(A87>0,VLOOKUP(A87,'BASE FEDERAÇÃO'!$B:$M,6,FALSE),"") -> 19170 | H87: =IF(A87>0,VLOOKUP(A87,'BASE FEDERAÇÃO'!$B:$M,7,FALSE),"") -> 4 | I87: =IF(A87>0,VLOOKUP(A87,'BASE FEDERAÇÃO'!$B:$M,8,FALSE),"") -> A | J87: =IF(A87="","",VLOOKUP($A87,'BASE FEDERAÇÃO'!$B:$M,9,0)) -> NSR | K87: =IF(B87="","",VLOOKUP($A87,'BASE FEDERAÇÃO'!$B:$M,10,0)) -> X | L87: =IFERROR(VLOOKUP(A87,Apuracão!A:A,1,0),"NÃO CONSTA NA APURAÇÃO") -> 513 | M87: =IFERROR(VLOOKUP(A87,GRUPOS!C:C,1,0),"SEM GRUPO") -> 513 | N87: =IF(COUNTIF(A:A,A87)>1,"REPETIDO - CORRIGIR","OK") -> OK
A88: 522 | B88: =IF(A88>0,VLOOKUP(A88,'BASE FEDERAÇÃO'!$B:$M,2,FALSE),"") -> TABATA | C88: =IF(A88>0,VLOOKUP(A88,'BASE FEDERAÇÃO'!$B:$M,3,FALSE),"") -> MARIO KAZUNORI | D88: =IF(A88>0,VLOOKUP(A88,'BASE FEDERAÇÃO'!$B:$M,4,FALSE),"") -> M | E88: =IF(A88>0,VLOOKUP(A88,'BASE FEDERAÇÃO'!$B:$M,5,FALSE),"") -> 07. GSP | F88: =IFERROR(VLOOKUP(E88,Base!$G:$H,2,0),"") -> GRANDE SÃO PAULO | G88: =IF(A88>0,VLOOKUP(A88,'BASE FEDERAÇÃO'!$B:$M,6,FALSE),"") -> 18853 | H88: =IF(A88>0,VLOOKUP(A88,'BASE FEDERAÇÃO'!$B:$M,7,FALSE),"") -> 8 | I88: =IF(A88>0,VLOOKUP(A88,'BASE FEDERAÇÃO'!$B:$M,8,FALSE),"") -> B | J88: =IF(A88="","",VLOOKUP($A88,'BASE FEDERAÇÃO'!$B:$M,9,0)) -> SR | K88: =IF(B88="","",VLOOKUP($A88,'BASE FEDERAÇÃO'!$B:$M,10,0)) -> X | L88: =IFERROR(VLOOKUP(A88,Apuracão!A:A,1,0),"NÃO CONSTA NA APURAÇÃO") -> 522 | M88: =IFERROR(VLOOKUP(A88,GRUPOS!C:C,1,0),"SEM GRUPO") -> 522 | N88: =IF(COUNTIF(A:A,A88)>1,"REPETIDO - CORRIGIR","OK") -> OK
A89: 523 | B89: =IF(A89>0,VLOOKUP(A89,'BASE FEDERAÇÃO'!$B:$M,2,FALSE),"") -> KAWASAKA | C89: =IF(A89>0,VLOOKUP(A89,'BASE FEDERAÇÃO'!$B:$M,3,FALSE),"") -> MAKICO | D89: =IF(A89>0,VLOOKUP(A89,'BASE FEDERAÇÃO'!$B:$M,4,FALSE),"") -> F | E89: =IF(A89>0,VLOOKUP(A89,'BASE FEDERAÇÃO'!$B:$M,5,FALSE),"") -> 07. GSP | F89: =IFERROR(VLOOKUP(E89,Base!$G:$H,2,0),"") -> GRANDE SÃO PAULO | G89: =IF(A89>0,VLOOKUP(A89,'BASE FEDERAÇÃO'!$B:$M,6,FALSE),"") -> 17833 | H89: =IF(A89>0,VLOOKUP(A89,'BASE FEDERAÇÃO'!$B:$M,7,FALSE),"") -> 12 | I89: =IF(A89>0,VLOOKUP(A89,'BASE FEDERAÇÃO'!$B:$M,8,FALSE),"") -> C | J89: =IF(A89="","",VLOOKUP($A89,'BASE FEDERAÇÃO'!$B:$M,9,0)) -> SR | K89: =IF(B89="","",VLOOKUP($A89,'BASE FEDERAÇÃO'!$B:$M,10,0)) | L89: =IFERROR(VLOOKUP(A89,Apuracão!A:A,1,0),"NÃO CONSTA NA APURAÇÃO") -> 523 | M89: =IFERROR(VLOOKUP(A89,GRUPOS!C:C,1,0),"SEM GRUPO") -> 523 | N89: =IF(COUNTIF(A:A,A89)>1,"REPETIDO - CORRIGIR","OK") -> OK
A90: 549 | B90: =IF(A90>0,VLOOKUP(A90,'BASE FEDERAÇÃO'!$B:$M,2,FALSE),"") -> KAWABATA | C90: =IF(A90>0,VLOOKUP(A90,'BASE FEDERAÇÃO'!$B:$M,3,FALSE),"") -> TAKAO | D90: =IF(A90>0,VLOOKUP(A90,'BASE FEDERAÇÃO'!$B:$M,4,FALSE),"") -> M | E90: =IF(A90>0,VLOOKUP(A90,'BASE FEDERAÇÃO'!$B:$M,5,FALSE),"") -> 07. GSP | F90: =IFERROR(VLOOKUP(E90,Base!$G:$H,2,0),"") -> GRANDE SÃO PAULO | G90: =IF(A90>0,VLOOKUP(A90,'BASE FEDERAÇÃO'!$B:$M,6,FALSE),"") -> 14203 | H90: =IF(A90>0,VLOOKUP(A90,'BASE FEDERAÇÃO'!$B:$M,7,FALSE),"") -> 6 | I90: =IF(A90>0,VLOOKUP(A90,'BASE FEDERAÇÃO'!$B:$M,8,FALSE),"") -> A | J90: =IF(A90="","",VLOOKUP($A90,'BASE FEDERAÇÃO'!$B:$M,9,0)) -> MR | K90: =IF(B90="","",VLOOKUP($A90,'BASE FEDERAÇÃO'!$B:$M,10,0)) | L90: =IFERROR(VLOOKUP(A90,Apuracão!A:A,1,0),"NÃO CONSTA NA APURAÇÃO") -> 549 | M90: =IFERROR(VLOOKUP(A90,GRUPOS!C:C,1,0),"SEM GRUPO") -> 549 | N90: =IF(COUNTIF(A:A,A90)>1,"REPETIDO - CORRIGIR","OK") -> OK
A91: 572 | B91: =IF(A91>0,VLOOKUP(A91,'BASE FEDERAÇÃO'!$B:$M,2,FALSE),"") -> TAKANO | C91: =IF(A91>0,VLOOKUP(A91,'BASE FEDERAÇÃO'!$B:$M,3,FALSE),"") -> ELZA FARUYO | D91: =IF(A91>0,VLOOKUP(A91,'BASE FEDERAÇÃO'!$B:$M,4,FALSE),"") -> F | E91: =IF(A91>0,VLOOKUP(A91,'BASE FEDERAÇÃO'!$B:$M,5,FALSE),"") -> 07. GSP | F91: =IFERROR(VLOOKUP(E91,Base!$G:$H,2,0),"") -> GRANDE SÃO PAULO | G91: =IF(A91>0,VLOOKUP(A91,'BASE FEDERAÇÃO'!$B:$M,6,FALSE),"") -> 19929 | H91: =IF(A91>0,VLOOKUP(A91,'BASE FEDERAÇÃO'!$B:$M,7,FALSE),"") -> 6 | I91: =IF(A91>0,VLOOKUP(A91,'BASE FEDERAÇÃO'!$B:$M,8,FALSE),"") -> A | J91: =IF(A91="","",VLOOKUP($A91,'BASE FEDERAÇÃO'!$B:$M,9,0)) -> NSR | K91: =IF(B91="","",VLOOKUP($A91,'BASE FEDERAÇÃO'!$B:$M,10,0)) | L91: =IFERROR(VLOOKUP(A91,Apuracão!A:A,1,0),"NÃO CONSTA NA APURAÇÃO") -> 572 | M91: =IFERROR(VLOOKUP(A91,GRUPOS!C:C,1,0),"SEM GRUPO") -> 572 | N91: =IF(COUNTIF(A:A,A91)>1,"REPETIDO - CORRIGIR","OK") -> OK
A92: 582 | B92: =IF(A92>0,VLOOKUP(A92,'BASE FEDERAÇÃO'!$B:$M,2,FALSE),"") -> TAKEYA | C92: =IF(A92>0,VLOOKUP(A92,'BASE FEDERAÇÃO'!$B:$M,3,FALSE),"") -> JUNKO | D92: =IF(A92>0,VLOOKUP(A92,'BASE FEDERAÇÃO'!$B:$M,4,FALSE),"") -> F | E92: =IF(A92>0,VLOOKUP(A92,'BASE FEDERAÇÃO'!$B:$M,5,FALSE),"") -> 07. GSP | F92: =IFERROR(VLOOKUP(E92,Base!$G:$H,2,0),"") -> GRANDE SÃO PAULO | G92: =IF(A92>0,VLOOKUP(A92,'BASE FEDERAÇÃO'!$B:$M,6,FALSE),"") -> 15736 | H92: =IF(A92>0,VLOOKUP(A92,'BASE FEDERAÇÃO'!$B:$M,7,FALSE),"") -> 6 | I92: =IF(A92>0,VLOOKUP(A92,'BASE FEDERAÇÃO'!$B:$M,8,FALSE),"") -> A | J92: =IF(A92="","",VLOOKUP($A92,'BASE FEDERAÇÃO'!$B:$M,9,0)) -> SR | K92: =IF(B92="","",VLOOKUP($A92,'BASE FEDERAÇÃO'!$B:$M,10,0)) -> X | L92: =IFERROR(VLOOKUP(A92,Apuracão!A:A,1,0),"NÃO CONSTA NA APURAÇÃO") -> 582 | M92: =IFERROR(VLOOKUP(A92,GRUPOS!C:C,1,0),"SEM GRUPO") -> 582 | N92: =IF(COUNTIF(A:A,A92)>1,"REPETIDO - CORRIGIR","OK") -> OK
A93: 587 | B93: =IF(A93>0,VLOOKUP(A93,'BASE FEDERAÇÃO'!$B:$M,2,FALSE),"") -> SHIMURA | C93: =IF(A93>0,VLOOKUP(A93,'BASE FEDERAÇÃO'!$B:$M,3,FALSE),"") -> JUSCELINO | D93: =IF(A93>0,VLOOKUP(A93,'BASE FEDERAÇÃO'!$B:$M,4,FALSE),"") -> M | E93: =IF(A93>0,VLOOKUP(A93,'BASE FEDERAÇÃO'!$B:$M,5,FALSE),"") -> 07. GSP | F93: =IFERROR(VLOOKUP(E93,Base!$G:$H,2,0),"") -> GRANDE SÃO PAULO | G93: =IF(A93>0,VLOOKUP(A93,'BASE FEDERAÇÃO'!$B:$M,6,FALSE),"") -> 20561 | H93: =IF(A93>0,VLOOKUP(A93,'BASE FEDERAÇÃO'!$B:$M,7,FALSE),"") -> 9 | I93: =IF(A93>0,VLOOKUP(A93,'BASE FEDERAÇÃO'!$B:$M,8,FALSE),"") -> B | J93: =IF(A93="","",VLOOKUP($A93,'BASE FEDERAÇÃO'!$B:$M,9,0)) -> NSR | K93: =IF(B93="","",VLOOKUP($A93,'BASE FEDERAÇÃO'!$B:$M,10,0)) -> X | L93: =IFERROR(VLOOKUP(A93,Apuracão!A:A,1,0),"NÃO CONSTA NA APURAÇÃO") -> 587 | M93: =IFERROR(VLOOKUP(A93,GRUPOS!C:C,1,0),"SEM GRUPO") -> 587 | N93: =IF(COUNTIF(A:A,A93)>1,"REPETIDO - CORRIGIR","OK") -> OK
B94: =IF(A94>0,VLOOKUP(A94,'BASE FEDERAÇÃO'!$B:$M,2,FALSE),"") | C94: =IF(A94>0,VLOOKUP(A94,'BASE FEDERAÇÃO'!$B:$M,3,FALSE),"") | D94: =IF(A94>0,VLOOKUP(A94,'BASE FEDERAÇÃO'!$B:$M,4,FALSE),"") | E94: =IF(A94>0,VLOOKUP(A94,'BASE FEDERAÇÃO'!$B:$M,5,FALSE),"") | F94: =IFERROR(VLOOKUP(E94,Base!$G:$H,2,0),"") | G94: =IF(A94>0,VLOOKUP(A94,'BASE FEDERAÇÃO'!$B:$M,6,FALSE),"") | H94: =IF(A94>0,VLOOKUP(A94,'BASE FEDERAÇÃO'!$B:$M,7,FALSE),"") | I94: =IF(A94>0,VLOOKUP(A94,'BASE FEDERAÇÃO'!$B:$M,8,FALSE),"") | J94: =IF(A94="","",VLOOKUP($A94,'BASE FEDERAÇÃO'!$B:$M,9,0)) | K94: =IF(B94="","",VLOOKUP($A94,'BASE FEDERAÇÃO'!$B:$M,10,0)) | L94: =IFERROR(VLOOKUP(A94,Apuracão!A:A,1,0),"NÃO CONSTA NA APURAÇÃO") -> NÃO CONSTA NA APURAÇÃO | M94: =IFERROR(VLOOKUP(A94,GRUPOS!C:C,1,0),"SEM GRUPO") -> SEM GRUPO | N94: =IF(COUNTIF(A:A,A94)>1,"REPETIDO - CORRIGIR","OK") -> OK | O94: 616 - cancelado
B95: =IF(A95>0,VLOOKUP(A95,'BASE FEDERAÇÃO'!$B:$M,2,FALSE),"") | C95: =IF(A95>0,VLOOKUP(A95,'BASE FEDERAÇÃO'!$B:$M,3,FALSE),"") | D95: =IF(A95>0,VLOOKUP(A95,'BASE FEDERAÇÃO'!$B:$M,4,FALSE),"") | E95: =IF(A95>0,VLOOKUP(A95,'BASE FEDERAÇÃO'!$B:$M,5,FALSE),"") | F95: =IFERROR(VLOOKUP(E95,Base!$G:$H,2,0),"") | G95: =IF(A95>0,VLOOKUP(A95,'BASE FEDERAÇÃO'!$B:$M,6,FALSE),"") | H95: =IF(A95>0,VLOOKUP(A95,'BASE FEDERAÇÃO'!$B:$M,7,FALSE),"") | I95: =IF(A95>0,VLOOKUP(A95,'BASE FEDERAÇÃO'!$B:$M,8,FALSE),"") | J95: =IF(A95="","",VLOOKUP($A95,'BASE FEDERAÇÃO'!$B:$M,9,0)) | K95: =IF(B95="","",VLOOKUP($A95,'BASE FEDERAÇÃO'!$B:$M,10,0)) | L95: =IFERROR(VLOOKUP(A95,Apuracão!A:A,1,0),"NÃO CONSTA NA APURAÇÃO") -> NÃO CONSTA NA APURAÇÃO | M95: =IFERROR(VLOOKUP(A95,GRUPOS!C:C,1,0),"SEM GRUPO") -> SEM GRUPO | N95: =IF(COUNTIF(A:A,A95)>1,"REPETIDO - CORRIGIR","OK") -> OK | O95: 613 - cancelado
B96: =IF(A96>0,VLOOKUP(A96,'BASE FEDERAÇÃO'!$B:$M,2,FALSE),"") | C96: =IF(A96>0,VLOOKUP(A96,'BASE FEDERAÇÃO'!$B:$M,3,FALSE),"") | D96: =IF(A96>0,VLOOKUP(A96,'BASE FEDERAÇÃO'!$B:$M,4,FALSE),"") | E96: =IF(A96>0,VLOOKUP(A96,'BASE FEDERAÇÃO'!$B:$M,5,FALSE),"") | F96: =IFERROR(VLOOKUP(E96,Base!$G:$H,2,0),"") | G96: =IF(A96>0,VLOOKUP(A96,'BASE FEDERAÇÃO'!$B:$M,6,FALSE),"") | H96: =IF(A96>0,VLOOKUP(A96,'BASE FEDERAÇÃO'!$B:$M,7,FALSE),"") | I96: =IF(A96>0,VLOOKUP(A96,'BASE FEDERAÇÃO'!$B:$M,8,FALSE),"") | J96: =IF(A96="","",VLOOKUP($A96,'BASE FEDERAÇÃO'!$B:$M,9,0)) | K96: =IF(B96="","",VLOOKUP($A96,'BASE FEDERAÇÃO'!$B:$M,10,0)) | L96: =IFERROR(VLOOKUP(A96,Apuracão!A:A,1,0),"NÃO CONSTA NA APURAÇÃO") -> NÃO CONSTA NA APURAÇÃO | M96: =IFERROR(VLOOKUP(A96,GRUPOS!C:C,1,0),"SEM GRUPO") -> SEM GRUPO | N96: =IF(COUNTIF(A:A,A96)>1,"REPETIDO - CORRIGIR","OK") -> OK | O96: 615 - cancelado
B97: =IF(A97>0,VLOOKUP(A97,'BASE FEDERAÇÃO'!$B:$M,2,FALSE),"") | C97: =IF(A97>0,VLOOKUP(A97,'BASE FEDERAÇÃO'!$B:$M,3,FALSE),"") | D97: =IF(A97>0,VLOOKUP(A97,'BASE FEDERAÇÃO'!$B:$M,4,FALSE),"") | E97: =IF(A97>0,VLOOKUP(A97,'BASE FEDERAÇÃO'!$B:$M,5,FALSE),"") | F97: =IFERROR(VLOOKUP(E97,Base!$G:$H,2,0),"") | G97: =IF(A97>0,VLOOKUP(A97,'BASE FEDERAÇÃO'!$B:$M,6,FALSE),"") | H97: =IF(A97>0,VLOOKUP(A97,'BASE FEDERAÇÃO'!$B:$M,7,FALSE),"") | I97: =IF(A97>0,VLOOKUP(A97,'BASE FEDERAÇÃO'!$B:$M,8,FALSE),"") | J97: =IF(A97="","",VLOOKUP($A97,'BASE FEDERAÇÃO'!$B:$M,9,0)) | K97: =IF(B97="","",VLOOKUP($A97,'BASE FEDERAÇÃO'!$B:$M,10,0)) | L97: =IFERROR(VLOOKUP(A97,Apuracão!A:A,1,0),"NÃO CONSTA NA APURAÇÃO") -> NÃO CONSTA NA APURAÇÃO | M97: =IFERROR(VLOOKUP(A97,GRUPOS!C:C,1,0),"SEM GRUPO") -> SEM GRUPO | N97: =IF(COUNTIF(A:A,A97)>1,"REPETIDO - CORRIGIR","OK") -> OK | O97: 619 - cancelado
A98: 620 | B98: =IF(A98>0,VLOOKUP(A98,'BASE FEDERAÇÃO'!$B:$M,2,FALSE),"") -> OGATA | C98: =IF(A98>0,VLOOKUP(A98,'BASE FEDERAÇÃO'!$B:$M,3,FALSE),"") -> NELSON | D98: =IF(A98>0,VLOOKUP(A98,'BASE FEDERAÇÃO'!$B:$M,4,FALSE),"") -> M | E98: =IF(A98>0,VLOOKUP(A98,'BASE FEDERAÇÃO'!$B:$M,5,FALSE),"") -> 07. GSP | F98: =IFERROR(VLOOKUP(E98,Base!$G:$H,2,0),"") -> GRANDE SÃO PAULO | G98: =IF(A98>0,VLOOKUP(A98,'BASE FEDERAÇÃO'!$B:$M,6,FALSE),"") -> 19753 | H98: =IF(A98>0,VLOOKUP(A98,'BASE FEDERAÇÃO'!$B:$M,7,FALSE),"") -> 3 | I98: =IF(A98>0,VLOOKUP(A98,'BASE FEDERAÇÃO'!$B:$M,8,FALSE),"") -> EX | J98: =IF(A98="","",VLOOKUP($A98,'BASE FEDERAÇÃO'!$B:$M,9,0)) -> NSR | K98: =IF(B98="","",VLOOKUP($A98,'BASE FEDERAÇÃO'!$B:$M,10,0)) -> X | L98: =IFERROR(VLOOKUP(A98,Apuracão!A:A,1,0),"NÃO CONSTA NA APURAÇÃO") -> 620 | M98: =IFERROR(VLOOKUP(A98,GRUPOS!C:C,1,0),"SEM GRUPO") -> 620 | N98: =IF(COUNTIF(A:A,A98)>1,"REPETIDO - CORRIGIR","OK") -> OK
A99: 621 | B99: =IF(A99>0,VLOOKUP(A99,'BASE FEDERAÇÃO'!$B:$M,2,FALSE),"") -> OGATA | C99: =IF(A99>0,VLOOKUP(A99,'BASE FEDERAÇÃO'!$B:$M,3,FALSE),"") -> MEGUMI | D99: =IF(A99>0,VLOOKUP(A99,'BASE FEDERAÇÃO'!$B:$M,4,FALSE),"") -> F | E99: =IF(A99>0,VLOOKUP(A99,'BASE FEDERAÇÃO'!$B:$M,5,FALSE),"") -> 07. GSP | F99: =IFERROR(VLOOKUP(E99,Base!$G:$H,2,0),"") -> GRANDE SÃO PAULO | G99: =IF(A99>0,VLOOKUP(A99,'BASE FEDERAÇÃO'!$B:$M,6,FALSE),"") -> 19169 | H99: =IF(A99>0,VLOOKUP(A99,'BASE FEDERAÇÃO'!$B:$M,7,FALSE),"") -> 9 | I99: =IF(A99>0,VLOOKUP(A99,'BASE FEDERAÇÃO'!$B:$M,8,FALSE),"") -> B | J99: =IF(A99="","",VLOOKUP($A99,'BASE FEDERAÇÃO'!$B:$M,9,0)) -> NSR | K99: =IF(B99="","",VLOOKUP($A99,'BASE FEDERAÇÃO'!$B:$M,10,0)) | L99: =IFERROR(VLOOKUP(A99,Apuracão!A:A,1,0),"NÃO CONSTA NA APURAÇÃO") -> 621 | M99: =IFERROR(VLOOKUP(A99,GRUPOS!C:C,1,0),"SEM GRUPO") -> 621 | N99: =IF(COUNTIF(A:A,A99)>1,"REPETIDO - CORRIGIR","OK") -> OK
A100: 624 | B100: =IF(A100>0,VLOOKUP(A100,'BASE FEDERAÇÃO'!$B:$M,2,FALSE),"") -> YOKOYAMA | C100: =IF(A100>0,VLOOKUP(A100,'BASE FEDERAÇÃO'!$B:$M,3,FALSE),"") -> HIROSHI | D100: =IF(A100>0,VLOOKUP(A100,'BASE FEDERAÇÃO'!$B:$M,4,FALSE),"") -> M | E100: =IF(A100>0,VLOOKUP(A100,'BASE FEDERAÇÃO'!$B:$M,5,FALSE),"") -> 07. GSP | F100: =IFERROR(VLOOKUP(E100,Base!$G:$H,2,0),"") -> GRANDE SÃO PAULO | G100: =IF(A100>0,VLOOKUP(A100,'BASE FEDERAÇÃO'!$B:$M,6,FALSE),"") -> 19283 | H100: =IF(A100>0,VLOOKUP(A100,'BASE FEDERAÇÃO'!$B:$M,7,FALSE),"") -> 5 | I100: =IF(A100>0,VLOOKUP(A100,'BASE FEDERAÇÃO'!$B:$M,8,FALSE),"") -> A | J100: =IF(A100="","",VLOOKUP($A100,'BASE FEDERAÇÃO'!$B:$M,9,0)) -> NSR | K100: =IF(B100="","",VLOOKUP($A100,'BASE FEDERAÇÃO'!$B:$M,10,0)) | L100: =IFERROR(VLOOKUP(A100,Apuracão!A:A,1,0),"NÃO CONSTA NA APURAÇÃO") -> 624 | M100: =IFERROR(VLOOKUP(A100,GRUPOS!C:C,1,0),"SEM GRUPO") -> 624 | N100: =IF(COUNTIF(A:A,A100)>1,"REPETIDO - CORRIGIR","OK") -> OK
A101: 626 | B101: =IF(A101>0,VLOOKUP(A101,'BASE FEDERAÇÃO'!$B:$M,2,FALSE),"") -> SHIMURA | C101: =IF(A101>0,VLOOKUP(A101,'BASE FEDERAÇÃO'!$B:$M,3,FALSE),"") -> ALICE MIWAKO | D101: =IF(A101>0,VLOOKUP(A101,'BASE FEDERAÇÃO'!$B:$M,4,FALSE),"") -> F | E101: =IF(A101>0,VLOOKUP(A101,'BASE FEDERAÇÃO'!$B:$M,5,FALSE),"") -> 07. GSP | F101: =IFERROR(VLOOKUP(E101,Base!$G:$H,2,0),"") -> GRANDE SÃO PAULO | G101: =IF(A101>0,VLOOKUP(A101,'BASE FEDERAÇÃO'!$B:$M,6,FALSE),"") -> 21468 | H101: =IF(A101>0,VLOOKUP(A101,'BASE FEDERAÇÃO'!$B:$M,7,FALSE),"") -> 2 | I101: =IF(A101>0,VLOOKUP(A101,'BASE FEDERAÇÃO'!$B:$M,8,FALSE),"") -> EX | J101: =IF(A101="","",VLOOKUP($A101,'BASE FEDERAÇÃO'!$B:$M,9,0)) -> NSR | K101: =IF(B101="","",VLOOKUP($A101,'BASE FEDERAÇÃO'!$B:$M,10,0)) -> X | L101: =IFERROR(VLOOKUP(A101,Apuracão!A:A,1,0),"NÃO CONSTA NA APURAÇÃO") -> 626 | M101: =IFERROR(VLOOKUP(A101,GRUPOS!C:C,1,0),"SEM GRUPO") -> 626 | N101: =IF(COUNTIF(A:A,A101)>1,"REPETIDO - CORRIGIR","OK") -> OK
A102: 647 | B102: =IF(A102>0,VLOOKUP(A102,'BASE FEDERAÇÃO'!$B:$M,2,FALSE),"") -> YOKOTI | C102: =IF(A102>0,VLOOKUP(A102,'BASE FEDERAÇÃO'!$B:$M,3,FALSE),"") -> MINORU | D102: =IF(A102>0,VLOOKUP(A102,'BASE FEDERAÇÃO'!$B:$M,4,FALSE),"") -> M | E102: =IF(A102>0,VLOOKUP(A102,'BASE FEDERAÇÃO'!$B:$M,5,FALSE),"") -> 07. GSP | F102: =IFERROR(VLOOKUP(E102,Base!$G:$H,2,0),"") -> GRANDE SÃO PAULO | G102: =IF(A102>0,VLOOKUP(A102,'BASE FEDERAÇÃO'!$B:$M,6,FALSE),"") -> 11642 | H102: =IF(A102>0,VLOOKUP(A102,'BASE FEDERAÇÃO'!$B:$M,7,FALSE),"") -> 10 | I102: =IF(A102>0,VLOOKUP(A102,'BASE FEDERAÇÃO'!$B:$M,8,FALSE),"") -> C | J102: =IF(A102="","",VLOOKUP($A102,'BASE FEDERAÇÃO'!$B:$M,9,0)) -> MR | K102: =IF(B102="","",VLOOKUP($A102,'BASE FEDERAÇÃO'!$B:$M,10,0)) -> X | L102: =IFERROR(VLOOKUP(A102,Apuracão!A:A,1,0),"NÃO CONSTA NA APURAÇÃO") -> 647 | M102: =IFERROR(VLOOKUP(A102,GRUPOS!C:C,1,0),"SEM GRUPO") -> 647 | N102: =IF(COUNTIF(A:A,A102)>1,"REPETIDO - CORRIGIR","OK") -> OK
A103: 652 | B103: =IF(A103>0,VLOOKUP(A103,'BASE FEDERAÇÃO'!$B:$M,2,FALSE),"") -> HAYAKAWA | C103: =IF(A103>0,VLOOKUP(A103,'BASE FEDERAÇÃO'!$B:$M,3,FALSE),"") -> EIKO | D103: =IF(A103>0,VLOOKUP(A103,'BASE FEDERAÇÃO'!$B:$M,4,FALSE),"") -> F | E103: =IF(A103>0,VLOOKUP(A103,'BASE FEDERAÇÃO'!$B:$M,5,FALSE),"") -> 07. GSP | F103: =IFERROR(VLOOKUP(E103,Base!$G:$H,2,0),"") -> GRANDE SÃO PAULO | G103: =IF(A103>0,VLOOKUP(A103,'BASE FEDERAÇÃO'!$B:$M,6,FALSE),"") -> 13575 | H103: =IF(A103>0,VLOOKUP(A103,'BASE FEDERAÇÃO'!$B:$M,7,FALSE),"") -> 9 | I103: =IF(A103>0,VLOOKUP(A103,'BASE FEDERAÇÃO'!$B:$M,8,FALSE),"") -> B | J103: =IF(A103="","",VLOOKUP($A103,'BASE FEDERAÇÃO'!$B:$M,9,0)) -> MR | K103: =IF(B103="","",VLOOKUP($A103,'BASE FEDERAÇÃO'!$B:$M,10,0)) | L103: =IFERROR(VLOOKUP(A103,Apuracão!A:A,1,0),"NÃO CONSTA NA APURAÇÃO") -> 652 | M103: =IFERROR(VLOOKUP(A103,GRUPOS!C:C,1,0),"SEM GRUPO") -> 652 | N103: =IF(COUNTIF(A:A,A103)>1,"REPETIDO - CORRIGIR","OK") -> OK
A104: 665 | B104: =IF(A104>0,VLOOKUP(A104,'BASE FEDERAÇÃO'!$B:$M,2,FALSE),"") -> UTSUMI | C104: =IF(A104>0,VLOOKUP(A104,'BASE FEDERAÇÃO'!$B:$M,3,FALSE),"") -> KAZUKO | D104: =IF(A104>0,VLOOKUP(A104,'BASE FEDERAÇÃO'!$B:$M,4,FALSE),"") -> F | E104: =IF(A104>0,VLOOKUP(A104,'BASE FEDERAÇÃO'!$B:$M,5,FALSE),"") -> 07. GSP | F104: =IFERROR(VLOOKUP(E104,Base!$G:$H,2,0),"") -> GRANDE SÃO PAULO | G104: =IF(A104>0,VLOOKUP(A104,'BASE FEDERAÇÃO'!$B:$M,6,FALSE),"") -> 15722 | H104: =IF(A104>0,VLOOKUP(A104,'BASE FEDERAÇÃO'!$B:$M,7,FALSE),"") -> 12 | I104: =IF(A104>0,VLOOKUP(A104,'BASE FEDERAÇÃO'!$B:$M,8,FALSE),"") -> C | J104: =IF(A104="","",VLOOKUP($A104,'BASE FEDERAÇÃO'!$B:$M,9,0)) -> SR | K104: =IF(B104="","",VLOOKUP($A104,'BASE FEDERAÇÃO'!$B:$M,10,0)) | L104: =IFERROR(VLOOKUP(A104,Apuracão!A:A,1,0),"NÃO CONSTA NA APURAÇÃO") -> 665 | M104: =IFERROR(VLOOKUP(A104,GRUPOS!C:C,1,0),"SEM GRUPO") -> 665 | N104: =IF(COUNTIF(A:A,A104)>1,"REPETIDO - CORRIGIR","OK") -> OK
A105: 696 | B105: =IF(A105>0,VLOOKUP(A105,'BASE FEDERAÇÃO'!$B:$M,2,FALSE),"") -> M. SILVA YADOYA | C105: =IF(A105>0,VLOOKUP(A105,'BASE FEDERAÇÃO'!$B:$M,3,FALSE),"") -> ROSILEIDE | D105: =IF(A105>0,VLOOKUP(A105,'BASE FEDERAÇÃO'!$B:$M,4,FALSE),"") -> F | E105: =IF(A105>0,VLOOKUP(A105,'BASE FEDERAÇÃO'!$B:$M,5,FALSE),"") -> 07. GSP | F105: =IFERROR(VLOOKUP(E105,Base!$G:$H,2,0),"") -> GRANDE SÃO PAULO | G105: =IF(A105>0,VLOOKUP(A105,'BASE FEDERAÇÃO'!$B:$M,6,FALSE),"") -> 26071 | H105: =IF(A105>0,VLOOKUP(A105,'BASE FEDERAÇÃO'!$B:$M,7,FALSE),"") -> 12 | I105: =IF(A105>0,VLOOKUP(A105,'BASE FEDERAÇÃO'!$B:$M,8,FALSE),"") -> C | J105: =IF(A105="","",VLOOKUP($A105,'BASE FEDERAÇÃO'!$B:$M,9,0)) -> NSR | K105: =IF(B105="","",VLOOKUP($A105,'BASE FEDERAÇÃO'!$B:$M,10,0)) | L105: =IFERROR(VLOOKUP(A105,Apuracão!A:A,1,0),"NÃO CONSTA NA APURAÇÃO") -> 696 | M105: =IFERROR(VLOOKUP(A105,GRUPOS!C:C,1,0),"SEM GRUPO") -> 696 | N105: =IF(COUNTIF(A:A,A105)>1,"REPETIDO - CORRIGIR","OK") -> OK
A106: 697 | B106: =IF(A106>0,VLOOKUP(A106,'BASE FEDERAÇÃO'!$B:$M,2,FALSE),"") -> YADOYA | C106: =IF(A106>0,VLOOKUP(A106,'BASE FEDERAÇÃO'!$B:$M,3,FALSE),"") -> KITARO | D106: =IF(A106>0,VLOOKUP(A106,'BASE FEDERAÇÃO'!$B:$M,4,FALSE),"") -> M | E106: =IF(A106>0,VLOOKUP(A106,'BASE FEDERAÇÃO'!$B:$M,5,FALSE),"") -> 07. GSP | F106: =IFERROR(VLOOKUP(E106,Base!$G:$H,2,0),"") -> GRANDE SÃO PAULO | G106: =IF(A106>0,VLOOKUP(A106,'BASE FEDERAÇÃO'!$B:$M,6,FALSE),"") -> 23259 | H106: =IF(A106>0,VLOOKUP(A106,'BASE FEDERAÇÃO'!$B:$M,7,FALSE),"") -> 9 | I106: =IF(A106>0,VLOOKUP(A106,'BASE FEDERAÇÃO'!$B:$M,8,FALSE),"") -> B | J106: =IF(A106="","",VLOOKUP($A106,'BASE FEDERAÇÃO'!$B:$M,9,0)) -> NSR | K106: =IF(B106="","",VLOOKUP($A106,'BASE FEDERAÇÃO'!$B:$M,10,0)) -> X | L106: =IFERROR(VLOOKUP(A106,Apuracão!A:A,1,0),"NÃO CONSTA NA APURAÇÃO") -> 697 | M106: =IFERROR(VLOOKUP(A106,GRUPOS!C:C,1,0),"SEM GRUPO") -> 697 | N106: =IF(COUNTIF(A:A,A106)>1,"REPETIDO - CORRIGIR","OK") -> OK
A107: 698 | B107: =IF(A107>0,VLOOKUP(A107,'BASE FEDERAÇÃO'!$B:$M,2,FALSE),"") -> HARA TABATA | C107: =IF(A107>0,VLOOKUP(A107,'BASE FEDERAÇÃO'!$B:$M,3,FALSE),"") -> ROSA HIDEKO | D107: =IF(A107>0,VLOOKUP(A107,'BASE FEDERAÇÃO'!$B:$M,4,FALSE),"") -> F | E107: =IF(A107>0,VLOOKUP(A107,'BASE FEDERAÇÃO'!$B:$M,5,FALSE),"") -> 07. GSP | F107: =IFERROR(VLOOKUP(E107,Base!$G:$H,2,0),"") -> GRANDE SÃO PAULO | G107: =IF(A107>0,VLOOKUP(A107,'BASE FEDERAÇÃO'!$B:$M,6,FALSE),"") -> 18830 | H107: =IF(A107>0,VLOOKUP(A107,'BASE FEDERAÇÃO'!$B:$M,7,FALSE),"") -> 12 | I107: =IF(A107>0,VLOOKUP(A107,'BASE FEDERAÇÃO'!$B:$M,8,FALSE),"") -> C | J107: =IF(A107="","",VLOOKUP($A107,'BASE FEDERAÇÃO'!$B:$M,9,0)) -> SR | K107: =IF(B107="","",VLOOKUP($A107,'BASE FEDERAÇÃO'!$B:$M,10,0)) | L107: =IFERROR(VLOOKUP(A107,Apuracão!A:A,1,0),"NÃO CONSTA NA APURAÇÃO") -> 698 | M107: =IFERROR(VLOOKUP(A107,GRUPOS!C:C,1,0),"SEM GRUPO") -> 698 | N107: =IF(COUNTIF(A:A,A107)>1,"REPETIDO - CORRIGIR","OK") -> OK
A108: 711 | B108: =IF(A108>0,VLOOKUP(A108,'BASE FEDERAÇÃO'!$B:$M,2,FALSE),"") -> NISHIMURA | C108: =IF(A108>0,VLOOKUP(A108,'BASE FEDERAÇÃO'!$B:$M,3,FALSE),"") -> ELENA | D108: =IF(A108>0,VLOOKUP(A108,'BASE FEDERAÇÃO'!$B:$M,4,FALSE),"") -> F | E108: =IF(A108>0,VLOOKUP(A108,'BASE FEDERAÇÃO'!$B:$M,5,FALSE),"") -> 07. GSP | F108: =IFERROR(VLOOKUP(E108,Base!$G:$H,2,0),"") -> GRANDE SÃO PAULO | G108: =IF(A108>0,VLOOKUP(A108,'BASE FEDERAÇÃO'!$B:$M,6,FALSE),"") -> 16868 | H108: =IF(A108>0,VLOOKUP(A108,'BASE FEDERAÇÃO'!$B:$M,7,FALSE),"") -> 8 | I108: =IF(A108>0,VLOOKUP(A108,'BASE FEDERAÇÃO'!$B:$M,8,FALSE),"") -> B | J108: =IF(A108="","",VLOOKUP($A108,'BASE FEDERAÇÃO'!$B:$M,9,0)) -> SR | K108: =IF(B108="","",VLOOKUP($A108,'BASE FEDERAÇÃO'!$B:$M,10,0)) -> X | L108: =IFERROR(VLOOKUP(A108,Apuracão!A:A,1,0),"NÃO CONSTA NA APURAÇÃO") -> 711 | M108: =IFERROR(VLOOKUP(A108,GRUPOS!C:C,1,0),"SEM GRUPO") -> 711 | N108: =IF(COUNTIF(A:A,A108)>1,"REPETIDO - CORRIGIR","OK") -> OK
A109: 716 | B109: =IF(A109>0,VLOOKUP(A109,'BASE FEDERAÇÃO'!$B:$M,2,FALSE),"") -> KUSANO | C109: =IF(A109>0,VLOOKUP(A109,'BASE FEDERAÇÃO'!$B:$M,3,FALSE),"") -> JULIA KIEKO | D109: =IF(A109>0,VLOOKUP(A109,'BASE FEDERAÇÃO'!$B:$M,4,FALSE),"") -> F | E109: =IF(A109>0,VLOOKUP(A109,'BASE FEDERAÇÃO'!$B:$M,5,FALSE),"") -> 07. GSP | F109: =IFERROR(VLOOKUP(E109,Base!$G:$H,2,0),"") -> GRANDE SÃO PAULO | G109: =IF(A109>0,VLOOKUP(A109,'BASE FEDERAÇÃO'!$B:$M,6,FALSE),"") -> 16988 | H109: =IF(A109>0,VLOOKUP(A109,'BASE FEDERAÇÃO'!$B:$M,7,FALSE),"") -> 12 | I109: =IF(A109>0,VLOOKUP(A109,'BASE FEDERAÇÃO'!$B:$M,8,FALSE),"") -> C | J109: =IF(A109="","",VLOOKUP($A109,'BASE FEDERAÇÃO'!$B:$M,9,0)) -> SR | K109: =IF(B109="","",VLOOKUP($A109,'BASE FEDERAÇÃO'!$B:$M,10,0)) | L109: =IFERROR(VLOOKUP(A109,Apuracão!A:A,1,0),"NÃO CONSTA NA APURAÇÃO") -> 716 | M109: =IFERROR(VLOOKUP(A109,GRUPOS!C:C,1,0),"SEM GRUPO") -> 716 | N109: =IF(COUNTIF(A:A,A109)>1,"REPETIDO - CORRIGIR","OK") -> OK
... A118: 993 | B118: =IF(A118>0,VLOOKUP(A118,'BASE FEDERAÇÃO'!$B:$M,2,FALSE),"") -> ABEMATSU | C118: =IF(A118>0,VLOOKUP(A118,'BASE FEDERAÇÃO'!$B:$M,3,FALSE),"") -> KATSUYUKI | D118: =IF(A118>0,VLOOKUP(A118,'BASE FEDERAÇÃO'!$B:$M,4,FALSE),"") -> M | E118: =IF(A118>0,VLOOKUP(A118,'BASE FEDERAÇÃO'!$B:$M,5,FALSE),"") -> 07. GSP | F118: =IFERROR(VLOOKUP(E118,Base!$G:$H,2,0),"") -> GRANDE SÃO PAULO | G118: =IF(A118>0,VLOOKUP(A118,'BASE FEDERAÇÃO'!$B:$M,6,FALSE),"") -> 17411 | H118: =IF(A118>0,VLOOKUP(A118,'BASE FEDERAÇÃO'!$B:$M,7,FALSE),"") -> 5 | I118: =IF(A118>0,VLOOKUP(A118,'BASE FEDERAÇÃO'!$B:$M,8,FALSE),"") -> A | J118: =IF(A118="","",VLOOKUP($A118,'BASE FEDERAÇÃO'!$B:$M,9,0)) -> SR | K118: =IF(B118="","",VLOOKUP($A118,'BASE FEDERAÇÃO'!$B:$M,10,0)) -> X | L118: =IFERROR(VLOOKUP(A118,Apuracão!A:A,1,0),"NÃO CONSTA NA APURAÇÃO") -> 993 | M118: =IFERROR(VLOOKUP(A118,GRUPOS!C:C,1,0),"SEM GRUPO") -> 993 | N118: =IF(COUNTIF(A:A,A118)>1,"REPETIDO - CORRIGIR","OK") -> OK
B119: =IF(A119>0,VLOOKUP(A119,'BASE FEDERAÇÃO'!$B:$M,2,FALSE),"") | C119: =IF(A119>0,VLOOKUP(A119,'BASE FEDERAÇÃO'!$B:$M,3,FALSE),"") | D119: =IF(A119>0,VLOOKUP(A119,'BASE FEDERAÇÃO'!$B:$M,4,FALSE),"") | E119: =IF(A119>0,VLOOKUP(A119,'BASE FEDERAÇÃO'!$B:$M,5,FALSE),"") | F119: =IFERROR(VLOOKUP(E119,Base!$G:$H,2,0),"") | G119: =IF(A119>0,VLOOKUP(A119,'BASE FEDERAÇÃO'!$B:$M,6,FALSE),"") | H119: =IF(A119>0,VLOOKUP(A119,'BASE FEDERAÇÃO'!$B:$M,7,FALSE),"") | I119: =IF(A119>0,VLOOKUP(A119,'BASE FEDERAÇÃO'!$B:$M,8,FALSE),"") | J119: =IF(A119="","",VLOOKUP($A119,'BASE FEDERAÇÃO'!$B:$M,9,0)) | K119: =IF(B119="","",VLOOKUP($A119,'BASE FEDERAÇÃO'!$B:$M,10,0)) | L119: =IFERROR(VLOOKUP(A119,Apuracão!A:A,1,0),"NÃO CONSTA NA APURAÇÃO") -> NÃO CONSTA NA APURAÇÃO | M119: =IFERROR(VLOOKUP(A119,GRUPOS!C:C,1,0),"SEM GRUPO") -> SEM GRUPO | N119: =IF(COUNTIF(A:A,A119)>1,"REPETIDO - CORRIGIR","OK") -> OK
A120: 131 | B120: =IF(A120>0,VLOOKUP(A120,'BASE FEDERAÇÃO'!$B:$M,2,FALSE),"") -> IBUSUKI | C120: =IF(A120>0,VLOOKUP(A120,'BASE FEDERAÇÃO'!$B:$M,3,FALSE),"") -> FUMIYOSHI | D120: =IF(A120>0,VLOOKUP(A120,'BASE FEDERAÇÃO'!$B:$M,4,FALSE),"") -> M | E120: =IF(A120>0,VLOOKUP(A120,'BASE FEDERAÇÃO'!$B:$M,5,FALSE),"") -> 01. PIE | F120: =IFERROR(VLOOKUP(E120,Base!$G:$H,2,0),"") -> PIEDADE | G120: =IF(A120>0,VLOOKUP(A120,'BASE FEDERAÇÃO'!$B:$M,6,FALSE),"") -> 24985 | H120: =IF(A120>0,VLOOKUP(A120,'BASE FEDERAÇÃO'!$B:$M,7,FALSE),"") -> 4 | I120: =IF(A120>0,VLOOKUP(A120,'BASE FEDERAÇÃO'!$B:$M,8,FALSE),"") -> A | J120: =IF(A120="","",VLOOKUP($A120,'BASE FEDERAÇÃO'!$B:$M,9,0)) -> NSR | K120: =IF(B120="","",VLOOKUP($A120,'BASE FEDERAÇÃO'!$B:$M,10,0)) | L120: =IFERROR(VLOOKUP(A120,Apuracão!A:A,1,0),"NÃO CONSTA NA APURAÇÃO") -> 131 | M120: =IFERROR(VLOOKUP(A120,GRUPOS!C:C,1,0),"SEM GRUPO") -> 131 | N120: =IF(COUNTIF(A:A,A120)>1,"REPETIDO - CORRIGIR","OK") -> OK
A121: 178 | B121: =IF(A121>0,VLOOKUP(A121,'BASE FEDERAÇÃO'!$B:$M,2,FALSE),"") -> KAWAKAMI | C121: =IF(A121>0,VLOOKUP(A121,'BASE FEDERAÇÃO'!$B:$M,3,FALSE),"") -> TETSUSHI | D121: =IF(A121>0,VLOOKUP(A121,'BASE FEDERAÇÃO'!$B:$M,4,FALSE),"") -> M | E121: =IF(A121>0,VLOOKUP(A121,'BASE FEDERAÇÃO'!$B:$M,5,FALSE),"") -> 01. PIE | F121: =IFERROR(VLOOKUP(E121,Base!$G:$H,2,0),"") -> PIEDADE | G121: =IF(A121>0,VLOOKUP(A121,'BASE FEDERAÇÃO'!$B:$M,6,FALSE),"") -> 14323 | H121: =IF(A121>0,VLOOKUP(A121,'BASE FEDERAÇÃO'!$B:$M,7,FALSE),"") -> 6 | I121: =IF(A121>0,VLOOKUP(A121,'BASE FEDERAÇÃO'!$B:$M,8,FALSE),"") -> A | J121: =IF(A121="","",VLOOKUP($A121,'BASE FEDERAÇÃO'!$B:$M,9,0)) -> MR | K121: =IF(B121="","",VLOOKUP($A121,'BASE FEDERAÇÃO'!$B:$M,10,0)) -> X | L121: =IFERROR(VLOOKUP(A121,Apuracão!A:A,1,0),"NÃO CONSTA NA APURAÇÃO") -> 178 | M121: =IFERROR(VLOOKUP(A121,GRUPOS!C:C,1,0),"SEM GRUPO") -> 178 | N121: =IF(COUNTIF(A:A,A121)>1,"REPETIDO - CORRIGIR","OK") -> OK
A122: 201 | B122: =IF(A122>0,VLOOKUP(A122,'BASE FEDERAÇÃO'!$B:$M,2,FALSE),"") -> MASUDA | C122: =IF(A122>0,VLOOKUP(A122,'BASE FEDERAÇÃO'!$B:$M,3,FALSE),"") -> TERUO | D122: =IF(A122>0,VLOOKUP(A122,'BASE FEDERAÇÃO'!$B:$M,4,FALSE),"") -> M | E122: =IF(A122>0,VLOOKUP(A122,'BASE FEDERAÇÃO'!$B:$M,5,FALSE),"") -> 01. PIE | F122: =IFERROR(VLOOKUP(E122,Base!$G:$H,2,0),"") -> PIEDADE | G122: =IF(A122>0,VLOOKUP(A122,'BASE FEDERAÇÃO'!$B:$M,6,FALSE),"") -> 15336 | H122: =IF(A122>0,VLOOKUP(A122,'BASE FEDERAÇÃO'!$B:$M,7,FALSE),"") -> 3 | I122: =IF(A122>0,VLOOKUP(A122,'BASE FEDERAÇÃO'!$B:$M,8,FALSE),"") -> EX | J122: =IF(A122="","",VLOOKUP($A122,'BASE FEDERAÇÃO'!$B:$M,9,0)) -> MR | K122: =IF(B122="","",VLOOKUP($A122,'BASE FEDERAÇÃO'!$B:$M,10,0)) | L122: =IFERROR(VLOOKUP(A122,Apuracão!A:A,1,0),"NÃO CONSTA NA APURAÇÃO") -> 201 | M122: =IFERROR(VLOOKUP(A122,GRUPOS!C:C,1,0),"SEM GRUPO") -> 201 | N122: =IF(COUNTIF(A:A,A122)>1,"REPETIDO - CORRIGIR","OK") -> OK
A123: 248 | B123: =IF(A123>0,VLOOKUP(A123,'BASE FEDERAÇÃO'!$B:$M,2,FALSE),"") -> NISHIMURA | C123: =IF(A123>0,VLOOKUP(A123,'BASE FEDERAÇÃO'!$B:$M,3,FALSE),"") -> KESAO | D123: =IF(A123>0,VLOOKUP(A123,'BASE FEDERAÇÃO'!$B:$M,4,FALSE),"") -> M | E123: =IF(A123>0,VLOOKUP(A123,'BASE FEDERAÇÃO'!$B:$M,5,FALSE),"") -> 01. PIE | F123: =IFERROR(VLOOKUP(E123,Base!$G:$H,2,0),"") -> PIEDADE | G123: =IF(A123>0,VLOOKUP(A123,'BASE FEDERAÇÃO'!$B:$M,6,FALSE),"") -> 15479 | H123: =IF(A123>0,VLOOKUP(A123,'BASE FEDERAÇÃO'!$B:$M,7,FALSE),"") -> 9 | I123: =IF(A123>0,VLOOKUP(A123,'BASE FEDERAÇÃO'!$B:$M,8,FALSE),"") -> B | J123: =IF(A123="","",VLOOKUP($A123,'BASE FEDERAÇÃO'!$B:$M,9,0)) -> SR | K123: =IF(B123="","",VLOOKUP($A123,'BASE FEDERAÇÃO'!$B:$M,10,0)) | L123: =IFERROR(VLOOKUP(A123,Apuracão!A:A,1,0),"NÃO CONSTA NA APURAÇÃO") -> 248 | M123: =IFERROR(VLOOKUP(A123,GRUPOS!C:C,1,0),"SEM GRUPO") -> 248 | N123: =IF(COUNTIF(A:A,A123)>1,"REPETIDO - CORRIGIR","OK") -> OK
A124: 267 | B124: =IF(A124>0,VLOOKUP(A124,'BASE FEDERAÇÃO'!$B:$M,2,FALSE),"") -> UEYAMA | C124: =IF(A124>0,VLOOKUP(A124,'BASE FEDERAÇÃO'!$B:$M,3,FALSE),"") -> MARIA KIYOKO | D124: =IF(A124>0,VLOOKUP(A124,'BASE FEDERAÇÃO'!$B:$M,4,FALSE),"") -> F | E124: =IF(A124>0,VLOOKUP(A124,'BASE FEDERAÇÃO'!$B:$M,5,FALSE),"") -> 01. PIE | F124: =IFERROR(VLOOKUP(E124,Base!$G:$H,2,0),"") -> PIEDADE | G124: =IF(A124>0,VLOOKUP(A124,'BASE FEDERAÇÃO'!$B:$M,6,FALSE),"") -> 14975 | H124: =IF(A124>0,VLOOKUP(A124,'BASE FEDERAÇÃO'!$B:$M,7,FALSE),"") -> 9 | I124: =IF(A124>0,VLOOKUP(A124,'BASE FEDERAÇÃO'!$B:$M,8,FALSE),"") -> B | J124: =IF(A124="","",VLOOKUP($A124,'BASE FEDERAÇÃO'!$B:$M,9,0)) -> MR | K124: =IF(B124="","",VLOOKUP($A124,'BASE FEDERAÇÃO'!$B:$M,10,0)) -> X | L124: =IFERROR(VLOOKUP(A124,Apuracão!A:A,1,0),"NÃO CONSTA NA APURAÇÃO") -> 267 | M124: =IFERROR(VLOOKUP(A124,GRUPOS!C:C,1,0),"SEM GRUPO") -> 267 | N124: =IF(COUNTIF(A:A,A124)>1,"REPETIDO - CORRIGIR","OK") -> OK
A125: 347 | B125: =IF(A125>0,VLOOKUP(A125,'BASE FEDERAÇÃO'!$B:$M,2,FALSE),"") -> MASUDA | C125: =IF(A125>0,VLOOKUP(A125,'BASE FEDERAÇÃO'!$B:$M,3,FALSE),"") -> TIZUKO | D125: =IF(A125>0,VLOOKUP(A125,'BASE FEDERAÇÃO'!$B:$M,4,FALSE),"") -> F | E125: =IF(A125>0,VLOOKUP(A125,'BASE FEDERAÇÃO'!$B:$M,5,FALSE),"") -> 01. PIE | F125: =IFERROR(VLOOKUP(E125,Base!$G:$H,2,0),"") -> PIEDADE | G125: =IF(A125>0,VLOOKUP(A125,'BASE FEDERAÇÃO'!$B:$M,6,FALSE),"") -> 15977 | H125: =IF(A125>0,VLOOKUP(A125,'BASE FEDERAÇÃO'!$B:$M,7,FALSE),"") -> 5 | I125: =IF(A125>0,VLOOKUP(A125,'BASE FEDERAÇÃO'!$B:$M,8,FALSE),"") -> A | J125: =IF(A125="","",VLOOKUP($A125,'BASE FEDERAÇÃO'!$B:$M,9,0)) -> SR | K125: =IF(B125="","",VLOOKUP($A125,'BASE FEDERAÇÃO'!$B:$M,10,0)) -> X | L125: =IFERROR(VLOOKUP(A125,Apuracão!A:A,1,0),"NÃO CONSTA NA APURAÇÃO") -> 347 | M125: =IFERROR(VLOOKUP(A125,GRUPOS!C:C,1,0),"SEM GRUPO") -> 347 | N125: =IF(COUNTIF(A:A,A125)>1,"REPETIDO - CORRIGIR","OK") -> OK
A126: 398 | B126: =IF(A126>0,VLOOKUP(A126,'BASE FEDERAÇÃO'!$B:$M,2,FALSE),"") -> MURAKAMI DOKAN | C126: =IF(A126>0,VLOOKUP(A126,'BASE FEDERAÇÃO'!$B:$M,3,FALSE),"") -> RUMI | D126: =IF(A126>0,VLOOKUP(A126,'BASE FEDERAÇÃO'!$B:$M,4,FALSE),"") -> F | E126: =IF(A126>0,VLOOKUP(A126,'BASE FEDERAÇÃO'!$B:$M,5,FALSE),"") -> 01. PIE | F126: =IFERROR(VLOOKUP(E126,Base!$G:$H,2,0),"") -> PIEDADE | G126: =IF(A126>0,VLOOKUP(A126,'BASE FEDERAÇÃO'!$B:$M,6,FALSE),"") -> 23097 | H126: =IF(A126>0,VLOOKUP(A126,'BASE FEDERAÇÃO'!$B:$M,7,FALSE),"") -> 12 | I126: =IF(A126>0,VLOOKUP(A126,'BASE FEDERAÇÃO'!$B:$M,8,FALSE),"") -> C | J126: =IF(A126="","",VLOOKUP($A126,'BASE FEDERAÇÃO'!$B:$M,9,0)) -> NSR | K126: =IF(B126="","",VLOOKUP($A126,'BASE FEDERAÇÃO'!$B:$M,10,0)) -> #DIV/0! | L126: =IFERROR(VLOOKUP(A126,Apuracão!A:A,1,0),"NÃO CONSTA NA APURAÇÃO") -> 398 | M126: =IFERROR(VLOOKUP(A126,GRUPOS!C:C,1,0),"SEM GRUPO") -> 398 | N126: =IF(COUNTIF(A:A,A126)>1,"REPETIDO - CORRIGIR","OK") -> OK
A127: 434 | B127: =IF(A127>0,VLOOKUP(A127,'BASE FEDERAÇÃO'!$B:$M,2,FALSE),"") -> KATO | C127: =IF(A127>0,VLOOKUP(A127,'BASE FEDERAÇÃO'!$B:$M,3,FALSE),"") -> MASSAKAZU | D127: =IF(A127>0,VLOOKUP(A127,'BASE FEDERAÇÃO'!$B:$M,4,FALSE),"") -> M | E127: =IF(A127>0,VLOOKUP(A127,'BASE FEDERAÇÃO'!$B:$M,5,FALSE),"") -> 01. PIE | F127: =IFERROR(VLOOKUP(E127,Base!$G:$H,2,0),"") -> PIEDADE | G127: =IF(A127>0,VLOOKUP(A127,'BASE FEDERAÇÃO'!$B:$M,6,FALSE),"") -> 15/07/1960 | H127: =IF(A127>0,VLOOKUP(A127,'BASE FEDERAÇÃO'!$B:$M,7,FALSE),"") -> 4 | I127: =IF(A127>0,VLOOKUP(A127,'BASE FEDERAÇÃO'!$B:$M,8,FALSE),"") -> A | J127: =IF(A127="","",VLOOKUP($A127,'BASE FEDERAÇÃO'!$B:$M,9,0)) -> NSR | K127: =IF(B127="","",VLOOKUP($A127,'BASE FEDERAÇÃO'!$B:$M,10,0)) | L127: =IFERROR(VLOOKUP(A127,Apuracão!A:A,1,0),"NÃO CONSTA NA APURAÇÃO") -> 434 | M127: =IFERROR(VLOOKUP(A127,GRUPOS!C:C,1,0),"SEM GRUPO") -> 434 | N127: =IF(COUNTIF(A:A,A127)>1,"REPETIDO - CORRIGIR","OK") -> OK
A128: 437 | B128: =IF(A128>0,VLOOKUP(A128,'BASE FEDERAÇÃO'!$B:$M,2,FALSE),"") -> SACAMOTO | C128: =IF(A128>0,VLOOKUP(A128,'BASE FEDERAÇÃO'!$B:$M,3,FALSE),"") -> MORIO | D128: =IF(A128>0,VLOOKUP(A128,'BASE FEDERAÇÃO'!$B:$M,4,FALSE),"") -> M | E128: =IF(A128>0,VLOOKUP(A128,'BASE FEDERAÇÃO'!$B:$M,5,FALSE),"") -> 01. PIE | F128: =IFERROR(VLOOKUP(E128,Base!$G:$H,2,0),"") -> PIEDADE | G128: =IF(A128>0,VLOOKUP(A128,'BASE FEDERAÇÃO'!$B:$M,6,FALSE),"") -> 23045 | H128: =IF(A128>0,VLOOKUP(A128,'BASE FEDERAÇÃO'!$B:$M,7,FALSE),"") -> 5 | I128: =IF(A128>0,VLOOKUP(A128,'BASE FEDERAÇÃO'!$B:$M,8,FALSE),"") -> A | J128: =IF(A128="","",VLOOKUP($A128,'BASE FEDERAÇÃO'!$B:$M,9,0)) -> NSR | K128: =IF(B128="","",VLOOKUP($A128,'BASE FEDERAÇÃO'!$B:$M,10,0)) -> X | L128: =IFERROR(VLOOKUP(A128,Apuracão!A:A,1,0),"NÃO CONSTA NA APURAÇÃO") -> 437 | M128: =IFERROR(VLOOKUP(A128,GRUPOS!C:C,1,0),"SEM GRUPO") -> 437 | N128: =IF(COUNTIF(A:A,A128)>1,"REPETIDO - CORRIGIR","OK") -> OK
A129: 526 | B129: =IF(A129>0,VLOOKUP(A129,'BASE FEDERAÇÃO'!$B:$M,2,FALSE),"") -> NAKAMURA | C129: =IF(A129>0,VLOOKUP(A129,'BASE FEDERAÇÃO'!$B:$M,3,FALSE),"") -> EMI KAWAKAMI | D129: =IF(A129>0,VLOOKUP(A129,'BASE FEDERAÇÃO'!$B:$M,4,FALSE),"") -> F | E129: =IF(A129>0,VLOOKUP(A129,'BASE FEDERAÇÃO'!$B:$M,5,FALSE),"") -> 01. PIE | F129: =IFERROR(VLOOKUP(E129,Base!$G:$H,2,0),"") -> PIEDADE | G129: =IF(A129>0,VLOOKUP(A129,'BASE FEDERAÇÃO'!$B:$M,6,FALSE),"") -> 21828 | H129: =IF(A129>0,VLOOKUP(A129,'BASE FEDERAÇÃO'!$B:$M,7,FALSE),"") -> 12 | I129: =IF(A129>0,VLOOKUP(A129,'BASE FEDERAÇÃO'!$B:$M,8,FALSE),"") -> C | J129: =IF(A129="","",VLOOKUP($A129,'BASE FEDERAÇÃO'!$B:$M,9,0)) -> NSR | K129: =IF(B129="","",VLOOKUP($A129,'BASE FEDERAÇÃO'!$B:$M,10,0)) | L129: =IFERROR(VLOOKUP(A129,Apuracão!A:A,1,0),"NÃO CONSTA NA APURAÇÃO") -> 526 | M129: =IFERROR(VLOOKUP(A129,GRUPOS!C:C,1,0),"SEM GRUPO") -> 526 | N129: =IF(COUNTIF(A:A,A129)>1,"REPETIDO - CORRIGIR","OK") -> OK
A130: 617 | B130: =IF(A130>0,VLOOKUP(A130,'BASE FEDERAÇÃO'!$B:$M,2,FALSE),"") -> DOKAN | C130: =IF(A130>0,VLOOKUP(A130,'BASE FEDERAÇÃO'!$B:$M,3,FALSE),"") -> CARLOS EIITI | D130: =IF(A130>0,VLOOKUP(A130,'BASE FEDERAÇÃO'!$B:$M,4,FALSE),"") -> M | E130: =IF(A130>0,VLOOKUP(A130,'BASE FEDERAÇÃO'!$B:$M,5,FALSE),"") -> 01. PIE | F130: =IFERROR(VLOOKUP(E130,Base!$G:$H,2,0),"") -> PIEDADE | G130: =IF(A130>0,VLOOKUP(A130,'BASE FEDERAÇÃO'!$B:$M,6,FALSE),"") -> 22800 | H130: =IF(A130>0,VLOOKUP(A130,'BASE FEDERAÇÃO'!$B:$M,7,FALSE),"") -> 4 | I130: =IF(A130>0,VLOOKUP(A130,'BASE FEDERAÇÃO'!$B:$M,8,FALSE),"") -> A | J130: =IF(A130="","",VLOOKUP($A130,'BASE FEDERAÇÃO'!$B:$M,9,0)) -> NSR | K130: =IF(B130="","",VLOOKUP($A130,'BASE FEDERAÇÃO'!$B:$M,10,0)) -> X | L130: =IFERROR(VLOOKUP(A130,Apuracão!A:A,1,0),"NÃO CONSTA NA APURAÇÃO") -> 617 | M130: =IFERROR(VLOOKUP(A130,GRUPOS!C:C,1,0),"SEM GRUPO") -> 617 | N130: =IF(COUNTIF(A:A,A130)>1,"REPETIDO - CORRIGIR","OK") -> OK
A131: 653 | B131: =IF(A131>0,VLOOKUP(A131,'BASE FEDERAÇÃO'!$B:$M,2,FALSE),"") -> TAKAMUNE | C131: =IF(A131>0,VLOOKUP(A131,'BASE FEDERAÇÃO'!$B:$M,3,FALSE),"") -> ATSUSHI | D131: =IF(A131>0,VLOOKUP(A131,'BASE FEDERAÇÃO'!$B:$M,4,FALSE),"") -> M | E131: =IF(A131>0,VLOOKUP(A131,'BASE FEDERAÇÃO'!$B:$M,5,FALSE),"") -> 01. PIE | F131: =IFERROR(VLOOKUP(E131,Base!$G:$H,2,0),"") -> PIEDADE | G131: =IF(A131>0,VLOOKUP(A131,'BASE FEDERAÇÃO'!$B:$M,6,FALSE),"") -> 16893 | H131: =IF(A131>0,VLOOKUP(A131,'BASE FEDERAÇÃO'!$B:$M,7,FALSE),"") -> 8 | I131: =IF(A131>0,VLOOKUP(A131,'BASE FEDERAÇÃO'!$B:$M,8,FALSE),"") -> B | J131: =IF(A131="","",VLOOKUP($A131,'BASE FEDERAÇÃO'!$B:$M,9,0)) -> SR | K131: =IF(B131="","",VLOOKUP($A131,'BASE FEDERAÇÃO'!$B:$M,10,0)) | L131: =IFERROR(VLOOKUP(A131,Apuracão!A:A,1,0),"NÃO CONSTA NA APURAÇÃO") -> 653 | M131: =IFERROR(VLOOKUP(A131,GRUPOS!C:C,1,0),"SEM GRUPO") -> 653 | N131: =IF(COUNTIF(A:A,A131)>1,"REPETIDO - CORRIGIR","OK") -> OK
... A139: 991 | B139: =IF(A139>0,VLOOKUP(A139,'BASE FEDERAÇÃO'!$B:$M,2,FALSE),"") -> KANAI | C139: =IF(A139>0,VLOOKUP(A139,'BASE FEDERAÇÃO'!$B:$M,3,FALSE),"") -> MICHIO | D139: =IF(A139>0,VLOOKUP(A139,'BASE FEDERAÇÃO'!$B:$M,4,FALSE),"") -> M | E139: =IF(A139>0,VLOOKUP(A139,'BASE FEDERAÇÃO'!$B:$M,5,FALSE),"") -> 01. PIE | F139: =IFERROR(VLOOKUP(E139,Base!$G:$H,2,0),"") -> PIEDADE | G139: =IF(A139>0,VLOOKUP(A139,'BASE FEDERAÇÃO'!$B:$M,6,FALSE),"") -> 19641 | H139: =IF(A139>0,VLOOKUP(A139,'BASE FEDERAÇÃO'!$B:$M,7,FALSE),"") -> 1 | I139: =IF(A139>0,VLOOKUP(A139,'BASE FEDERAÇÃO'!$B:$M,8,FALSE),"") -> EX | J139: =IF(A139="","",VLOOKUP($A139,'BASE FEDERAÇÃO'!$B:$M,9,0)) -> NSR | K139: =IF(B139="","",VLOOKUP($A139,'BASE FEDERAÇÃO'!$B:$M,10,0)) -> X | L139: =IFERROR(VLOOKUP(A139,Apuracão!A:A,1,0),"NÃO CONSTA NA APURAÇÃO") -> 991 | M139: =IFERROR(VLOOKUP(A139,GRUPOS!C:C,1,0),"SEM GRUPO") -> 991 | N139: =IF(COUNTIF(A:A,A139)>1,"REPETIDO - CORRIGIR","OK") -> OK
B140: =IF(A140>0,VLOOKUP(A140,'BASE FEDERAÇÃO'!$B:$M,2,FALSE),"") | C140: =IF(A140>0,VLOOKUP(A140,'BASE FEDERAÇÃO'!$B:$M,3,FALSE),"") | D140: =IF(A140>0,VLOOKUP(A140,'BASE FEDERAÇÃO'!$B:$M,4,FALSE),"") | E140: =IF(A140>0,VLOOKUP(A140,'BASE FEDERAÇÃO'!$B:$M,5,FALSE),"") | F140: =IFERROR(VLOOKUP(E140,Base!$G:$H,2,0),"") | G140: =IF(A140>0,VLOOKUP(A140,'BASE FEDERAÇÃO'!$B:$M,6,FALSE),"") | H140: =IF(A140>0,VLOOKUP(A140,'BASE FEDERAÇÃO'!$B:$M,7,FALSE),"") | I140: =IF(A140>0,VLOOKUP(A140,'BASE FEDERAÇÃO'!$B:$M,8,FALSE),"") | J140: =IF(A140="","",VLOOKUP($A140,'BASE FEDERAÇÃO'!$B:$M,9,0)) | K140: =IF(B140="","",VLOOKUP($A140,'BASE FEDERAÇÃO'!$B:$M,10,0)) | L140: =IFERROR(VLOOKUP(A140,Apuracão!A:A,1,0),"NÃO CONSTA NA APURAÇÃO") -> NÃO CONSTA NA APURAÇÃO | M140: =IFERROR(VLOOKUP(A140,GRUPOS!C:C,1,0),"SEM GRUPO") -> SEM GRUPO | N140: =IF(COUNTIF(A:A,A140)>1,"REPETIDO - CORRIGIR","OK") -> OK
B141: =IF(A141>0,VLOOKUP(A141,'BASE FEDERAÇÃO'!$B:$M,2,FALSE),"") | C141: =IF(A141>0,VLOOKUP(A141,'BASE FEDERAÇÃO'!$B:$M,3,FALSE),"") | D141: =IF(A141>0,VLOOKUP(A141,'BASE FEDERAÇÃO'!$B:$M,4,FALSE),"") | E141: =IF(A141>0,VLOOKUP(A141,'BASE FEDERAÇÃO'!$B:$M,5,FALSE),"") | F141: =IFERROR(VLOOKUP(E141,Base!$G:$H,2,0),"") | G141: =IF(A141>0,VLOOKUP(A141,'BASE FEDERAÇÃO'!$B:$M,6,FALSE),"") | H141: =IF(A141>0,VLOOKUP(A141,'BASE FEDERAÇÃO'!$B:$M,7,FALSE),"") | I141: =IF(A141>0,VLOOKUP(A141,'BASE FEDERAÇÃO'!$B:$M,8,FALSE),"") | J141: =IF(A141="","",VLOOKUP($A141,'BASE FEDERAÇÃO'!$B:$M,9,0)) | K141: =IF(B141="","",VLOOKUP($A141,'BASE FEDERAÇÃO'!$B:$M,10,0)) | L141: =IFERROR(VLOOKUP(A141,Apuracão!A:A,1,0),"NÃO CONSTA NA APURAÇÃO") -> NÃO CONSTA NA APURAÇÃO | M141: =IFERROR(VLOOKUP(A141,GRUPOS!C:C,1,0),"SEM GRUPO") -> SEM GRUPO | N141: =IF(COUNTIF(A:A,A141)>1,"REPETIDO - CORRIGIR","OK") -> OK
...

Sheet GRUPOS
C2: RELAÇÃO DE PARTICIPANTES POR GRUPO | S2: =IF(S4="",S3+1,IF(F5<>"",S4+1,"")) -> 2 | T2: Número maior que 1 = duplicado | AC2: SORTEADOR DE GRUPOS
A3: PARA FICHA | C3: CÓDIGO | D3: GRUPO | E3: CAMPO | F3: PISTA INÍCIO | G3: SOBRENOME | H3: NOME | I3: GÊNERO | J3: CÓDIGO ENT. | K3: ENTIDADE | L3: NASCIMENTO | M3: HC | N3: CATEGORIA | O3: SÊNIOR | P3: LIBERADO | S3: Chave | U3: PARA FICHA | AC3: CÓDIGO | AD3: JÁ CONSIDERADO? | AE3: CIDADE | AF3: {=INDIRECT("AC"&RANDBETWEEN(4,(4-1+COUNTA(AC4:AC125))))} -> 884 | AG3: =VLOOKUP(AF3,INCRIÇÕES!A:F,6,0) -> COOPER COTIA | AH3: =VLOOKUP(AF3,INCRIÇÕES!A:I,9,0) -> B | AI3: *CLICAR F9 PARA SORTEAR UM NOVO NÚMERO
A4: =S4 -> 1 | C4: 878 | D4: 01 | E4: 01 | F4: 01 | G4: =IF(C4>0,VLOOKUP(C4,'BASE FEDERAÇÃO'!$B:$M,2,FALSE),"") -> TANIGUTI | H4: =IF(C4>0,VLOOKUP(C4,'BASE FEDERAÇÃO'!$B:$M,3,FALSE),"") -> PAULO HIDEAKI | I4: =IF($C4>0,VLOOKUP($C4,'BASE FEDERAÇÃO'!$B:$M,4,FALSE),"") -> M | J4: =IF($C4>0,VLOOKUP($C4,'BASE FEDERAÇÃO'!$B:$M,5,FALSE),"") -> 16. SUM | K4: =IFERROR(VLOOKUP(J4,Base!$G:$H,2,0),"") -> SUMARÉ | L4: =IF($C4>0,VLOOKUP($C4,'BASE FEDERAÇÃO'!$B:$M,6,FALSE),"") -> 19749 | M4: =IF($C4>0,VLOOKUP($C4,'BASE FEDERAÇÃO'!$B:$M,7,FALSE),"") -> 1 | N4: =IF($C4>0,VLOOKUP($C4,'BASE FEDERAÇÃO'!$B:$M,8,FALSE),"") -> EX | O4: =IF($C4="","",VLOOKUP($C4,'BASE FEDERAÇÃO'!$B:$M,9,0)) -> NSR | P4: =IF($C4>0,VLOOKUP($C4,INCRIÇÕES!$A:$K,11,0),"") | R4: =IF(ISERROR(VLOOKUP(C4,INCRIÇÕES!A:A,1,0)),"NÃO TEM INSCRIÇÃO","OK") -> OK | S4: 1 | T4: =IF(COUNTIF(C:C,C4)>1,"REPETIDO","OK") -> OK | U4: =CONCATENATE(D4&A4) -> 011 | AC4: 176 | AD4: =IF(ISERROR(VLOOKUP(AC4,C:C,1,0)),"SEM GRUPO","JÁ TEM GRUPO") -> JÁ TEM GRUPO | AE4: =VLOOKUP(AC4,INCRIÇÕES!A:F,6,0) -> KOKUSHIKAN
A5: =S5 -> 2 | C5: 578 | D5: =D4 -> 01 | E5: =E4 -> 01 | F5: =F4 -> 01 | G5: =IF(C5>0,VLOOKUP(C5,'BASE FEDERAÇÃO'!$B:$M,2,FALSE),"") -> TAKAHASHI | H5: =IF(C5>0,VLOOKUP(C5,'BASE FEDERAÇÃO'!$B:$M,3,FALSE),"") -> EDSON SHOJI | I5: =IF($C5>0,VLOOKUP($C5,'BASE FEDERAÇÃO'!$B:$M,4,FALSE),"") -> M | J5: =IF($C5>0,VLOOKUP($C5,'BASE FEDERAÇÃO'!$B:$M,5,FALSE),"") -> 18. SOR | K5: =IFERROR(VLOOKUP(J5,Base!$G:$H,2,0),"") -> SOROCABA | L5: =IF($C5>0,VLOOKUP($C5,'BASE FEDERAÇÃO'!$B:$M,6,FALSE),"") -> 27163 | M5: =IF($C5>0,VLOOKUP($C5,'BASE FEDERAÇÃO'!$B:$M,7,FALSE),"") -> 2 | N5: =IF($C5>0,VLOOKUP($C5,'BASE FEDERAÇÃO'!$B:$M,8,FALSE),"") -> EX | O5: =IF($C5="","",VLOOKUP($C5,'BASE FEDERAÇÃO'!$B:$M,9,0)) -> NSR | P5: =IF($C5>0,VLOOKUP($C5,INCRIÇÕES!$A:$K,11,0),"") | R5: =IF(ISERROR(VLOOKUP(C5,INCRIÇÕES!A:A,1,0)),"NÃO TEM INSCRIÇÃO","OK") -> OK | S5: =IF(S4="",S3+1,IF(F5<>"",S4+1,"")) -> 2 | T5: =IF(COUNTIF(C:C,C5)>1,"REPETIDO","OK") -> OK | U5: =CONCATENATE(D5&A5) -> 012 | AC5: 463 | AD5: =IF(ISERROR(VLOOKUP(AC5,C:C,1,0)),"SEM GRUPO","JÁ TEM GRUPO") -> JÁ TEM GRUPO | AE5: =VLOOKUP(AC5,INCRIÇÕES!A:F,6,0) -> KOKUSHIKAN
A6: =S6 -> 3 | C6: 637 | D6: =D5 -> 01 | E6: =E5 -> 01 | F6: =F5 -> 01 | G6: =IF(C6>0,VLOOKUP(C6,'BASE FEDERAÇÃO'!$B:$M,2,FALSE),"") -> RIBEIRO DE SOUZA | H6: =IF(C6>0,VLOOKUP(C6,'BASE FEDERAÇÃO'!$B:$M,3,FALSE),"") -> TANIA DE FATIMA | I6: =IF($C6>0,VLOOKUP($C6,'BASE FEDERAÇÃO'!$B:$M,4,FALSE),"") -> F | J6: =IF($C6>0,VLOOKUP($C6,'BASE FEDERAÇÃO'!$B:$M,5,FALSE),"") -> 11. NCC | K6: =IFERROR(VLOOKUP(J6,Base!$G:$H,2,0),"") -> NIPPON COUNTRY | L6: =IF($C6>0,VLOOKUP($C6,'BASE FEDERAÇÃO'!$B:$M,6,FALSE),"") -> 23251 | M6: =IF($C6>0,VLOOKUP($C6,'BASE FEDERAÇÃO'!$B:$M,7,FALSE),"") -> 3 | N6: =IF($C6>0,VLOOKUP($C6,'BASE FEDERAÇÃO'!$B:$M,8,FALSE),"") -> EX | O6: =IF($C6="","",VLOOKUP($C6,'BASE FEDERAÇÃO'!$B:$M,9,0)) -> NSR | P6: =IF($C6>0,VLOOKUP($C6,INCRIÇÕES!$A:$K,11,0),"") -> X | R6: =IF(ISERROR(VLOOKUP(C6,INCRIÇÕES!A:A,1,0)),"NÃO TEM INSCRIÇÃO","OK") -> OK | S6: =IF(S5="",S4+1,IF(F6<>"",S5+1,"")) -> 3 | T6: =IF(COUNTIF(C:C,C6)>1,"REPETIDO","OK") -> OK | U6: =CONCATENATE(D6&A6) -> 013 | AC6: 607 | AD6: =IF(ISERROR(VLOOKUP(AC6,C:C,1,0)),"SEM GRUPO","JÁ TEM GRUPO") -> JÁ TEM GRUPO | AE6: =VLOOKUP(AC6,INCRIÇÕES!A:F,6,0) -> KOKUSHIKAN
A7: =S7 -> 4 | C7: 030 | D7: =D6 -> 01 | E7: =E6 -> 01 | F7: =F6 -> 01 | G7: =IF(C7>0,VLOOKUP(C7,'BASE FEDERAÇÃO'!$B:$M,2,FALSE),"") -> FUGIKAWA | H7: =IF(C7>0,VLOOKUP(C7,'BASE FEDERAÇÃO'!$B:$M,3,FALSE),"") -> WATARU | I7: =IF($C7>0,VLOOKUP($C7,'BASE FEDERAÇÃO'!$B:$M,4,FALSE),"") -> M | J7: =IF($C7>0,VLOOKUP($C7,'BASE FEDERAÇÃO'!$B:$M,5,FALSE),"") -> 08. SMA | K7: =IFERROR(VLOOKUP(J7,Base!$G:$H,2,0),"") -> SÃO M. ARCANJO | L7: =IF($C7>0,VLOOKUP($C7,'BASE FEDERAÇÃO'!$B:$M,6,FALSE),"") -> 15177 | M7: =IF($C7>0,VLOOKUP($C7,'BASE FEDERAÇÃO'!$B:$M,7,FALSE),"") -> 5 | N7: =IF($C7>0,VLOOKUP($C7,'BASE FEDERAÇÃO'!$B:$M,8,FALSE),"") -> A | O7: =IF($C7="","",VLOOKUP($C7,'BASE FEDERAÇÃO'!$B:$M,9,0)) -> MR | P7: =IF($C7>0,VLOOKUP($C7,INCRIÇÕES!$A:$K,11,0),"") -> X | R7: =IF(ISERROR(VLOOKUP(C7,INCRIÇÕES!A:A,1,0)),"NÃO TEM INSCRIÇÃO","OK") -> OK | S7: =IF(S6="",S5+1,IF(F7<>"",S6+1,"")) -> 4 | T7: =IF(COUNTIF(C:C,C7)>1,"REPETIDO","OK") -> OK | U7: =CONCATENATE(D7&A7) -> 014 | AC7: 706 | AD7: =IF(ISERROR(VLOOKUP(AC7,C:C,1,0)),"SEM GRUPO","JÁ TEM GRUPO") -> JÁ TEM GRUPO | AE7: =VLOOKUP(AC7,INCRIÇÕES!A:F,6,0) -> KOKUSHIKAN
A8: =S8 | G8: =IF(C8>0,VLOOKUP(C8,'BASE FEDERAÇÃO'!$B:$M,2,FALSE),"") | H8: =IF(C8>0,VLOOKUP(C8,'BASE FEDERAÇÃO'!$B:$M,3,FALSE),"") | I8: =IF($C8>0,VLOOKUP($C8,'BASE FEDERAÇÃO'!$B:$M,4,FALSE),"") | J8: =IF($C8>0,VLOOKUP($C8,'BASE FEDERAÇÃO'!$B:$M,5,FALSE),"") | K8: =IFERROR(VLOOKUP(J8,Base!$G:$H,2,0),"") | L8: =IF($C8>0,VLOOKUP($C8,'BASE FEDERAÇÃO'!$B:$M,6,FALSE),"") | M8: =IF($C8>0,VLOOKUP($C8,'BASE FEDERAÇÃO'!$B:$M,7,FALSE),"") | N8: =IF($C8>0,VLOOKUP($C8,'BASE FEDERAÇÃO'!$B:$M,8,FALSE),"") | O8: =IF($C8="","",VLOOKUP($C8,'BASE FEDERAÇÃO'!$B:$M,9,0)) | P8: =IF($C8>0,VLOOKUP($C8,INCRIÇÕES!$A:$K,11,0),"") | R8: =IF(ISERROR(VLOOKUP(C8,INCRIÇÕES!A:A,1,0)),"NÃO TEM INSCRIÇÃO","OK") -> NÃO TEM INSCRIÇÃO | S8: =IF(S7="",S6+1,IF(F8<>"",S7+1,"")) | T8: =IF(COUNTIF(C:C,C8)>1,"REPETIDO","OK") -> OK | U8: =CONCATENATE(D8&A8) | AC8: 941 | AD8: =IF(ISERROR(VLOOKUP(AC8,C:C,1,0)),"SEM GRUPO","JÁ TEM GRUPO") -> JÁ TEM GRUPO | AE8: =VLOOKUP(AC8,INCRIÇÕES!A:F,6,0) -> KOKUSHIKAN
A9: =S9 -> 5 | C9: 296 | D9: 02 | E9: 01 | F9: 02 | G9: =IF(C9>0,VLOOKUP(C9,'BASE FEDERAÇÃO'!$B:$M,2,FALSE),"") -> UTSUNOMIYA | H9: =IF(C9>0,VLOOKUP(C9,'BASE FEDERAÇÃO'!$B:$M,3,FALSE),"") -> YUKIO | I9: =IF($C9>0,VLOOKUP($C9,'BASE FEDERAÇÃO'!$B:$M,4,FALSE),"") -> M | J9: =IF($C9>0,VLOOKUP($C9,'BASE FEDERAÇÃO'!$B:$M,5,FALSE),"") -> 11. NCC | K9: =IFERROR(VLOOKUP(J9,Base!$G:$H,2,0),"") -> NIPPON COUNTRY | L9: =IF($C9>0,VLOOKUP($C9,'BASE FEDERAÇÃO'!$B:$M,6,FALSE),"") -> 18980 | M9: =IF($C9>0,VLOOKUP($C9,'BASE FEDERAÇÃO'!$B:$M,7,FALSE),"") -> 9 | N9: =IF($C9>0,VLOOKUP($C9,'BASE FEDERAÇÃO'!$B:$M,8,FALSE),"") -> B | O9: =IF($C9="","",VLOOKUP($C9,'BASE FEDERAÇÃO'!$B:$M,9,0)) -> SR | P9: =IF($C9>0,VLOOKUP($C9,INCRIÇÕES!$A:$K,11,0),"") | R9: =IF(ISERROR(VLOOKUP(C9,INCRIÇÕES!A:A,1,0)),"NÃO TEM INSCRIÇÃO","OK") -> OK | S9: =IF(S8="",S7+1,IF(F9<>"",S8+1,"")) -> 5 | T9: =IF(COUNTIF(C:C,C9)>1,"REPETIDO","OK") -> OK | U9: =CONCATENATE(D9&A9) -> 025 | AC9: 782 | AD9: =IF(ISERROR(VLOOKUP(AC9,C:C,1,0)),"SEM GRUPO","JÁ TEM GRUPO") -> JÁ TEM GRUPO | AE9: =VLOOKUP(AC9,INCRIÇÕES!A:F,6,0) -> IBIÚNA
A10: =S10 -> 6 | C10: 604 | D10: =D9 -> 02 | E10: =E9 -> 01 | F10: =F9 -> 02 | G10: =IF(C10>0,VLOOKUP(C10,'BASE FEDERAÇÃO'!$B:$M,2,FALSE),"") -> P. DA S. DE OLIVEIRA | H10: =IF(C10>0,VLOOKUP(C10,'BASE FEDERAÇÃO'!$B:$M,3,FALSE),"") -> MARIA APARECIDA | I10: =IF($C10>0,VLOOKUP($C10,'BASE FEDERAÇÃO'!$B:$M,4,FALSE),"") -> F | J10: =IF($C10>0,VLOOKUP($C10,'BASE FEDERAÇÃO'!$B:$M,5,FALSE),"") -> 18. SOR | K10: =IFERROR(VLOOKUP(J10,Base!$G:$H,2,0),"") -> SOROCABA | L10: =IF($C10>0,VLOOKUP($C10,'BASE FEDERAÇÃO'!$B:$M,6,FALSE),"") -> 22044 | M10: =IF($C10>0,VLOOKUP($C10,'BASE FEDERAÇÃO'!$B:$M,7,FALSE),"") -> 9 | N10: =IF($C10>0,VLOOKUP($C10,'BASE FEDERAÇÃO'!$B:$M,8,FALSE),"") -> B | O10: =IF($C10="","",VLOOKUP($C10,'BASE FEDERAÇÃO'!$B:$M,9,0)) -> NSR | P10: =IF($C10>0,VLOOKUP($C10,INCRIÇÕES!$A:$K,11,0),"") | R10: =IF(ISERROR(VLOOKUP(C10,INCRIÇÕES!A:A,1,0)),"NÃO TEM INSCRIÇÃO","OK") -> OK | S10: =IF(S9="",S8+1,IF(F10<>"",S9+1,"")) -> 6 | T10: =IF(COUNTIF(C:C,C10)>1,"REPETIDO","OK") -> OK | U10: =CONCATENATE(D10&A10) -> 026 | AC10: 012 | AD10: =IF(ISERROR(VLOOKUP(AC10,C:C,1,0)),"SEM GRUPO","JÁ TEM GRUPO") -> JÁ TEM GRUPO | AE10: =VLOOKUP(AC10,INCRIÇÕES!A:F,6,0) -> IBIÚNA
A11: =S11 -> 7 | C11: 782 | D11: =D10 -> 02 | E11: =E10 -> 01 | F11: =F10 -> 02 | G11: =IF(C11>0,VLOOKUP(C11,'BASE FEDERAÇÃO'!$B:$M,2,FALSE),"") -> MATSUMOTO | H11: =IF(C11>0,VLOOKUP(C11,'BASE FEDERAÇÃO'!$B:$M,3,FALSE),"") -> KAZUKO | I11: =IF($C11>0,VLOOKUP($C11,'BASE FEDERAÇÃO'!$B:$M,4,FALSE),"") -> F | J11: =IF($C11>0,VLOOKUP($C11,'BASE FEDERAÇÃO'!$B:$M,5,FALSE),"") -> 03. IBI | K11: =IFERROR(VLOOKUP(J11,Base!$G:$H,2,0),"") -> IBIÚNA | L11: =IF($C11>0,VLOOKUP($C11,'BASE FEDERAÇÃO'!$B:$M,6,FALSE),"") -> 13623 | M11: =IF($C11>0,VLOOKUP($C11,'BASE FEDERAÇÃO'!$B:$M,7,FALSE),"") -> 9 | N11: =IF($C11>0,VLOOKUP($C11,'BASE FEDERAÇÃO'!$B:$M,8,FALSE),"") -> B | O11: =IF($C11="","",VLOOKUP($C11,'BASE FEDERAÇÃO'!$B:$M,9,0)) -> MR | P11: =IF($C11>0,VLOOKUP($C11,INCRIÇÕES!$A:$K,11,0),"") | R11: =IF(ISERROR(VLOOKUP(C11,INCRIÇÕES!A:A,1,0)),"NÃO TEM INSCRIÇÃO","OK") -> OK | S11: =IF(S10="",S9+1,IF(F11<>"",S10+1,"")) -> 7 | T11: =IF(COUNTIF(C:C,C11)>1,"REPETIDO","OK") -> OK | U11: =CONCATENATE(D11&A11) -> 027 | AC11: 835 | AD11: =IF(ISERROR(VLOOKUP(AC11,C:C,1,0)),"SEM GRUPO","JÁ TEM GRUPO") -> JÁ TEM GRUPO | AE11: =VLOOKUP(AC11,INCRIÇÕES!A:F,6,0) -> IBIÚNA
A12: =S12 -> 8 | C12: 322 | D12: =D11 -> 02 | E12: =E11 -> 01 | F12: =F11 -> 02 | G12: =IF(C12>0,VLOOKUP(C12,'BASE FEDERAÇÃO'!$B:$M,2,FALSE),"") -> COGA | H12: =IF(C12>0,VLOOKUP(C12,'BASE FEDERAÇÃO'!$B:$M,3,FALSE),"") -> FUMIE | I12: =IF($C12>0,VLOOKUP($C12,'BASE FEDERAÇÃO'!$B:$M,4,FALSE),"") -> F | J12: =IF($C12>0,VLOOKUP($C12,'BASE FEDERAÇÃO'!$B:$M,5,FALSE),"") -> 12. COO | K12: =IFERROR(VLOOKUP(J12,Base!$G:$H,2,0),"") -> COOPER COTIA | L12: =IF($C12>0,VLOOKUP($C12,'BASE FEDERAÇÃO'!$B:$M,6,FALSE),"") -> 16466 | M12: =IF($C12>0,VLOOKUP($C12,'BASE FEDERAÇÃO'!$B:$M,7,FALSE),"") -> 12 | N12: =IF($C12>0,VLOOKUP($C12,'BASE FEDERAÇÃO'!$B:$M,8,FALSE),"") -> C | O12: =IF($C12="","",VLOOKUP($C12,'BASE FEDERAÇÃO'!$B:$M,9,0)) -> SR | P12: =IF($C12>0,VLOOKUP($C12,INCRIÇÕES!$A:$K,11,0),"") | R12: =IF(ISERROR(VLOOKUP(C12,INCRIÇÕES!A:A,1,0)),"NÃO TEM INSCRIÇÃO","OK") -> OK | S12: =IF(S11="",S10+1,IF(F12<>"",S11+1,"")) -> 8 | T12: =IF(COUNTIF(C:C,C12)>1,"REPETIDO","OK") -> OK | U12: =CONCATENATE(D12&A12) -> 028 | AC12: 612 | AD12: =IF(ISERROR(VLOOKUP(AC12,C:C,1,0)),"SEM GRUPO","JÁ TEM GRUPO") -> SEM GRUPO | AE12: =VLOOKUP(AC12,INCRIÇÕES!A:F,6,0) -> #N/A
A13: =S13 | G13: =IF(C13>0,VLOOKUP(C13,'BASE FEDERAÇÃO'!$B:$M,2,FALSE),"") | H13: =IF(C13>0,VLOOKUP(C13,'BASE FEDERAÇÃO'!$B:$M,3,FALSE),"") | I13: =IF($C13>0,VLOOKUP($C13,'BASE FEDERAÇÃO'!$B:$M,4,FALSE),"") | J13: =IF($C13>0,VLOOKUP($C13,'BASE FEDERAÇÃO'!$B:$M,5,FALSE),"") | K13: =IFERROR(VLOOKUP(J13,Base!$G:$H,2,0),"") | L13: =IF($C13>0,VLOOKUP($C13,'BASE FEDERAÇÃO'!$B:$M,6,FALSE),"") | M13: =IF($C13>0,VLOOKUP($C13,'BASE FEDERAÇÃO'!$B:$M,7,FALSE),"") | N13: =IF($C13>0,VLOOKUP($C13,'BASE FEDERAÇÃO'!$B:$M,8,FALSE),"") | O13: =IF($C13="","",VLOOKUP($C13,'BASE FEDERAÇÃO'!$B:$M,9,0)) | P13: =IF($C13>0,VLOOKUP($C13,INCRIÇÕES!$A:$K,11,0),"") | R13: =IF(ISERROR(VLOOKUP(C13,INCRIÇÕES!A:A,1,0)),"NÃO TEM INSCRIÇÃO","OK") -> NÃO TEM INSCRIÇÃO | S13: =IF(S12="",S11+1,IF(F13<>"",S12+1,"")) | T13: =IF(COUNTIF(C:C,C13)>1,"REPETIDO","OK") -> OK | U13: =CONCATENATE(D13&A13) | AC13: 613 | AD13: =IF(ISERROR(VLOOKUP(AC13,C:C,1,0)),"SEM GRUPO","JÁ TEM GRUPO") -> SEM GRUPO | AE13: =VLOOKUP(AC13,INCRIÇÕES!A:F,6,0) -> #N/A
A14: =S14 -> 9 | C14: 473 | D14: 03 | E14: 01 | F14: 03 | G14: =IF(C14>0,VLOOKUP(C14,'BASE FEDERAÇÃO'!$B:$M,2,FALSE),"") -> NAKANO | H14: =IF(C14>0,VLOOKUP(C14,'BASE FEDERAÇÃO'!$B:$M,3,FALSE),"") -> RUBENS SHOZI | I14: =IF($C14>0,VLOOKUP($C14,'BASE FEDERAÇÃO'!$B:$M,4,FALSE),"") -> M | J14: =IF($C14>0,VLOOKUP($C14,'BASE FEDERAÇÃO'!$B:$M,5,FALSE),"") -> 11. NCC | K14: =IFERROR(VLOOKUP(J14,Base!$G:$H,2,0),"") -> NIPPON COUNTRY | L14: =IF($C14>0,VLOOKUP($C14,'BASE FEDERAÇÃO'!$B:$M,6,FALSE),"") -> 17547 | M14: =IF($C14>0,VLOOKUP($C14,'BASE FEDERAÇÃO'!$B:$M,7,FALSE),"") -> 6 | N14: =IF($C14>0,VLOOKUP($C14,'BASE FEDERAÇÃO'!$B:$M,8,FALSE),"") -> A | O14: =IF($C14="","",VLOOKUP($C14,'BASE FEDERAÇÃO'!$B:$M,9,0)) -> SR | P14: =IF($C14>0,VLOOKUP($C14,INCRIÇÕES!$A:$K,11,0),"") -> X | R14: =IF(ISERROR(VLOOKUP(C14,INCRIÇÕES!A:A,1,0)),"NÃO TEM INSCRIÇÃO","OK") -> OK | S14: =IF(S13="",S12+1,IF(F14<>"",S13+1,"")) -> 9 | T14: =IF(COUNTIF(C:C,C14)>1,"REPETIDO","OK") -> OK | U14: =CONCATENATE(D14&A14) -> 039 | AC14: 665 | AD14: =IF(ISERROR(VLOOKUP(AC14,C:C,1,0)),"SEM GRUPO","JÁ TEM GRUPO") -> JÁ TEM GRUPO | AE14: =VLOOKUP(AC14,INCRIÇÕES!A:F,6,0) -> GRANDE SÃO PAULO
A15: =S15 -> 10 | C15: 178 | D15: =D14 -> 03 | E15: =E14 -> 01 | F15: =F14 -> 03 | G15: =IF(C15>0,VLOOKUP(C15,'BASE FEDERAÇÃO'!$B:$M,2,FALSE),"") -> KAWAKAMI | H15: =IF(C15>0,VLOOKUP(C15,'BASE FEDERAÇÃO'!$B:$M,3,FALSE),"") -> TETSUSHI | I15: =IF($C15>0,VLOOKUP($C15,'BASE FEDERAÇÃO'!$B:$M,4,FALSE),"") -> M | J15: =IF($C15>0,VLOOKUP($C15,'BASE FEDERAÇÃO'!$B:$M,5,FALSE),"") -> 01. PIE | K15: =IFERROR(VLOOKUP(J15,Base!$G:$H,2,0),"") -> PIEDADE | L15: =IF($C15>0,VLOOKUP($C15,'BASE FEDERAÇÃO'!$B:$M,6,FALSE),"") -> 14323 | M15: =IF($C15>0,VLOOKUP($C15,'BASE FEDERAÇÃO'!$B:$M,7,FALSE),"") -> 6 | N15: =IF($C15>0,VLOOKUP($C15,'BASE FEDERAÇÃO'!$B:$M,8,FALSE),"") -> A | O15: =IF($C15="","",VLOOKUP($C15,'BASE FEDERAÇÃO'!$B:$M,9,0)) -> MR | P15: =IF($C15>0,VLOOKUP($C15,INCRIÇÕES!$A:$K,11,0),"") -> X | R15: =IF(ISERROR(VLOOKUP(C15,INCRIÇÕES!A:A,1,0)),"NÃO TEM INSCRIÇÃO","OK") -> OK | S15: =IF(S14="",S13+1,IF(F15<>"",S14+1,"")) -> 10 | T15: =IF(COUNTIF(C:C,C15)>1,"REPETIDO","OK") -> OK | U15: =CONCATENATE(D15&A15) -> 0310 | AC15: 716 | AD15: =IF(ISERROR(VLOOKUP(AC15,C:C,1,0)),"SEM GRUPO","JÁ TEM GRUPO") -> JÁ TEM GRUPO | AE15: =VLOOKUP(AC15,INCRIÇÕES!A:F,6,0) -> GRANDE SÃO PAULO
A16: =S16 -> 11 | C16: 875 | D16: =D15 -> 03 | E16: =E15 -> 01 | F16: =F15 -> 03 | G16: =IF(C16>0,VLOOKUP(C16,'BASE FEDERAÇÃO'!$B:$M,2,FALSE),"") -> KAWASAKA | H16: =IF(C16>0,VLOOKUP(C16,'BASE FEDERAÇÃO'!$B:$M,3,FALSE),"") -> M. INES KINUKO | I16: =IF($C16>0,VLOOKUP($C16,'BASE FEDERAÇÃO'!$B:$M,4,FALSE),"") -> F | J16: =IF($C16>0,VLOOKUP($C16,'BASE FEDERAÇÃO'!$B:$M,5,FALSE),"") -> 07. GSP | K16: =IFERROR(VLOOKUP(J16,Base!$G:$H,2,0),"") -> GRANDE SÃO PAULO | L16: =IF($C16>0,VLOOKUP($C16,'BASE FEDERAÇÃO'!$B:$M,6,FALSE),"") -> 18296 | M16: =IF($C16>0,VLOOKUP($C16,'BASE FEDERAÇÃO'!$B:$M,7,FALSE),"") -> 6 | N16: =IF($C16>0,VLOOKUP($C16,'BASE FEDERAÇÃO'!$B:$M,8,FALSE),"") -> A | O16: =IF($C16="","",VLOOKUP($C16,'BASE FEDERAÇÃO'!$B:$M,9,0)) -> SR | P16: =IF($C16>0,VLOOKUP($C16,INCRIÇÕES!$A:$K,11,0),"") | R16: =IF(ISERROR(VLOOKUP(C16,INCRIÇÕES!A:A,1,0)),"NÃO TEM INSCRIÇÃO","OK") -> OK | S16: =IF(S15="",S14+1,IF(F16<>"",S15+1,"")) -> 11 | T16: =IF(COUNTIF(C:C,C16)>1,"REPETIDO","OK") -> OK | U16: =CONCATENATE(D16&A16) -> 0311 | AC16: 653 | AD16: =IF(ISERROR(VLOOKUP(AC16,C:C,1,0)),"SEM GRUPO","JÁ TEM GRUPO") -> JÁ TEM GRUPO | AE16: =VLOOKUP(AC16,INCRIÇÕES!A:F,6,0) -> PIEDADE
A17: =S17 -> 12 | C17: 855 | D17: =D16 -> 03 | E17: =E16 -> 01 | F17: =F16 -> 03 | G17: =IF(C17>0,VLOOKUP(C17,'BASE FEDERAÇÃO'!$B:$M,2,FALSE),"") -> YAMANO | H17: =IF(C17>0,VLOOKUP(C17,'BASE FEDERAÇÃO'!$B:$M,3,FALSE),"") -> MASSAKATSU | I17: =IF($C17>0,VLOOKUP($C17,'BASE FEDERAÇÃO'!$B:$M,4,FALSE),"") -> M | J17: =IF($C17>0,VLOOKUP($C17,'BASE FEDERAÇÃO'!$B:$M,5,FALSE),"") -> 03. IBI | K17: =IFERROR(VLOOKUP(J17,Base!$G:$H,2,0),"") -> IBIÚNA | L17: =IF($C17>0,VLOOKUP($C17,'BASE FEDERAÇÃO'!$B:$M,6,FALSE),"") -> 16365 | M17: =IF($C17>0,VLOOKUP($C17,'BASE FEDERAÇÃO'!$B:$M,7,FALSE),"") -> 5 | N17: =IF($C17>0,VLOOKUP($C17,'BASE FEDERAÇÃO'!$B:$M,8,FALSE),"") -> A | O17: =IF($C17="","",VLOOKUP($C17,'BASE FEDERAÇÃO'!$B:$M,9,0)) -> SR | P17: =IF($C17>0,VLOOKUP($C17,INCRIÇÕES!$A:$K,11,0),"") -> X | R17: =IF(ISERROR(VLOOKUP(C17,INCRIÇÕES!A:A,1,0)),"NÃO TEM INSCRIÇÃO","OK") -> OK | S17: =IF(S16="",S15+1,IF(F17<>"",S16+1,"")) -> 12 | T17: =IF(COUNTIF(C:C,C17)>1,"REPETIDO","OK") -> OK | U17: =CONCATENATE(D17&A17) -> 0312 | AC17: 699 | AD17: =IF(ISERROR(VLOOKUP(AC17,C:C,1,0)),"SEM GRUPO","JÁ TEM GRUPO") -> JÁ TEM GRUPO | AE17: =VLOOKUP(AC17,INCRIÇÕES!A:F,6,0) -> PIEDADE
A18: =S18 | G18: =IF(C18>0,VLOOKUP(C18,'BASE FEDERAÇÃO'!$B:$M,2,FALSE),"") | H18: =IF(C18>0,VLOOKUP(C18,'BASE FEDERAÇÃO'!$B:$M,3,FALSE),"") | I18: =IF($C18>0,VLOOKUP($C18,'BASE FEDERAÇÃO'!$B:$M,4,FALSE),"") | J18: =IF($C18>0,VLOOKUP($C18,'BASE FEDERAÇÃO'!$B:$M,5,FALSE),"") | K18: =IFERROR(VLOOKUP(J18,Base!$G:$H,2,0),"") | L18: =IF($C18>0,VLOOKUP($C18,'BASE FEDERAÇÃO'!$B:$M,6,FALSE),"") | M18: =IF($C18>0,VLOOKUP($C18,'BASE FEDERAÇÃO'!$B:$M,7,FALSE),"") | N18: =IF($C18>0,VLOOKUP($C18,'BASE FEDERAÇÃO'!$B:$M,8,FALSE),"") | O18: =IF($C18="","",VLOOKUP($C18,'BASE FEDERAÇÃO'!$B:$M,9,0)) | P18: =IF($C18>0,VLOOKUP($C18,INCRIÇÕES!$A:$K,11,0),"") | R18: =IF(ISERROR(VLOOKUP(C18,INCRIÇÕES!A:A,1,0)),"NÃO TEM INSCRIÇÃO","OK") -> NÃO TEM INSCRIÇÃO | S18: =IF(S17="",S16+1,IF(F18<>"",S17+1,"")) | T18: =IF(COUNTIF(C:C,C18)>1,"REPETIDO","OK") -> OK | U18: =CONCATENATE(D18&A18) | AC18: 764 | AD18: =IF(ISERROR(VLOOKUP(AC18,C:C,1,0)),"SEM GRUPO","JÁ TEM GRUPO") -> JÁ TEM GRUPO | AE18: =VLOOKUP(AC18,INCRIÇÕES!A:F,6,0) -> PIEDADE
A19: =S19 -> 13 | C19: 756 | D19: 04 | E19: 01 | F19: 04 | G19: =IF(C19>0,VLOOKUP(C19,'BASE FEDERAÇÃO'!$B:$M,2,FALSE),"") -> TABATA | H19: =IF(C19>0,VLOOKUP(C19,'BASE FEDERAÇÃO'!$B:$M,3,FALSE),"") -> PAULO YUKIHARU | I19: =IF($C19>0,VLOOKUP($C19,'BASE FEDERAÇÃO'!$B:$M,4,FALSE),"") -> M | J19: =IF($C19>0,VLOOKUP($C19,'BASE FEDERAÇÃO'!$B:$M,5,FALSE),"") -> 07. GSP | K19: =IFERROR(VLOOKUP(J19,Base!$G:$H,2,0),"") -> GRANDE SÃO PAULO | L19: =IF($C19>0,VLOOKUP($C19,'BASE FEDERAÇÃO'!$B:$M,6,FALSE),"") -> 22876 | M19: =IF($C19>0,VLOOKUP($C19,'BASE FEDERAÇÃO'!$B:$M,7,FALSE),"") -> 4 | N19: =IF($C19>0,VLOOKUP($C19,'BASE FEDERAÇÃO'!$B:$M,8,FALSE),"") -> A | O19: =IF($C19="","",VLOOKUP($C19,'BASE FEDERAÇÃO'!$B:$M,9,0)) -> NSR | P19: =IF($C19>0,VLOOKUP($C19,INCRIÇÕES!$A:$K,11,0),"") -> X | R19: =IF(ISERROR(VLOOKUP(C19,INCRIÇÕES!A:A,1,0)),"NÃO TEM INSCRIÇÃO","OK") -> OK | S19: =IF(S18="",S17+1,IF(F19<>"",S18+1,"")) -> 13 | T19: =IF(COUNTIF(C:C,C19)>1,"REPETIDO","OK") -> OK | U19: =CONCATENATE(D19&A19) -> 0413 | AC19: 749 | AD19: =IF(ISERROR(VLOOKUP(AC19,C:C,1,0)),"SEM GRUPO","JÁ TEM GRUPO") -> JÁ TEM GRUPO | AE19: =VLOOKUP(AC19,INCRIÇÕES!A:F,6,0) -> BIRITIBA MIRIM
A20: =S20 -> 14 | C20: 472 | D20: =D19 -> 04 | E20: =E19 -> 01 | F20: =F19 -> 04 | G20: =IF(C20>0,VLOOKUP(C20,'BASE FEDERAÇÃO'!$B:$M,2,FALSE),"") -> NAKANO | H20: =IF(C20>0,VLOOKUP(C20,'BASE FEDERAÇÃO'!$B:$M,3,FALSE),"") -> MARIA LUCIA | I20: =IF($C20>0,VLOOKUP($C20,'BASE FEDERAÇÃO'!$B:$M,4,FALSE),"") -> F | J20: =IF($C20>0,VLOOKUP($C20,'BASE FEDERAÇÃO'!$B:$M,5,FALSE),"") -> 11. NCC | K20: =IFERROR(VLOOKUP(J20,Base!$G:$H,2,0),"") -> NIPPON COUNTRY | L20: =IF($C20>0,VLOOKUP($C20,'BASE FEDERAÇÃO'!$B:$M,6,FALSE),"") -> 18638 | M20: =IF($C20>0,VLOOKUP($C20,'BASE FEDERAÇÃO'!$B:$M,7,FALSE),"") -> 6 | N20: =IF($C20>0,VLOOKUP($C20,'BASE FEDERAÇÃO'!$B:$M,8,FALSE),"") -> A | O20: =IF($C20="","",VLOOKUP($C20,'BASE FEDERAÇÃO'!$B:$M,9,0)) -> SR | P20: =IF($C20>0,VLOOKUP($C20,INCRIÇÕES!$A:$K,11,0),"") | R20: =IF(ISERROR(VLOOKUP(C20,INCRIÇÕES!A:A,1,0)),"NÃO TEM INSCRIÇÃO","OK") -> OK | S20: =IF(S19="",S18+1,IF(F20<>"",S19+1,"")) -> 14 | T20: =IF(COUNTIF(C:C,C20)>1,"REPETIDO","OK") -> OK | U20: =CONCATENATE(D20&A20) -> 0414 | AC20: 785 | AD20: =IF(ISERROR(VLOOKUP(AC20,C:C,1,0)),"SEM GRUPO","JÁ TEM GRUPO") -> JÁ TEM GRUPO | AE20: =VLOOKUP(AC20,INCRIÇÕES!A:F,6,0) -> BIRITIBA MIRIM
A21: =S21 -> 15 | C21: 437 | D21: =D20 -> 04 | E21: =E20 -> 01 | F21: =F20 -> 04 | G21: =IF(C21>0,VLOOKUP(C21,'BASE FEDERAÇÃO'!$B:$M,2,FALSE),"") -> SACAMOTO | H21: =IF(C21>0,VLOOKUP(C21,'BASE FEDERAÇÃO'!$B:$M,3,FALSE),"") -> MORIO | I21: =IF($C21>0,VLOOKUP($C21,'BASE FEDERAÇÃO'!$B:$M,4,FALSE),"") -> M | J21: =IF($C21>0,VLOOKUP($C21,'BASE FEDERAÇÃO'!$B:$M,5,FALSE),"") -> 01. PIE | K21: =IFERROR(VLOOKUP(J21,Base!$G:$H,2,0),"") -> PIEDADE | L21: =IF($C21>0,VLOOKUP($C21,'BASE FEDERAÇÃO'!$B:$M,6,FALSE),"") -> 23045 | M21: =IF($C21>0,VLOOKUP($C21,'BASE FEDERAÇÃO'!$B:$M,7,FALSE),"") -> 5 | N21: =IF($C21>0,VLOOKUP($C21,'BASE FEDERAÇÃO'!$B:$M,8,FALSE),"") -> A | O21: =IF($C21="","",VLOOKUP($C21,'BASE FEDERAÇÃO'!$B:$M,9,0)) -> NSR | P21: =IF($C21>0,VLOOKUP($C21,INCRIÇÕES!$A:$K,11,0),"") -> X | R21: =IF(ISERROR(VLOOKUP(C21,INCRIÇÕES!A:A,1,0)),"NÃO TEM INSCRIÇÃO","OK") -> OK | S21: =IF(S20="",S19+1,IF(F21<>"",S20+1,"")) -> 15 | T21: =IF(COUNTIF(C:C,C21)>1,"REPETIDO","OK") -> OK | U21: =CONCATENATE(D21&A21) -> 0415 | AC21: 907 | AD21: =IF(ISERROR(VLOOKUP(AC21,C:C,1,0)),"SEM GRUPO","JÁ TEM GRUPO") -> JÁ TEM GRUPO | AE21: =VLOOKUP(AC21,INCRIÇÕES!A:F,6,0) -> BIRITIBA MIRIM
A22: =S22 -> 16 | C22: 892 | D22: =D21 -> 04 | E22: =E21 -> 01 | F22: =F21 -> 04 | G22: =IF(C22>0,VLOOKUP(C22,'BASE FEDERAÇÃO'!$B:$M,2,FALSE),"") -> FERREIRA SOUTO | H22: =IF(C22>0,VLOOKUP(C22,'BASE FEDERAÇÃO'!$B:$M,3,FALSE),"") -> JOVENILIO | I22: =IF($C22>0,VLOOKUP($C22,'BASE FEDERAÇÃO'!$B:$M,4,FALSE),"") -> M | J22: =IF($C22>0,VLOOKUP($C22,'BASE FEDERAÇÃO'!$B:$M,5,FALSE),"") -> 16. SUM | K22: =IFERROR(VLOOKUP(J22,Base!$G:$H,2,0),"") -> SUMARÉ | L22: =IF($C22>0,VLOOKUP($C22,'BASE FEDERAÇÃO'!$B:$M,6,FALSE),"") -> 27041 | M22: =IF($C22>0,VLOOKUP($C22,'BASE FEDERAÇÃO'!$B:$M,7,FALSE),"") -> 5 | N22: =IF($C22>0,VLOOKUP($C22,'BASE FEDERAÇÃO'!$B:$M,8,FALSE),"") -> A | O22: =IF($C22="","",VLOOKUP($C22,'BASE FEDERAÇÃO'!$B:$M,9,0)) -> NSR | P22: =IF($C22>0,VLOOKUP($C22,INCRIÇÕES!$A:$K,11,0),"") -> X | R22: =IF(ISERROR(VLOOKUP(C22,INCRIÇÕES!A:A,1,0)),"NÃO TEM INSCRIÇÃO","OK") -> OK | S22: =IF(S21="",S20+1,IF(F22<>"",S21+1,"")) -> 16 | T22: =IF(COUNTIF(C:C,C22)>1,"REPETIDO","OK") -> OK | U22: =CONCATENATE(D22&A22) -> 0416 | AC22: 306 | AD22: =IF(ISERROR(VLOOKUP(AC22,C:C,1,0)),"SEM GRUPO","JÁ TEM GRUPO") -> JÁ TEM GRUPO | AE22: =VLOOKUP(AC22,INCRIÇÕES!A:F,6,0) -> COOPER COTIA
A23: =S23 | G23: =IF(C23>0,VLOOKUP(C23,'BASE FEDERAÇÃO'!$B:$M,2,FALSE),"") | H23: =IF(C23>0,VLOOKUP(C23,'BASE FEDERAÇÃO'!$B:$M,3,FALSE),"") | I23: =IF($C23>0,VLOOKUP($C23,'BASE FEDERAÇÃO'!$B:$M,4,FALSE),"") | J23: =IF($C23>0,VLOOKUP($C23,'BASE FEDERAÇÃO'!$B:$M,5,FALSE),"") | K23: =IFERROR(VLOOKUP(J23,Base!$G:$H,2,0),"") | L23: =IF($C23>0,VLOOKUP($C23,'BASE FEDERAÇÃO'!$B:$M,6,FALSE),"") | M23: =IF($C23>0,VLOOKUP($C23,'BASE FEDERAÇÃO'!$B:$M,7,FALSE),"") | N23: =IF($C23>0,VLOOKUP($C23,'BASE FEDERAÇÃO'!$B:$M,8,FALSE),"") | O23: =IF($C23="","",VLOOKUP($C23,'BASE FEDERAÇÃO'!$B:$M,9,0)) | P23: =IF($C23>0,VLOOKUP($C23,INCRIÇÕES!$A:$K,11,0),"") | R23: =IF(ISERROR(VLOOKUP(C23,INCRIÇÕES!A:A,1,0)),"NÃO TEM INSCRIÇÃO","OK") -> NÃO TEM INSCRIÇÃO | S23: =IF(S22="",S21+1,IF(F23<>"",S22+1,"")) | T23: =IF(COUNTIF(C:C,C23)>1,"REPETIDO","OK") -> OK | U23: =CONCATENATE(D23&A23) | AC23: 446 | AD23: =IF(ISERROR(VLOOKUP(AC23,C:C,1,0)),"SEM GRUPO","JÁ TEM GRUPO") -> JÁ TEM GRUPO | AE23: =VLOOKUP(AC23,INCRIÇÕES!A:F,6,0) -> COOPER COTIA
A24: =S24 -> 17 | C24: 216 | D24: 05 | E24: 01 | F24: 05 | G24: =IF(C24>0,VLOOKUP(C24,'BASE FEDERAÇÃO'!$B:$M,2,FALSE),"") -> ADATI | H24: =IF(C24>0,VLOOKUP(C24,'BASE FEDERAÇÃO'!$B:$M,3,FALSE),"") -> MARCIO SHIGUEO | I24: =IF($C24>0,VLOOKUP($C24,'BASE FEDERAÇÃO'!$B:$M,4,FALSE),"") -> M | J24: =IF($C24>0,VLOOKUP($C24,'BASE FEDERAÇÃO'!$B:$M,5,FALSE),"") -> 10. ITA | K24: =IFERROR(VLOOKUP(J24,Base!$G:$H,2,0),"") -> ITAPETININGA | L24: =IF($C24>0,VLOOKUP($C24,'BASE FEDERAÇÃO'!$B:$M,6,FALSE),"") -> 21219 | M24: =IF($C24>0,VLOOKUP($C24,'BASE FEDERAÇÃO'!$B:$M,7,FALSE),"") -> 2 | N24: =IF($C24>0,VLOOKUP($C24,'BASE FEDERAÇÃO'!$B:$M,8,FALSE),"") -> EX | O24: =IF($C24="","",VLOOKUP($C24,'BASE FEDERAÇÃO'!$B:$M,9,0)) -> NSR | P24: =IF($C24>0,VLOOKUP($C24,INCRIÇÕES!$A:$K,11,0),"") -> X | R24: =IF(ISERROR(VLOOKUP(C24,INCRIÇÕES!A:A,1,0)),"NÃO TEM INSCRIÇÃO","OK") -> OK | S24: =IF(S23="",S22+1,IF(F24<>"",S23+1,"")) -> 17 | T24: =IF(COUNTIF(C:C,C24)>1,"REPETIDO","OK") -> OK | U24: =CONCATENATE(D24&A24) -> 0517 | AC24: 884 | AD24: =IF(ISERROR(VLOOKUP(AC24,C:C,1,0)),"SEM GRUPO","JÁ TEM GRUPO") -> JÁ TEM GRUPO | AE24: =VLOOKUP(AC24,INCRIÇÕES!A:F,6,0) -> COOPER COTIA
A25: =S25 -> 18 | C25: 929 | D25: =D24 -> 05 | E25: =E24 -> 01 | F25: =F24 -> 05 | G25: =IF(C25>0,VLOOKUP(C25,'BASE FEDERAÇÃO'!$B:$M,2,FALSE),"") -> MATSUMOTO | H25: =IF(C25>0,VLOOKUP(C25,'BASE FEDERAÇÃO'!$B:$M,3,FALSE),"") -> ALESSANDRA A. | I25: =IF($C25>0,VLOOKUP($C25,'BASE FEDERAÇÃO'!$B:$M,4,FALSE),"") -> F | J25: =IF($C25>0,VLOOKUP($C25,'BASE FEDERAÇÃO'!$B:$M,5,FALSE),"") -> 11. NCC | K25: =IFERROR(VLOOKUP(J25,Base!$G:$H,2,0),"") -> NIPPON COUNTRY | L25: =IF($C25>0,VLOOKUP($C25,'BASE FEDERAÇÃO'!$B:$M,6,FALSE),"") -> 26932 | M25: =IF($C25>0,VLOOKUP($C25,'BASE FEDERAÇÃO'!$B:$M,7,FALSE),"") -> 3 | N25: =IF($C25>0,VLOOKUP($C25,'BASE FEDERAÇÃO'!$B:$M,8,FALSE),"") -> EX | O25: =IF($C25="","",VLOOKUP($C25,'BASE FEDERAÇÃO'!$B:$M,9,0)) -> NSR | P25: =IF($C25>0,VLOOKUP($C25,INCRIÇÕES!$A:$K,11,0),"") -> X | R25: =IF(ISERROR(VLOOKUP(C25,INCRIÇÕES!A:A,1,0)),"NÃO TEM INSCRIÇÃO","OK") -> OK | S25: =IF(S24="",S23+1,IF(F25<>"",S24+1,"")) -> 18 | T25: =IF(COUNTIF(C:C,C25)>1,"REPETIDO","OK") -> OK | U25: =CONCATENATE(D25&A25) -> 0518 | AC25: 899 | AD25: =IF(ISERROR(VLOOKUP(AC25,C:C,1,0)),"SEM GRUPO","JÁ TEM GRUPO") -> JÁ TEM GRUPO | AE25: =VLOOKUP(AC25,INCRIÇÕES!A:F,6,0) -> COOPER COTIA
A26: =S26 -> 19 | C26: 572 | D26: =D25 -> 05 | E26: =E25 -> 01 | F26: =F25 -> 05 | G26: =IF(C26>0,VLOOKUP(C26,'BASE FEDERAÇÃO'!$B:$M,2,FALSE),"") -> TAKANO | H26: =IF(C26>0,VLOOKUP(C26,'BASE FEDERAÇÃO'!$B:$M,3,FALSE),"") -> ELZA FARUYO | I26: =IF($C26>0,VLOOKUP($C26,'BASE FEDERAÇÃO'!$B:$M,4,FALSE),"") -> F | J26: =IF($C26>0,VLOOKUP($C26,'BASE FEDERAÇÃO'!$B:$M,5,FALSE),"") -> 07. GSP | K26: =IFERROR(VLOOKUP(J26,Base!$G:$H,2,0),"") -> GRANDE SÃO PAULO | L26: =IF($C26>0,VLOOKUP($C26,'BASE FEDERAÇÃO'!$B:$M,6,FALSE),"") -> 19929 | M26: =IF($C26>0,VLOOKUP($C26,'BASE FEDERAÇÃO'!$B:$M,7,FALSE),"") -> 6 | N26: =IF($C26>0,VLOOKUP($C26,'BASE FEDERAÇÃO'!$B:$M,8,FALSE),"") -> A | O26: =IF($C26="","",VLOOKUP($C26,'BASE FEDERAÇÃO'!$B:$M,9,0)) -> NSR | P26: =IF($C26>0,VLOOKUP($C26,INCRIÇÕES!$A:$K,11,0),"") | R26: =IF(ISERROR(VLOOKUP(C26,INCRIÇÕES!A:A,1,0)),"NÃO TEM INSCRIÇÃO","OK") -> OK | S26: =IF(S25="",S24+1,IF(F26<>"",S25+1,"")) -> 19 | T26: =IF(COUNTIF(C:C,C26)>1,"REPETIDO","OK") -> OK | U26: =CONCATENATE(D26&A26) -> 0519 | AC26: 249 | AD26: =IF(ISERROR(VLOOKUP(AC26,C:C,1,0)),"SEM GRUPO","JÁ TEM GRUPO") -> JÁ TEM GRUPO | AE26: =VLOOKUP(AC26,INCRIÇÕES!A:F,6,0) -> PIEDADE
A27: =S27 -> 20 | C27: 553 | D27: =D26 -> 05 | E27: =E26 -> 01 | F27: =F26 -> 05 | G27: =IF(C27>0,VLOOKUP(C27,'BASE FEDERAÇÃO'!$B:$M,2,FALSE),"") -> TSUTSUMI | H27: =IF(C27>0,VLOOKUP(C27,'BASE FEDERAÇÃO'!$B:$M,3,FALSE),"") -> HIROSHI | I27: =IF($C27>0,VLOOKUP($C27,'BASE FEDERAÇÃO'!$B:$M,4,FALSE),"") -> M | J27: =IF($C27>0,VLOOKUP($C27,'BASE FEDERAÇÃO'!$B:$M,5,FALSE),"") -> 15. BIR | K27: =IFERROR(VLOOKUP(J27,Base!$G:$H,2,0),"") -> BIRITIBA MIRIM | L27: =IF($C27>0,VLOOKUP($C27,'BASE FEDERAÇÃO'!$B:$M,6,FALSE),"") -> 17992 | M27: =IF($C27>0,VLOOKUP($C27,'BASE FEDERAÇÃO'!$B:$M,7,FALSE),"") -> 6 | N27: =IF($C27>0,VLOOKUP($C27,'BASE FEDERAÇÃO'!$B:$M,8,FALSE),"") -> A | O27: =IF($C27="","",VLOOKUP($C27,'BASE FEDERAÇÃO'!$B:$M,9,0)) -> SR | P27: =IF($C27>0,VLOOKUP($C27,INCRIÇÕES!$A:$K,11,0),"") -> X | R27: =IF(ISERROR(VLOOKUP(C27,INCRIÇÕES!A:A,1,0)),"NÃO TEM INSCRIÇÃO","OK") -> OK | S27: =IF(S26="",S25+1,IF(F27<>"",S26+1,"")) -> 20 | T27: =IF(COUNTIF(C:C,C27)>1,"REPETIDO","OK") -> OK | U27: =CONCATENATE(D27&A27) -> 0520 | AD27: =IF(ISERROR(VLOOKUP(AC27,C:C,1,0)),"SEM GRUPO","JÁ TEM GRUPO") -> SEM GRUPO | AE27: =VLOOKUP(AC27,INCRIÇÕES!A:F,6,0) -> #N/A
A28: =S28 | G28: =IF(C28>0,VLOOKUP(C28,'BASE FEDERAÇÃO'!$B:$M,2,FALSE),"") | H28: =IF(C28>0,VLOOKUP(C28,'BASE FEDERAÇÃO'!$B:$M,3,FALSE),"") | I28: =IF($C28>0,VLOOKUP($C28,'BASE FEDERAÇÃO'!$B:$M,4,FALSE),"") | J28: =IF($C28>0,VLOOKUP($C28,'BASE FEDERAÇÃO'!$B:$M,5,FALSE),"") | K28: =IFERROR(VLOOKUP(J28,Base!$G:$H,2,0),"") | L28: =IF($C28>0,VLOOKUP($C28,'BASE FEDERAÇÃO'!$B:$M,6,FALSE),"") | M28: =IF($C28>0,VLOOKUP($C28,'BASE FEDERAÇÃO'!$B:$M,7,FALSE),"") | N28: =IF($C28>0,VLOOKUP($C28,'BASE FEDERAÇÃO'!$B:$M,8,FALSE),"") | O28: =IF($C28="","",VLOOKUP($C28,'BASE FEDERAÇÃO'!$B:$M,9,0)) | P28: =IF($C28>0,VLOOKUP($C28,INCRIÇÕES!$A:$K,11,0),"") | R28: =IF(ISERROR(VLOOKUP(C28,INCRIÇÕES!A:A,1,0)),"NÃO TEM INSCRIÇÃO","OK") -> NÃO TEM INSCRIÇÃO | S28: =IF(S27="",S26+1,IF(F28<>"",S27+1,"")) | T28: =IF(COUNTIF(C:C,C28)>1,"REPETIDO","OK") -> OK | U28: =CONCATENATE(D28&A28) | AD28: =IF(ISERROR(VLOOKUP(AC28,C:C,1,0)),"SEM GRUPO","JÁ TEM GRUPO") -> SEM GRUPO | AE28: =VLOOKUP(AC28,INCRIÇÕES!A:F,6,0) -> #N/A
A29: =S29 -> 21 | C29: 335 | D29: 06 | E29: 01 | F29: 06 | G29: =IF(C29>0,VLOOKUP(C29,'BASE FEDERAÇÃO'!$B:$M,2,FALSE),"") -> KITANO | H29: =IF(C29>0,VLOOKUP(C29,'BASE FEDERAÇÃO'!$B:$M,3,FALSE),"") -> KAZUO | I29: =IF($C29>0,VLOOKUP($C29,'BASE FEDERAÇÃO'!$B:$M,4,FALSE),"") -> M | J29: =IF($C29>0,VLOOKUP($C29,'BASE FEDERAÇÃO'!$B:$M,5,FALSE),"") -> 11. NCC | K29: =IFERROR(VLOOKUP(J29,Base!$G:$H,2,0),"") -> NIPPON COUNTRY | L29: =IF($C29>0,VLOOKUP($C29,'BASE FEDERAÇÃO'!$B:$M,6,FALSE),"") -> 19890 | M29: =IF($C29>0,VLOOKUP($C29,'BASE FEDERAÇÃO'!$B:$M,7,FALSE),"") -> 8 | N29: =IF($C29>0,VLOOKUP($C29,'BASE FEDERAÇÃO'!$B:$M,8,FALSE),"") -> B | O29: =IF($C29="","",VLOOKUP($C29,'BASE FEDERAÇÃO'!$B:$M,9,0)) -> NSR | P29: =IF($C29>0,VLOOKUP($C29,INCRIÇÕES!$A:$K,11,0),"") -> X | R29: =IF(ISERROR(VLOOKUP(C29,INCRIÇÕES!A:A,1,0)),"NÃO TEM INSCRIÇÃO","OK") -> OK | S29: =IF(S28="",S27+1,IF(F29<>"",S28+1,"")) -> 21 | T29: =IF(COUNTIF(C:C,C29)>1,"REPETIDO","OK") -> OK | U29: =CONCATENATE(D29&A29) -> 0621 | AD29: =IF(ISERROR(VLOOKUP(AC29,C:C,1,0)),"SEM GRUPO","JÁ TEM GRUPO") -> SEM GRUPO | AE29: =VLOOKUP(AC29,INCRIÇÕES!A:F,6,0) -> #N/A
A30: =S30 -> 22 | C30: 943 | D30: =D29 -> 06 | E30: =E29 -> 01 | F30: =F29 -> 06 | G30: =IF(C30>0,VLOOKUP(C30,'BASE FEDERAÇÃO'!$B:$M,2,FALSE),"") -> HASOBE | H30: =IF(C30>0,VLOOKUP(C30,'BASE FEDERAÇÃO'!$B:$M,3,FALSE),"") -> MIEKO | I30: =IF($C30>0,VLOOKUP($C30,'BASE FEDERAÇÃO'!$B:$M,4,FALSE),"") -> F | J30: =IF($C30>0,VLOOKUP($C30,'BASE FEDERAÇÃO'!$B:$M,5,FALSE),"") -> 11. NCC | K30: =IFERROR(VLOOKUP(J30,Base!$G:$H,2,0),"") -> NIPPON COUNTRY | L30: =IF($C30>0,VLOOKUP($C30,'BASE FEDERAÇÃO'!$B:$M,6,FALSE),"") -> 17840 | M30: =IF($C30>0,VLOOKUP($C30,'BASE FEDERAÇÃO'!$B:$M,7,FALSE),"") -> 9 | N30: =IF($C30>0,VLOOKUP($C30,'BASE FEDERAÇÃO'!$B:$M,8,FALSE),"") -> B | O30: =IF($C30="","",VLOOKUP($C30,'BASE FEDERAÇÃO'!$B:$M,9,0)) -> SR | P30: =IF($C30>0,VLOOKUP($C30,INCRIÇÕES!$A:$K,11,0),"") | R30: =IF(ISERROR(VLOOKUP(C30,INCRIÇÕES!A:A,1,0)),"NÃO TEM INSCRIÇÃO","OK") -> OK | S30: =IF(S29="",S28+1,IF(F30<>"",S29+1,"")) -> 22 | T30: =IF(COUNTIF(C:C,C30)>1,"REPETIDO","OK") -> OK | U30: =CONCATENATE(D30&A30) -> 0622 | AD30: =IF(ISERROR(VLOOKUP(AC30,C:C,1,0)),"SEM GRUPO","JÁ TEM GRUPO") -> SEM GRUPO | AE30: =VLOOKUP(AC30,INCRIÇÕES!A:F,6,0) -> #N/A
A31: =S31 -> 23 | C31: 768 | D31: =D30 -> 06 | E31: =E30 -> 01 | F31: =F30 -> 06 | G31: =IF(C31>0,VLOOKUP(C31,'BASE FEDERAÇÃO'!$B:$M,2,FALSE),"") -> SATO | H31: =IF(C31>0,VLOOKUP(C31,'BASE FEDERAÇÃO'!$B:$M,3,FALSE),"") -> NOBUO | I31: =IF($C31>0,VLOOKUP($C31,'BASE FEDERAÇÃO'!$B:$M,4,FALSE),"") -> M | J31: =IF($C31>0,VLOOKUP($C31,'BASE FEDERAÇÃO'!$B:$M,5,FALSE),"") -> 06. KOK | K31: =IFERROR(VLOOKUP(J31,Base!$G:$H,2,0),"") -> KOKUSHIKAN | L31: =IF($C31>0,VLOOKUP($C31,'BASE FEDERAÇÃO'!$B:$M,6,FALSE),"") -> 16524 | M31: =IF($C31>0,VLOOKUP($C31,'BASE FEDERAÇÃO'!$B:$M,7,FALSE),"") -> 9 | N31: =IF($C31>0,VLOOKUP($C31,'BASE FEDERAÇÃO'!$B:$M,8,FALSE),"") -> B | O31: =IF($C31="","",VLOOKUP($C31,'BASE FEDERAÇÃO'!$B:$M,9,0)) -> SR | P31: =IF($C31>0,VLOOKUP($C31,INCRIÇÕES!$A:$K,11,0),"") -> X | R31: =IF(ISERROR(VLOOKUP(C31,INCRIÇÕES!A:A,1,0)),"NÃO TEM INSCRIÇÃO","OK") -> OK | S31: =IF(S30="",S29+1,IF(F31<>"",S30+1,"")) -> 23 | T31: =IF(COUNTIF(C:C,C31)>1,"REPETIDO","OK") -> OK | U31: =CONCATENATE(D31&A31) -> 0623 | AD31: =IF(ISERROR(VLOOKUP(AC31,C:C,1,0)),"SEM GRUPO","JÁ TEM GRUPO") -> SEM GRUPO | AE31: =VLOOKUP(AC31,INCRIÇÕES!A:F,6,0) -> #N/A
A32: =S32 -> 24 | C32: 794 | D32: =D31 -> 06 | E32: =E31 -> 01 | F32: =F31 -> 06 | G32: =IF(C32>0,VLOOKUP(C32,'BASE FEDERAÇÃO'!$B:$M,2,FALSE),"") -> GUNJI | H32: =IF(C32>0,VLOOKUP(C32,'BASE FEDERAÇÃO'!$B:$M,3,FALSE),"") -> YOSHIE | I32: =IF($C32>0,VLOOKUP($C32,'BASE FEDERAÇÃO'!$B:$M,4,FALSE),"") -> F | J32: =IF($C32>0,VLOOKUP($C32,'BASE FEDERAÇÃO'!$B:$M,5,FALSE),"") -> 15. BIR | K32: =IFERROR(VLOOKUP(J32,Base!$G:$H,2,0),"") -> BIRITIBA MIRIM | L32: =IF($C32>0,VLOOKUP($C32,'BASE FEDERAÇÃO'!$B:$M,6,FALSE),"") -> 18222 | M32: =IF($C32>0,VLOOKUP($C32,'BASE FEDERAÇÃO'!$B:$M,7,FALSE),"") -> 9 | N32: =IF($C32>0,VLOOKUP($C32,'BASE FEDERAÇÃO'!$B:$M,8,FALSE),"") -> B | O32: =IF($C32="","",VLOOKUP($C32,'BASE FEDERAÇÃO'!$B:$M,9,0)) -> SR | P32: =IF($C32>0,VLOOKUP($C32,INCRIÇÕES!$A:$K,11,0),"") | R32: =IF(ISERROR(VLOOKUP(C32,INCRIÇÕES!A:A,1,0)),"NÃO TEM INSCRIÇÃO","OK") -> OK | S32: =IF(S31="",S30+1,IF(F32<>"",S31+1,"")) -> 24 | T32: =IF(COUNTIF(C:C,C32)>1,"REPETIDO","OK") -> OK | U32: =CONCATENATE(D32&A32) -> 0624 | AD32: =IF(ISERROR(VLOOKUP(AC32,C:C,1,0)),"SEM GRUPO","JÁ TEM GRUPO") -> SEM GRUPO | AE32: =VLOOKUP(AC32,INCRIÇÕES!A:F,6,0) -> #N/A
A33: =S33 | G33: =IF(C33>0,VLOOKUP(C33,'BASE FEDERAÇÃO'!$B:$M,2,FALSE),"") | H33: =IF(C33>0,VLOOKUP(C33,'BASE FEDERAÇÃO'!$B:$M,3,FALSE),"") | I33: =IF($C33>0,VLOOKUP($C33,'BASE FEDERAÇÃO'!$B:$M,4,FALSE),"") | J33: =IF($C33>0,VLOOKUP($C33,'BASE FEDERAÇÃO'!$B:$M,5,FALSE),"") | K33: =IFERROR(VLOOKUP(J33,Base!$G:$H,2,0),"") | L33: =IF($C33>0,VLOOKUP($C33,'BASE FEDERAÇÃO'!$B:$M,6,FALSE),"") | M33: =IF($C33>0,VLOOKUP($C33,'BASE FEDERAÇÃO'!$B:$M,7,FALSE),"") | N33: =IF($C33>0,VLOOKUP($C33,'BASE FEDERAÇÃO'!$B:$M,8,FALSE),"") | O33: =IF($C33="","",VLOOKUP($C33,'BASE FEDERAÇÃO'!$B:$M,9,0)) | P33: =IF($C33>0,VLOOKUP($C33,INCRIÇÕES!$A:$K,11,0),"") | R33: =IF(ISERROR(VLOOKUP(C33,INCRIÇÕES!A:A,1,0)),"NÃO TEM INSCRIÇÃO","OK") -> NÃO TEM INSCRIÇÃO | S33: =IF(S32="",S31+1,IF(F33<>"",S32+1,"")) | T33: =IF(COUNTIF(C:C,C33)>1,"REPETIDO","OK") -> OK | U33: =CONCATENATE(D33&A33) | AD33: =IF(ISERROR(VLOOKUP(AC33,C:C,1,0)),"SEM GRUPO","JÁ TEM GRUPO") -> SEM GRUPO | AE33: =VLOOKUP(AC33,INCRIÇÕES!A:F,6,0) -> #N/A
A34: =S34 -> 25 | C34: 342 | D34: 07 | E34: 01 | F34: 07 | G34: =IF(C34>0,VLOOKUP(C34,'BASE FEDERAÇÃO'!$B:$M,2,FALSE),"") -> TOBIMATSU | H34: =IF(C34>0,VLOOKUP(C34,'BASE FEDERAÇÃO'!$B:$M,3,FALSE),"") -> SHINYA | I34: =IF($C34>0,VLOOKUP($C34,'BASE FEDERAÇÃO'!$B:$M,4,FALSE),"") -> M | J34: =IF($C34>0,VLOOKUP($C34,'BASE FEDERAÇÃO'!$B:$M,5,FALSE),"") -> 06. KOK | K34: =IFERROR(VLOOKUP(J34,Base!$G:$H,2,0),"") -> KOKUSHIKAN | L34: =IF($C34>0,VLOOKUP($C34,'BASE FEDERAÇÃO'!$B:$M,6,FALSE),"") -> 17774 | M34: =IF($C34>0,VLOOKUP($C34,'BASE FEDERAÇÃO'!$B:$M,7,FALSE),"") -> 1 | N34: =IF($C34>0,VLOOKUP($C34,'BASE FEDERAÇÃO'!$B:$M,8,FALSE),"") -> EX | O34: =IF($C34="","",VLOOKUP($C34,'BASE FEDERAÇÃO'!$B:$M,9,0)) -> SR | P34: =IF($C34>0,VLOOKUP($C34,INCRIÇÕES!$A:$K,11,0),"") | R34: =IF(ISERROR(VLOOKUP(C34,INCRIÇÕES!A:A,1,0)),"NÃO TEM INSCRIÇÃO","OK") -> OK | S34: =IF(S33="",S32+1,IF(F34<>"",S33+1,"")) -> 25 | T34: =IF(COUNTIF(C:C,C34)>1,"REPETIDO","OK") -> OK | U34: =CONCATENATE(D34&A34) -> 0725 | AD34: =IF(ISERROR(VLOOKUP(AC34,C:C,1,0)),"SEM GRUPO","JÁ TEM GRUPO") -> SEM GRUPO | AE34: =VLOOKUP(AC34,INCRIÇÕES!A:F,6,0) -> #N/A
A35: =S35 -> 26 | C35: 256 | D35: =D34 -> 07 | E35: =E34 -> 01 | F35: =F34 -> 07 | G35: =IF(C35>0,VLOOKUP(C35,'BASE FEDERAÇÃO'!$B:$M,2,FALSE),"") -> UEMURA | H35: =IF(C35>0,VLOOKUP(C35,'BASE FEDERAÇÃO'!$B:$M,3,FALSE),"") -> YASUGI | I35: =IF($C35>0,VLOOKUP($C35,'BASE FEDERAÇÃO'!$B:$M,4,FALSE),"") -> M | J35: =IF($C35>0,VLOOKUP($C35,'BASE FEDERAÇÃO'!$B:$M,5,FALSE),"") -> 07. GSP | K35: =IFERROR(VLOOKUP(J35,Base!$G:$H,2,0),"") -> GRANDE SÃO PAULO | L35: =IF($C35>0,VLOOKUP($C35,'BASE FEDERAÇÃO'!$B:$M,6,FALSE),"") -> 15220 | M35: =IF($C35>0,VLOOKUP($C35,'BASE FEDERAÇÃO'!$B:$M,7,FALSE),"") -> 3 | N35: =IF($C35>0,VLOOKUP($C35,'BASE FEDERAÇÃO'!$B:$M,8,FALSE),"") -> EX | O35: =IF($C35="","",VLOOKUP($C35,'BASE FEDERAÇÃO'!$B:$M,9,0)) -> MR | P35: =IF($C35>0,VLOOKUP($C35,INCRIÇÕES!$A:$K,11,0),"") | R35: =IF(ISERROR(VLOOKUP(C35,INCRIÇÕES!A:A,1,0)),"NÃO TEM INSCRIÇÃO","OK") -> OK | S35: =IF(S34="",S33+1,IF(F35<>"",S34+1,"")) -> 26 | T35: =IF(COUNTIF(C:C,C35)>1,"REPETIDO","OK") -> OK | U35: =CONCATENATE(D35&A35) -> 0726 | AD35: =IF(ISERROR(VLOOKUP(AC35,C:C,1,0)),"SEM GRUPO","JÁ TEM GRUPO") -> SEM GRUPO | AE35: =VLOOKUP(AC35,INCRIÇÕES!A:F,6,0) -> #N/A
A36: =S36 -> 27 | C36: 983 | D36: =D35 -> 07 | E36: =E35 -> 01 | F36: =F35 -> 07 | G36: =IF(C36>0,VLOOKUP(C36,'BASE FEDERAÇÃO'!$B:$M,2,FALSE),"") -> OSAKO | H36: =IF(C36>0,VLOOKUP(C36,'BASE FEDERAÇÃO'!$B:$M,3,FALSE),"") -> SERGIO | I36: =IF($C36>0,VLOOKUP($C36,'BASE FEDERAÇÃO'!$B:$M,4,FALSE),"") -> M | J36: =IF($C36>0,VLOOKUP($C36,'BASE FEDERAÇÃO'!$B:$M,5,FALSE),"") -> 18. SOR | K36: =IFERROR(VLOOKUP(J36,Base!$G:$H,2,0),"") -> SOROCABA | L36: =IF($C36>0,VLOOKUP($C36,'BASE FEDERAÇÃO'!$B:$M,6,FALSE),"") -> 16304 | M36: =IF($C36>0,VLOOKUP($C36,'BASE FEDERAÇÃO'!$B:$M,7,FALSE),"") -> 3 | N36: =IF($C36>0,VLOOKUP($C36,'BASE FEDERAÇÃO'!$B:$M,8,FALSE),"") -> EX | O36: =IF($C36="","",VLOOKUP($C36,'BASE FEDERAÇÃO'!$B:$M,9,0)) -> SR | P36: =IF($C36>0,VLOOKUP($C36,INCRIÇÕES!$A:$K,11,0),"") | R36: =IF(ISERROR(VLOOKUP(C36,INCRIÇÕES!A:A,1,0)),"NÃO TEM INSCRIÇÃO","OK") -> OK | S36: =IF(S35="",S34+1,IF(F36<>"",S35+1,"")) -> 27 | T36: =IF(COUNTIF(C:C,C36)>1,"REPETIDO","OK") -> OK | U36: =CONCATENATE(D36&A36) -> 0727 | AD36: =IF(ISERROR(VLOOKUP(AC36,C:C,1,0)),"SEM GRUPO","JÁ TEM GRUPO") -> SEM GRUPO | AE36: =VLOOKUP(AC36,INCRIÇÕES!A:F,6,0) -> #N/A
A37: =S37 -> 28 | C37: 366 | D37: =D36 -> 07 | E37: =E36 -> 01 | F37: =F36 -> 07 | G37: =IF(C37>0,VLOOKUP(C37,'BASE FEDERAÇÃO'!$B:$M,2,FALSE),"") -> KOJA | H37: =IF(C37>0,VLOOKUP(C37,'BASE FEDERAÇÃO'!$B:$M,3,FALSE),"") -> T.EDISON | I37: =IF($C37>0,VLOOKUP($C37,'BASE FEDERAÇÃO'!$B:$M,4,FALSE),"") -> M | J37: =IF($C37>0,VLOOKUP($C37,'BASE FEDERAÇÃO'!$B:$M,5,FALSE),"") -> 11. NCC | K37: =IFERROR(VLOOKUP(J37,Base!$G:$H,2,0),"") -> NIPPON COUNTRY | L37: =IF($C37>0,VLOOKUP($C37,'BASE FEDERAÇÃO'!$B:$M,6,FALSE),"") -> 17495 | M37: =IF($C37>0,VLOOKUP($C37,'BASE FEDERAÇÃO'!$B:$M,7,FALSE),"") -> 4 | N37: =IF($C37>0,VLOOKUP($C37,'BASE FEDERAÇÃO'!$B:$M,8,FALSE),"") -> A | O37: =IF($C37="","",VLOOKUP($C37,'BASE FEDERAÇÃO'!$B:$M,9,0)) -> SR | P37: =IF($C37>0,VLOOKUP($C37,INCRIÇÕES!$A:$K,11,0),"") | R37: =IF(ISERROR(VLOOKUP(C37,INCRIÇÕES!A:A,1,0)),"NÃO TEM INSCRIÇÃO","OK") -> OK | S37: =IF(S36="",S35+1,IF(F37<>"",S36+1,"")) -> 28 | T37: =IF(COUNTIF(C:C,C37)>1,"REPETIDO","OK") -> OK | U37: =CONCATENATE(D37&A37) -> 0728 | AD37: =IF(ISERROR(VLOOKUP(AC37,C:C,1,0)),"SEM GRUPO","JÁ TEM GRUPO") -> SEM GRUPO | AE37: =VLOOKUP(AC37,INCRIÇÕES!A:F,6,0) -> #N/A
A38: =S38 | G38: =IF(C38>0,VLOOKUP(C38,'BASE FEDERAÇÃO'!$B:$M,2,FALSE),"") | H38: =IF(C38>0,VLOOKUP(C38,'BASE FEDERAÇÃO'!$B:$M,3,FALSE),"") | I38: =IF($C38>0,VLOOKUP($C38,'BASE FEDERAÇÃO'!$B:$M,4,FALSE),"") | J38: =IF($C38>0,VLOOKUP($C38,'BASE FEDERAÇÃO'!$B:$M,5,FALSE),"") | K38: =IFERROR(VLOOKUP(J38,Base!$G:$H,2,0),"") | L38: =IF($C38>0,VLOOKUP($C38,'BASE FEDERAÇÃO'!$B:$M,6,FALSE),"") | M38: =IF($C38>0,VLOOKUP($C38,'BASE FEDERAÇÃO'!$B:$M,7,FALSE),"") | N38: =IF($C38>0,VLOOKUP($C38,'BASE FEDERAÇÃO'!$B:$M,8,FALSE),"") | O38: =IF($C38="","",VLOOKUP($C38,'BASE FEDERAÇÃO'!$B:$M,9,0)) | P38: =IF($C38>0,VLOOKUP($C38,INCRIÇÕES!$A:$K,11,0),"") | R38: =IF(ISERROR(VLOOKUP(C38,INCRIÇÕES!A:A,1,0)),"NÃO TEM INSCRIÇÃO","OK") -> NÃO TEM INSCRIÇÃO | S38: =IF(S37="",S36+1,IF(F38<>"",S37+1,"")) | T38: =IF(COUNTIF(C:C,C38)>1,"REPETIDO","OK") -> OK | U38: =CONCATENATE(D38&A38) | AD38: =IF(ISERROR(VLOOKUP(AC38,C:C,1,0)),"SEM GRUPO","JÁ TEM GRUPO") -> SEM GRUPO | AE38: =VLOOKUP(AC38,INCRIÇÕES!A:F,6,0) -> #N/A
A39: =S39 -> 29 | C39: 609 | D39: 08 | E39: 01 | F39: 08 | G39: =IF(C39>0,VLOOKUP(C39,'BASE FEDERAÇÃO'!$B:$M,2,FALSE),"") -> NAKASHIMA | H39: =IF(C39>0,VLOOKUP(C39,'BASE FEDERAÇÃO'!$B:$M,3,FALSE),"") -> MITSUKO | I39: =IF($C39>0,VLOOKUP($C39,'BASE FEDERAÇÃO'!$B:$M,4,FALSE),"") -> F | J39: =IF($C39>0,VLOOKUP($C39,'BASE FEDERAÇÃO'!$B:$M,5,FALSE),"") -> 06. KOK | K39: =IFERROR(VLOOKUP(J39,Base!$G:$H,2,0),"") -> KOKUSHIKAN | L39: =IF($C39>0,VLOOKUP($C39,'BASE FEDERAÇÃO'!$B:$M,6,FALSE),"") -> 19177 | M39: =IF($C39>0,VLOOKUP($C39,'BASE FEDERAÇÃO'!$B:$M,7,FALSE),"") -> 9 | N39: =IF($C39>0,VLOOKUP($C39,'BASE FEDERAÇÃO'!$B:$M,8,FALSE),"") -> B | O39: =IF($C39="","",VLOOKUP($C39,'BASE FEDERAÇÃO'!$B:$M,9,0)) -> NSR | P39: =IF($C39>0,VLOOKUP($C39,INCRIÇÕES!$A:$K,11,0),"") -> X | R39: =IF(ISERROR(VLOOKUP(C39,INCRIÇÕES!A:A,1,0)),"NÃO TEM INSCRIÇÃO","OK") -> OK | S39: =IF(S38="",S37+1,IF(F39<>"",S38+1,"")) -> 29 | T39: =IF(COUNTIF(C:C,C39)>1,"REPETIDO","OK") -> OK | U39: =CONCATENATE(D39&A39) -> 0829 | AD39: =IF(ISERROR(VLOOKUP(AC39,C:C,1,0)),"SEM GRUPO","JÁ TEM GRUPO") -> SEM GRUPO | AE39: =VLOOKUP(AC39,INCRIÇÕES!A:F,6,0) -> #N/A
A40: =S40 -> 30 | C40: 798 | D40: 08 | E40: 01 | F40: 08 | G40: =IF(C40>0,VLOOKUP(C40,'BASE FEDERAÇÃO'!$B:$M,2,FALSE),"") -> ARIKI | H40: =IF(C40>0,VLOOKUP(C40,'BASE FEDERAÇÃO'!$B:$M,3,FALSE),"") -> TERESA HIROKO | I40: =IF($C40>0,VLOOKUP($C40,'BASE FEDERAÇÃO'!$B:$M,4,FALSE),"") -> F | J40: =IF($C40>0,VLOOKUP($C40,'BASE FEDERAÇÃO'!$B:$M,5,FALSE),"") -> 07. GSP | K40: =IFERROR(VLOOKUP(J40,Base!$G:$H,2,0),"") -> GRANDE SÃO PAULO | L40: =IF($C40>0,VLOOKUP($C40,'BASE FEDERAÇÃO'!$B:$M,6,FALSE),"") -> 18191 | M40: =IF($C40>0,VLOOKUP($C40,'BASE FEDERAÇÃO'!$B:$M,7,FALSE),"") -> 9 | N40: =IF($C40>0,VLOOKUP($C40,'BASE FEDERAÇÃO'!$B:$M,8,FALSE),"") -> B | O40: =IF($C40="","",VLOOKUP($C40,'BASE FEDERAÇÃO'!$B:$M,9,0)) -> SR | P40: =IF($C40>0,VLOOKUP($C40,INCRIÇÕES!$A:$K,11,0),"") | R40: =IF(ISERROR(VLOOKUP(C40,INCRIÇÕES!A:A,1,0)),"NÃO TEM INSCRIÇÃO","OK") -> OK | S40: =IF(S39="",S38+1,IF(F40<>"",S39+1,"")) -> 30 | T40: =IF(COUNTIF(C:C,C40)>1,"REPETIDO","OK") -> OK | U40: =CONCATENATE(D40&A40) -> 0830 | AD40: =IF(ISERROR(VLOOKUP(AC40,C:C,1,0)),"SEM GRUPO","JÁ TEM GRUPO") -> SEM GRUPO | AE40: =VLOOKUP(AC40,INCRIÇÕES!A:F,6,0) -> #N/A
A41: =S41 -> 31 | C41: 769 | D41: 08 | E41: 01 | F41: 08 | G41: =IF(C41>0,VLOOKUP(C41,'BASE FEDERAÇÃO'!$B:$M,2,FALSE),"") -> SOTOTUKA | H41: =IF(C41>0,VLOOKUP(C41,'BASE FEDERAÇÃO'!$B:$M,3,FALSE),"") -> MASSAHIKO | I41: =IF($C41>0,VLOOKUP($C41,'BASE FEDERAÇÃO'!$B:$M,4,FALSE),"") -> M | J41: =IF($C41>0,VLOOKUP($C41,'BASE FEDERAÇÃO'!$B:$M,5,FALSE),"") -> 12. COO | K41: =IFERROR(VLOOKUP(J41,Base!$G:$H,2,0),"") -> COOPER COTIA | L41: =IF($C41>0,VLOOKUP($C41,'BASE FEDERAÇÃO'!$B:$M,6,FALSE),"") -> 17868 | M41: =IF($C41>0,VLOOKUP($C41,'BASE FEDERAÇÃO'!$B:$M,7,FALSE),"") -> 9 | N41: =IF($C41>0,VLOOKUP($C41,'BASE FEDERAÇÃO'!$B:$M,8,FALSE),"") -> B | O41: =IF($C41="","",VLOOKUP($C41,'BASE FEDERAÇÃO'!$B:$M,9,0)) -> SR | P41: =IF($C41>0,VLOOKUP($C41,INCRIÇÕES!$A:$K,11,0),"") -> X | R41: =IF(ISERROR(VLOOKUP(C41,INCRIÇÕES!A:A,1,0)),"NÃO TEM INSCRIÇÃO","OK") -> OK | S41: =IF(S40="",S39+1,IF(F41<>"",S40+1,"")) -> 31 | T41: =IF(COUNTIF(C:C,C41)>1,"REPETIDO","OK") -> OK | U41: =CONCATENATE(D41&A41) -> 0831 | AD41: =IF(ISERROR(VLOOKUP(AC41,C:C,1,0)),"SEM GRUPO","JÁ TEM GRUPO") -> SEM GRUPO | AE41: =VLOOKUP(AC41,INCRIÇÕES!A:F,6,0) -> #N/A
A42: =S42 -> 32 | C42: 853 | D42: 08 | E42: 01 | F42: 08 | G42: =IF(C42>0,VLOOKUP(C42,'BASE FEDERAÇÃO'!$B:$M,2,FALSE),"") -> YAMADA | H42: =IF(C42>0,VLOOKUP(C42,'BASE FEDERAÇÃO'!$B:$M,3,FALSE),"") -> NEWTON KAZUO | I42: =IF($C42>0,VLOOKUP($C42,'BASE FEDERAÇÃO'!$B:$M,4,FALSE),"") -> M | J42: =IF($C42>0,VLOOKUP($C42,'BASE FEDERAÇÃO'!$B:$M,5,FALSE),"") -> 11. NCC | K42: =IFERROR(VLOOKUP(J42,Base!$G:$H,2,0),"") -> NIPPON COUNTRY | L42: =IF($C42>0,VLOOKUP($C42,'BASE FEDERAÇÃO'!$B:$M,6,FALSE),"") -> 21351 | M42: =IF($C42>0,VLOOKUP($C42,'BASE FEDERAÇÃO'!$B:$M,7,FALSE),"") -> 12 | N42: =IF($C42>0,VLOOKUP($C42,'BASE FEDERAÇÃO'!$B:$M,8,FALSE),"") -> C | O42: =IF($C42="","",VLOOKUP($C42,'BASE FEDERAÇÃO'!$B:$M,9,0)) -> NSR | P42: =IF($C42>0,VLOOKUP($C42,INCRIÇÕES!$A:$K,11,0),"") | R42: =IF(ISERROR(VLOOKUP(C42,INCRIÇÕES!A:A,1,0)),"NÃO TEM INSCRIÇÃO","OK") -> OK | S42: =IF(S41="",S40+1,IF(F42<>"",S41+1,"")) -> 32 | T42: =IF(COUNTIF(C:C,C42)>1,"REPETIDO","OK") -> OK | U42: =CONCATENATE(D42&A42) -> 0832 | AD42: =IF(ISERROR(VLOOKUP(AC42,C:C,1,0)),"SEM GRUPO","JÁ TEM GRUPO") -> SEM GRUPO | AE42: =VLOOKUP(AC42,INCRIÇÕES!A:F,6,0) -> #N/A
A43: =S43 | G43: =IF(C43>0,VLOOKUP(C43,'BASE FEDERAÇÃO'!$B:$M,2,FALSE),"") | H43: =IF(C43>0,VLOOKUP(C43,'BASE FEDERAÇÃO'!$B:$M,3,FALSE),"") | I43: =IF($C43>0,VLOOKUP($C43,'BASE FEDERAÇÃO'!$B:$M,4,FALSE),"") | J43: =IF($C43>0,VLOOKUP($C43,'BASE FEDERAÇÃO'!$B:$M,5,FALSE),"") | K43: =IFERROR(VLOOKUP(J43,Base!$G:$H,2,0),"") | L43: =IF($C43>0,VLOOKUP($C43,'BASE FEDERAÇÃO'!$B:$M,6,FALSE),"") | M43: =IF($C43>0,VLOOKUP($C43,'BASE FEDERAÇÃO'!$B:$M,7,FALSE),"") | N43: =IF($C43>0,VLOOKUP($C43,'BASE FEDERAÇÃO'!$B:$M,8,FALSE),"") | O43: =IF($C43="","",VLOOKUP($C43,'BASE FEDERAÇÃO'!$B:$M,9,0)) | P43: =IF($C43>0,VLOOKUP($C43,INCRIÇÕES!$A:$K,11,0),"") | R43: =IF(ISERROR(VLOOKUP(C43,INCRIÇÕES!A:A,1,0)),"NÃO TEM INSCRIÇÃO","OK") -> NÃO TEM INSCRIÇÃO | S43: =IF(S42="",S41+1,IF(F43<>"",S42+1,"")) | T43: =IF(COUNTIF(C:C,C43)>1,"REPETIDO","OK") -> OK | U43: =CONCATENATE(D43&A43) | AD43: =IF(ISERROR(VLOOKUP(AC43,C:C,1,0)),"SEM GRUPO","JÁ TEM GRUPO") -> SEM GRUPO | AE43: =VLOOKUP(AC43,INCRIÇÕES!A:F,6,0) -> #N/A
A44: =S44 -> 33 | C44: 552 | D44: 09 | E44: 01 | F44: 09 | G44: =IF(C44>0,VLOOKUP(C44,'BASE FEDERAÇÃO'!$B:$M,2,FALSE),"") -> NISHIOKA | H44: =IF(C44>0,VLOOKUP(C44,'BASE FEDERAÇÃO'!$B:$M,3,FALSE),"") -> LAYUDO | I44: =IF($C44>0,VLOOKUP($C44,'BASE FEDERAÇÃO'!$B:$M,4,FALSE),"") -> M | J44: =IF($C44>0,VLOOKUP($C44,'BASE FEDERAÇÃO'!$B:$M,5,FALSE),"") -> 08. SMA | K44: =IFERROR(VLOOKUP(J44,Base!$G:$H,2,0),"") -> SÃO M. ARCANJO | L44: =IF($C44>0,VLOOKUP($C44,'BASE FEDERAÇÃO'!$B:$M,6,FALSE),"") -> 25717 | M44: =IF($C44>0,VLOOKUP($C44,'BASE FEDERAÇÃO'!$B:$M,7,FALSE),"") -> 3 | N44: =IF($C44>0,VLOOKUP($C44,'BASE FEDERAÇÃO'!$B:$M,8,FALSE),"") -> EX | O44: =IF($C44="","",VLOOKUP($C44,'BASE FEDERAÇÃO'!$B:$M,9,0)) -> NSR | P44: =IF($C44>0,VLOOKUP($C44,INCRIÇÕES!$A:$K,11,0),"") -> X | R44: =IF(ISERROR(VLOOKUP(C44,INCRIÇÕES!A:A,1,0)),"NÃO TEM INSCRIÇÃO","OK") -> OK | S44: =IF(S43="",S42+1,IF(F44<>"",S43+1,"")) -> 33 | T44: =IF(COUNTIF(C:C,C44)>1,"REPETIDO","OK") -> OK | U44: =CONCATENATE(D44&A44) -> 0933 | AD44: =IF(ISERROR(VLOOKUP(AC44,C:C,1,0)),"SEM GRUPO","JÁ TEM GRUPO") -> SEM GRUPO | AE44: =VLOOKUP(AC44,INCRIÇÕES!A:F,6,0) -> #N/A
A45: =S45 -> 34 | C45: 991 | D45: =D44 -> 09 | E45: =E44 -> 01 | F45: =F44 -> 09 | G45: =IF(C45>0,VLOOKUP(C45,'BASE FEDERAÇÃO'!$B:$M,2,FALSE),"") -> KANAI | H45: =IF(C45>0,VLOOKUP(C45,'BASE FEDERAÇÃO'!$B:$M,3,FALSE),"") -> MICHIO | I45: =IF($C45>0,VLOOKUP($C45,'BASE FEDERAÇÃO'!$B:$M,4,FALSE),"") -> M | J45: =IF($C45>0,VLOOKUP($C45,'BASE FEDERAÇÃO'!$B:$M,5,FALSE),"") -> 01. PIE | K45: =IFERROR(VLOOKUP(J45,Base!$G:$H,2,0),"") -> PIEDADE | L45: =IF($C45>0,VLOOKUP($C45,'BASE FEDERAÇÃO'!$B:$M,6,FALSE),"") -> 19641 | M45: =IF($C45>0,VLOOKUP($C45,'BASE FEDERAÇÃO'!$B:$M,7,FALSE),"") -> 1 | N45: =IF($C45>0,VLOOKUP($C45,'BASE FEDERAÇÃO'!$B:$M,8,FALSE),"") -> EX | O45: =IF($C45="","",VLOOKUP($C45,'BASE FEDERAÇÃO'!$B:$M,9,0)) -> NSR | P45: =IF($C45>0,VLOOKUP($C45,INCRIÇÕES!$A:$K,11,0),"") -> X | R45: =IF(ISERROR(VLOOKUP(C45,INCRIÇÕES!A:A,1,0)),"NÃO TEM INSCRIÇÃO","OK") -> OK | S45: =IF(S44="",S43+1,IF(F45<>"",S44+1,"")) -> 34 | T45: =IF(COUNTIF(C:C,C45)>1,"REPETIDO","OK") -> OK | U45: =CONCATENATE(D45&A45) -> 0934 | AD45: =IF(ISERROR(VLOOKUP(AC45,C:C,1,0)),"SEM GRUPO","JÁ TEM GRUPO") -> SEM GRUPO | AE45: =VLOOKUP(AC45,INCRIÇÕES!A:F,6,0) -> #N/A
A46: =S46 -> 35 | C46: 620 | D46: =D45 -> 09 | E46: =E45 -> 01 | F46: =F45 -> 09 | G46: =IF(C46>0,VLOOKUP(C46,'BASE FEDERAÇÃO'!$B:$M,2,FALSE),"") -> OGATA | H46: =IF(C46>0,VLOOKUP(C46,'BASE FEDERAÇÃO'!$B:$M,3,FALSE),"") -> NELSON | I46: =IF($C46>0,VLOOKUP($C46,'BASE FEDERAÇÃO'!$B:$M,4,FALSE),"") -> M | J46: =IF($C46>0,VLOOKUP($C46,'BASE FEDERAÇÃO'!$B:$M,5,FALSE),"") -> 07. GSP | K46: =IFERROR(VLOOKUP(J46,Base!$G:$H,2,0),"") -> GRANDE SÃO PAULO | L46: =IF($C46>0,VLOOKUP($C46,'BASE FEDERAÇÃO'!$B:$M,6,FALSE),"") -> 19753 | M46: =IF($C46>0,VLOOKUP($C46,'BASE FEDERAÇÃO'!$B:$M,7,FALSE),"") -> 3 | N46: =IF($C46>0,VLOOKUP($C46,'BASE FEDERAÇÃO'!$B:$M,8,FALSE),"") -> EX | O46: =IF($C46="","",VLOOKUP($C46,'BASE FEDERAÇÃO'!$B:$M,9,0)) -> NSR | P46: =IF($C46>0,VLOOKUP($C46,INCRIÇÕES!$A:$K,11,0),"") -> X | R46: =IF(ISERROR(VLOOKUP(C46,INCRIÇÕES!A:A,1,0)),"NÃO TEM INSCRIÇÃO","OK") -> OK | S46: =IF(S45="",S44+1,IF(F46<>"",S45+1,"")) -> 35 | T46: =IF(COUNTIF(C:C,C46)>1,"REPETIDO","OK") -> OK | U46: =CONCATENATE(D46&A46) -> 0935 | AD46: =IF(ISERROR(VLOOKUP(AC46,C:C,1,0)),"SEM GRUPO","JÁ TEM GRUPO") -> SEM GRUPO | AE46: =VLOOKUP(AC46,INCRIÇÕES!A:F,6,0) -> #N/A
A47: =S47 -> 36 | C47: 320 | D47: =D46 -> 09 | E47: =E46 -> 01 | F47: =F46 -> 09 | G47: =IF(C47>0,VLOOKUP(C47,'BASE FEDERAÇÃO'!$B:$M,2,FALSE),"") -> WAKABAYASHI | H47: =IF(C47>0,VLOOKUP(C47,'BASE FEDERAÇÃO'!$B:$M,3,FALSE),"") -> KOITI | I47: =IF($C47>0,VLOOKUP($C47,'BASE FEDERAÇÃO'!$B:$M,4,FALSE),"") -> M | J47: =IF($C47>0,VLOOKUP($C47,'BASE FEDERAÇÃO'!$B:$M,5,FALSE),"") -> 11. NCC | K47: =IFERROR(VLOOKUP(J47,Base!$G:$H,2,0),"") -> NIPPON COUNTRY | L47: =IF($C47>0,VLOOKUP($C47,'BASE FEDERAÇÃO'!$B:$M,6,FALSE),"") -> 15516 | M47: =IF($C47>0,VLOOKUP($C47,'BASE FEDERAÇÃO'!$B:$M,7,FALSE),"") -> 5 | N47: =IF($C47>0,VLOOKUP($C47,'BASE FEDERAÇÃO'!$B:$M,8,FALSE),"") -> A | O47: =IF($C47="","",VLOOKUP($C47,'BASE FEDERAÇÃO'!$B:$M,9,0)) -> SR | P47: =IF($C47>0,VLOOKUP($C47,INCRIÇÕES!$A:$K,11,0),"") -> X | R47: =IF(ISERROR(VLOOKUP(C47,INCRIÇÕES!A:A,1,0)),"NÃO TEM INSCRIÇÃO","OK") -> OK | S47: =IF(S46="",S45+1,IF(F47<>"",S46+1,"")) -> 36 | T47: =IF(COUNTIF(C:C,C47)>1,"REPETIDO","OK") -> OK | U47: =CONCATENATE(D47&A47) -> 0936 | AD47: =IF(ISERROR(VLOOKUP(AC47,C:C,1,0)),"SEM GRUPO","JÁ TEM GRUPO") -> SEM GRUPO | AE47: =VLOOKUP(AC47,INCRIÇÕES!A:F,6,0) -> #N/A
A48: =S48 | G48: =IF(C48>0,VLOOKUP(C48,'BASE FEDERAÇÃO'!$B:$M,2,FALSE),"") | H48: =IF(C48>0,VLOOKUP(C48,'BASE FEDERAÇÃO'!$B:$M,3,FALSE),"") | I48: =IF($C48>0,VLOOKUP($C48,'BASE FEDERAÇÃO'!$B:$M,4,FALSE),"") | J48: =IF($C48>0,VLOOKUP($C48,'BASE FEDERAÇÃO'!$B:$M,5,FALSE),"") | K48: =IFERROR(VLOOKUP(J48,Base!$G:$H,2,0),"") | L48: =IF($C48>0,VLOOKUP($C48,'BASE FEDERAÇÃO'!$B:$M,6,FALSE),"") | M48: =IF($C48>0,VLOOKUP($C48,'BASE FEDERAÇÃO'!$B:$M,7,FALSE),"") | N48: =IF($C48>0,VLOOKUP($C48,'BASE FEDERAÇÃO'!$B:$M,8,FALSE),"") | O48: =IF($C48="","",VLOOKUP($C48,'BASE FEDERAÇÃO'!$B:$M,9,0)) | P48: =IF($C48>0,VLOOKUP($C48,INCRIÇÕES!$A:$K,11,0),"") | R48: =IF(ISERROR(VLOOKUP(C48,INCRIÇÕES!A:A,1,0)),"NÃO TEM INSCRIÇÃO","OK") -> NÃO TEM INSCRIÇÃO | S48: =IF(S47="",S46+1,IF(F48<>"",S47+1,"")) | T48: =IF(COUNTIF(C:C,C48)>1,"REPETIDO","OK") -> OK | U48: =CONCATENATE(D48&A48) | AD48: =IF(ISERROR(VLOOKUP(AC48,C:C,1,0)),"SEM GRUPO","JÁ TEM GRUPO") -> SEM GRUPO | AE48: =VLOOKUP(AC48,INCRIÇÕES!A:F,6,0) -> #N/A
A49: =S49 -> 37 | C49: 636 | D49: 10 | E49: 01 | F49: 10 | G49: =IF(C49>0,VLOOKUP(C49,'BASE FEDERAÇÃO'!$B:$M,2,FALSE),"") -> CASSIMIRO | H49: =IF(C49>0,VLOOKUP(C49,'BASE FEDERAÇÃO'!$B:$M,3,FALSE),"") -> LUIZ CARLOS | I49: =IF($C49>0,VLOOKUP($C49,'BASE FEDERAÇÃO'!$B:$M,4,FALSE),"") -> M | J49: =IF($C49>0,VLOOKUP($C49,'BASE FEDERAÇÃO'!$B:$M,5,FALSE),"") -> 16. SUM | K49: =IFERROR(VLOOKUP(J49,Base!$G:$H,2,0),"") -> SUMARÉ | L49: =IF($C49>0,VLOOKUP($C49,'BASE FEDERAÇÃO'!$B:$M,6,FALSE),"") -> 21936 | M49: =IF($C49>0,VLOOKUP($C49,'BASE FEDERAÇÃO'!$B:$M,7,FALSE),"") -> 7 | N49: =IF($C49>0,VLOOKUP($C49,'BASE FEDERAÇÃO'!$B:$M,8,FALSE),"") -> B | O49: =IF($C49="","",VLOOKUP($C49,'BASE FEDERAÇÃO'!$B:$M,9,0)) -> NSR | P49: =IF($C49>0,VLOOKUP($C49,INCRIÇÕES!$A:$K,11,0),"") -> X | R49: =IF(ISERROR(VLOOKUP(C49,INCRIÇÕES!A:A,1,0)),"NÃO TEM INSCRIÇÃO","OK") -> OK | S49: =IF(S48="",S47+1,IF(F49<>"",S48+1,"")) -> 37 | T49: =IF(COUNTIF(C:C,C49)>1,"REPETIDO","OK") -> OK | U49: =CONCATENATE(D49&A49) -> 1037 | AD49: =IF(ISERROR(VLOOKUP(AC49,C:C,1,0)),"SEM GRUPO","JÁ TEM GRUPO") -> SEM GRUPO | AE49: =VLOOKUP(AC49,INCRIÇÕES!A:F,6,0) -> #N/A
A50: =S50 -> 38 | C50: 017 | D50: =D49 -> 10 | E50: =E49 -> 01 | F50: =F49 -> 10 | G50: =IF(C50>0,VLOOKUP(C50,'BASE FEDERAÇÃO'!$B:$M,2,FALSE),"") -> SHIMOYAMA | H50: =IF(C50>0,VLOOKUP(C50,'BASE FEDERAÇÃO'!$B:$M,3,FALSE),"") -> KAZUKO | I50: =IF($C50>0,VLOOKUP($C50,'BASE FEDERAÇÃO'!$B:$M,4,FALSE),"") -> F | J50: =IF($C50>0,VLOOKUP($C50,'BASE FEDERAÇÃO'!$B:$M,5,FALSE),"") -> 03. IBI | K50: =IFERROR(VLOOKUP(J50,Base!$G:$H,2,0),"") -> IBIÚNA | L50: =IF($C50>0,VLOOKUP($C50,'BASE FEDERAÇÃO'!$B:$M,6,FALSE),"") -> 14507 | M50: =IF($C50>0,VLOOKUP($C50,'BASE FEDERAÇÃO'!$B:$M,7,FALSE),"") -> 8 | N50: =IF($C50>0,VLOOKUP($C50,'BASE FEDERAÇÃO'!$B:$M,8,FALSE),"") -> B | O50: =IF($C50="","",VLOOKUP($C50,'BASE FEDERAÇÃO'!$B:$M,9,0)) -> MR | P50: =IF($C50>0,VLOOKUP($C50,INCRIÇÕES!$A:$K,11,0),"") -> X | R50: =IF(ISERROR(VLOOKUP(C50,INCRIÇÕES!A:A,1,0)),"NÃO TEM INSCRIÇÃO","OK") -> OK | S50: =IF(S49="",S48+1,IF(F50<>"",S49+1,"")) -> 38 | T50: =IF(COUNTIF(C:C,C50)>1,"REPETIDO","OK") -> OK | U50: =CONCATENATE(D50&A50) -> 1038 | AD50: =IF(ISERROR(VLOOKUP(AC50,C:C,1,0)),"SEM GRUPO","JÁ TEM GRUPO") -> SEM GRUPO | AE50: =VLOOKUP(AC50,INCRIÇÕES!A:F,6,0) -> #N/A
A51: =S51 -> 39 | C51: 696 | D51: =D50 -> 10 | E51: =E50 -> 01 | F51: =F50 -> 10 | G51: =IF(C51>0,VLOOKUP(C51,'BASE FEDERAÇÃO'!$B:$M,2,FALSE),"") -> M. SILVA YADOYA | H51: =IF(C51>0,VLOOKUP(C51,'BASE FEDERAÇÃO'!$B:$M,3,FALSE),"") -> ROSILEIDE | I51: =IF($C51>0,VLOOKUP($C51,'BASE FEDERAÇÃO'!$B:$M,4,FALSE),"") -> F | J51: =IF($C51>0,VLOOKUP($C51,'BASE FEDERAÇÃO'!$B:$M,5,FALSE),"") -> 07. GSP | K51: =IFERROR(VLOOKUP(J51,Base!$G:$H,2,0),"") -> GRANDE SÃO PAULO | L51: =IF($C51>0,VLOOKUP($C51,'BASE FEDERAÇÃO'!$B:$M,6,FALSE),"") -> 26071 | M51: =IF($C51>0,VLOOKUP($C51,'BASE FEDERAÇÃO'!$B:$M,7,FALSE),"") -> 12 | N51: =IF($C51>0,VLOOKUP($C51,'BASE FEDERAÇÃO'!$B:$M,8,FALSE),"") -> C | O51: =IF($C51="","",VLOOKUP($C51,'BASE FEDERAÇÃO'!$B:$M,9,0)) -> NSR | P51: =IF($C51>0,VLOOKUP($C51,INCRIÇÕES!$A:$K,11,0),"") | R51: =IF(ISERROR(VLOOKUP(C51,INCRIÇÕES!A:A,1,0)),"NÃO TEM INSCRIÇÃO","OK") -> OK | S51: =IF(S50="",S49+1,IF(F51<>"",S50+1,"")) -> 39 | T51: =IF(COUNTIF(C:C,C51)>1,"REPETIDO","OK") -> OK | U51: =CONCATENATE(D51&A51) -> 1039 | AD51: =IF(ISERROR(VLOOKUP(AC51,C:C,1,0)),"SEM GRUPO","JÁ TEM GRUPO") -> SEM GRUPO | AE51: =VLOOKUP(AC51,INCRIÇÕES!A:F,6,0) -> #N/A
A52: =S52 -> 40 | C52: 898 | D52: =D51 -> 10 | E52: =E51 -> 01 | F52: =F51 -> 10 | G52: =IF(C52>0,VLOOKUP(C52,'BASE FEDERAÇÃO'!$B:$M,2,FALSE),"") -> CUKAUSKAS | H52: =IF(C52>0,VLOOKUP(C52,'BASE FEDERAÇÃO'!$B:$M,3,FALSE),"") -> LUCIA | I52: =IF($C52>0,VLOOKUP($C52,'BASE FEDERAÇÃO'!$B:$M,4,FALSE),"") -> F | J52: =IF($C52>0,VLOOKUP($C52,'BASE FEDERAÇÃO'!$B:$M,5,FALSE),"") -> 18. SOR | K52: =IFERROR(VLOOKUP(J52,Base!$G:$H,2,0),"") -> SOROCABA | L52: =IF($C52>0,VLOOKUP($C52,'BASE FEDERAÇÃO'!$B:$M,6,FALSE),"") -> 20800 | M52: =IF($C52>0,VLOOKUP($C52,'BASE FEDERAÇÃO'!$B:$M,7,FALSE),"") -> 12 | N52: =IF($C52>0,VLOOKUP($C52,'BASE FEDERAÇÃO'!$B:$M,8,FALSE),"") -> C | O52: =IF($C52="","",VLOOKUP($C52,'BASE FEDERAÇÃO'!$B:$M,9,0)) -> NSR | P52: =IF($C52>0,VLOOKUP($C52,INCRIÇÕES!$A:$K,11,0),"") | R52: =IF(ISERROR(VLOOKUP(C52,INCRIÇÕES!A:A,1,0)),"NÃO TEM INSCRIÇÃO","OK") -> OK | S52: =IF(S51="",S50+1,IF(F52<>"",S51+1,"")) -> 40 | T52: =IF(COUNTIF(C:C,C52)>1,"REPETIDO","OK") -> OK | U52: =CONCATENATE(D52&A52) -> 1040 | AD52: =IF(ISERROR(VLOOKUP(AC52,C:C,1,0)),"SEM GRUPO","JÁ TEM GRUPO") -> SEM GRUPO | AE52: =VLOOKUP(AC52,INCRIÇÕES!A:F,6,0) -> #N/A
A53: =S53 | G53: =IF(C53>0,VLOOKUP(C53,'BASE FEDERAÇÃO'!$B:$M,2,FALSE),"") | H53: =IF(C53>0,VLOOKUP(C53,'BASE FEDERAÇÃO'!$B:$M,3,FALSE),"") | I53: =IF($C53>0,VLOOKUP($C53,'BASE FEDERAÇÃO'!$B:$M,4,FALSE),"") | J53: =IF($C53>0,VLOOKUP($C53,'BASE FEDERAÇÃO'!$B:$M,5,FALSE),"") | K53: =IFERROR(VLOOKUP(J53,Base!$G:$H,2,0),"") | L53: =IF($C53>0,VLOOKUP($C53,'BASE FEDERAÇÃO'!$B:$M,6,FALSE),"") | M53: =IF($C53>0,VLOOKUP($C53,'BASE FEDERAÇÃO'!$B:$M,7,FALSE),"") | N53: =IF($C53>0,VLOOKUP($C53,'BASE FEDERAÇÃO'!$B:$M,8,FALSE),"") | O53: =IF($C53="","",VLOOKUP($C53,'BASE FEDERAÇÃO'!$B:$M,9,0)) | P53: =IF($C53>0,VLOOKUP($C53,INCRIÇÕES!$A:$K,11,0),"") | R53: =IF(ISERROR(VLOOKUP(C53,INCRIÇÕES!A:A,1,0)),"NÃO TEM INSCRIÇÃO","OK") -> NÃO TEM INSCRIÇÃO | S53: =IF(S52="",S51+1,IF(F53<>"",S52+1,"")) | T53: =IF(COUNTIF(C:C,C53)>1,"REPETIDO","OK") -> OK | U53: =CONCATENATE(D53&A53) | AD53: =IF(ISERROR(VLOOKUP(AC53,C:C,1,0)),"SEM GRUPO","JÁ TEM GRUPO") -> SEM GRUPO | AE53: =VLOOKUP(AC53,INCRIÇÕES!A:F,6,0) -> #N/A
A54: =S54 -> 41 | C54: 177 | D54: 11 | E54: 01 | F54: 11 | G54: =IF(C54>0,VLOOKUP(C54,'BASE FEDERAÇÃO'!$B:$M,2,FALSE),"") -> KAWAKAMI | H54: =IF(C54>0,VLOOKUP(C54,'BASE FEDERAÇÃO'!$B:$M,3,FALSE),"") -> LIKA | I54: =IF($C54>0,VLOOKUP($C54,'BASE FEDERAÇÃO'!$B:$M,4,FALSE),"") -> F | J54: =IF($C54>0,VLOOKUP($C54,'BASE FEDERAÇÃO'!$B:$M,5,FALSE),"") -> 08. SMA | K54: =IFERROR(VLOOKUP(J54,Base!$G:$H,2,0),"") -> SÃO M. ARCANJO | L54: =IF($C54>0,VLOOKUP($C54,'BASE FEDERAÇÃO'!$B:$M,6,FALSE),"") -> 26516 | M54: =IF($C54>0,VLOOKUP($C54,'BASE FEDERAÇÃO'!$B:$M,7,FALSE),"") -> 3 | N54: =IF($C54>0,VLOOKUP($C54,'BASE FEDERAÇÃO'!$B:$M,8,FALSE),"") -> EX | O54: =IF($C54="","",VLOOKUP($C54,'BASE FEDERAÇÃO'!$B:$M,9,0)) -> NSR | P54: =IF($C54>0,VLOOKUP($C54,INCRIÇÕES!$A:$K,11,0),"") | R54: =IF(ISERROR(VLOOKUP(C54,INCRIÇÕES!A:A,1,0)),"NÃO TEM INSCRIÇÃO","OK") -> OK | S54: =IF(S53="",S52+1,IF(F54<>"",S53+1,"")) -> 41 | T54: =IF(COUNTIF(C:C,C54)>1,"REPETIDO","OK") -> OK | U54: =CONCATENATE(D54&A54) -> 1141 | AD54: =IF(ISERROR(VLOOKUP(AC54,C:C,1,0)),"SEM GRUPO","JÁ TEM GRUPO") -> SEM GRUPO | AE54: =VLOOKUP(AC54,INCRIÇÕES!A:F,6,0) -> #N/A
A55: =S55 -> 42 | C55: 129 | D55: =D54 -> 11 | E55: =E54 -> 01 | F55: =F54 -> 11 | G55: =IF(C55>0,VLOOKUP(C55,'BASE FEDERAÇÃO'!$B:$M,2,FALSE),"") -> YAMAKAWA | H55: =IF(C55>0,VLOOKUP(C55,'BASE FEDERAÇÃO'!$B:$M,3,FALSE),"") -> TAKAO | I55: =IF($C55>0,VLOOKUP($C55,'BASE FEDERAÇÃO'!$B:$M,4,FALSE),"") -> M | J55: =IF($C55>0,VLOOKUP($C55,'BASE FEDERAÇÃO'!$B:$M,5,FALSE),"") -> 11. NCC | K55: =IFERROR(VLOOKUP(J55,Base!$G:$H,2,0),"") -> NIPPON COUNTRY | L55: =IF($C55>0,VLOOKUP($C55,'BASE FEDERAÇÃO'!$B:$M,6,FALSE),"") -> 16818 | M55: =IF($C55>0,VLOOKUP($C55,'BASE FEDERAÇÃO'!$B:$M,7,FALSE),"") -> 6 | N55: =IF($C55>0,VLOOKUP($C55,'BASE FEDERAÇÃO'!$B:$M,8,FALSE),"") -> A | O55: =IF($C55="","",VLOOKUP($C55,'BASE FEDERAÇÃO'!$B:$M,9,0)) -> SR | P55: =IF($C55>0,VLOOKUP($C55,INCRIÇÕES!$A:$K,11,0),"") | R55: =IF(ISERROR(VLOOKUP(C55,INCRIÇÕES!A:A,1,0)),"NÃO TEM INSCRIÇÃO","OK") -> OK | S55: =IF(S54="",S53+1,IF(F55<>"",S54+1,"")) -> 42 | T55: =IF(COUNTIF(C:C,C55)>1,"REPETIDO","OK") -> OK | U55: =CONCATENATE(D55&A55) -> 1142 | AD55: =IF(ISERROR(VLOOKUP(AC55,C:C,1,0)),"SEM GRUPO","JÁ TEM GRUPO") -> SEM GRUPO | AE55: =VLOOKUP(AC55,INCRIÇÕES!A:F,6,0) -> #N/A
A56: =S56 -> 43 | C56: 073 | D56: =D55 -> 11 | E56: =E55 -> 01 | F56: =F55 -> 11 | G56: =IF(C56>0,VLOOKUP(C56,'BASE FEDERAÇÃO'!$B:$M,2,FALSE),"") -> TAKANO | H56: =IF(C56>0,VLOOKUP(C56,'BASE FEDERAÇÃO'!$B:$M,3,FALSE),"") -> YASUO | I56: =IF($C56>0,VLOOKUP($C56,'BASE FEDERAÇÃO'!$B:$M,4,FALSE),"") -> M | J56: =IF($C56>0,VLOOKUP($C56,'BASE FEDERAÇÃO'!$B:$M,5,FALSE),"") -> 03. IBI | K56: =IFERROR(VLOOKUP(J56,Base!$G:$H,2,0),"") -> IBIÚNA | L56: =IF($C56>0,VLOOKUP($C56,'BASE FEDERAÇÃO'!$B:$M,6,FALSE),"") -> 16369 | M56: =IF($C56>0,VLOOKUP($C56,'BASE FEDERAÇÃO'!$B:$M,7,FALSE),"") -> 6 | N56: =IF($C56>0,VLOOKUP($C56,'BASE FEDERAÇÃO'!$B:$M,8,FALSE),"") -> A | O56: =IF($C56="","",VLOOKUP($C56,'BASE FEDERAÇÃO'!$B:$M,9,0)) -> SR | P56: =IF($C56>0,VLOOKUP($C56,INCRIÇÕES!$A:$K,11,0),"") -> X | R56: =IF(ISERROR(VLOOKUP(C56,INCRIÇÕES!A:A,1,0)),"NÃO TEM INSCRIÇÃO","OK") -> OK | S56: =IF(S55="",S54+1,IF(F56<>"",S55+1,"")) -> 43 | T56: =IF(COUNTIF(C:C,C56)>1,"REPETIDO","OK") -> OK | U56: =CONCATENATE(D56&A56) -> 1143 | AD56: =IF(ISERROR(VLOOKUP(AC56,C:C,1,0)),"SEM GRUPO","JÁ TEM GRUPO") -> SEM GRUPO | AE56: =VLOOKUP(AC56,INCRIÇÕES!A:F,6,0) -> #N/A
A57: =S57 -> 44 | C57: 250 | D57: =D56 -> 11 | E57: =E56 -> 01 | F57: =F56 -> 11 | G57: =IF(C57>0,VLOOKUP(C57,'BASE FEDERAÇÃO'!$B:$M,2,FALSE),"") -> OSADA | H57: =IF(C57>0,VLOOKUP(C57,'BASE FEDERAÇÃO'!$B:$M,3,FALSE),"") -> ASAO | I57: =IF($C57>0,VLOOKUP($C57,'BASE FEDERAÇÃO'!$B:$M,4,FALSE),"") -> M | J57: =IF($C57>0,VLOOKUP($C57,'BASE FEDERAÇÃO'!$B:$M,5,FALSE),"") -> 18. SOR | K57: =IFERROR(VLOOKUP(J57,Base!$G:$H,2,0),"") -> SOROCABA | L57: =IF($C57>0,VLOOKUP($C57,'BASE FEDERAÇÃO'!$B:$M,6,FALSE),"") -> 13681 | M57: =IF($C57>0,VLOOKUP($C57,'BASE FEDERAÇÃO'!$B:$M,7,FALSE),"") -> 6 | N57: =IF($C57>0,VLOOKUP($C57,'BASE FEDERAÇÃO'!$B:$M,8,FALSE),"") -> A | O57: =IF($C57="","",VLOOKUP($C57,'BASE FEDERAÇÃO'!$B:$M,9,0)) -> MR | P57: =IF($C57>0,VLOOKUP($C57,INCRIÇÕES!$A:$K,11,0),"") -> X | R57: =IF(ISERROR(VLOOKUP(C57,INCRIÇÕES!A:A,1,0)),"NÃO TEM INSCRIÇÃO","OK") -> OK | S57: =IF(S56="",S55+1,IF(F57<>"",S56+1,"")) -> 44 | T57: =IF(COUNTIF(C:C,C57)>1,"REPETIDO","OK") -> OK | U57: =CONCATENATE(D57&A57) -> 1144 | AD57: =IF(ISERROR(VLOOKUP(AC57,C:C,1,0)),"SEM GRUPO","JÁ TEM GRUPO") -> SEM GRUPO | AE57: =VLOOKUP(AC57,INCRIÇÕES!A:F,6,0) -> #N/A
A58: =S58 | G58: =IF(C58>0,VLOOKUP(C58,'BASE FEDERAÇÃO'!$B:$M,2,FALSE),"") | H58: =IF(C58>0,VLOOKUP(C58,'BASE FEDERAÇÃO'!$B:$M,3,FALSE),"") | I58: =IF($C58>0,VLOOKUP($C58,'BASE FEDERAÇÃO'!$B:$M,4,FALSE),"") | J58: =IF($C58>0,VLOOKUP($C58,'BASE FEDERAÇÃO'!$B:$M,5,FALSE),"") | K58: =IFERROR(VLOOKUP(J58,Base!$G:$H,2,0),"") | L58: =IF($C58>0,VLOOKUP($C58,'BASE FEDERAÇÃO'!$B:$M,6,FALSE),"") | M58: =IF($C58>0,VLOOKUP($C58,'BASE FEDERAÇÃO'!$B:$M,7,FALSE),"") | N58: =IF($C58>0,VLOOKUP($C58,'BASE FEDERAÇÃO'!$B:$M,8,FALSE),"") | O58: =IF($C58="","",VLOOKUP($C58,'BASE FEDERAÇÃO'!$B:$M,9,0)) | P58: =IF($C58>0,VLOOKUP($C58,INCRIÇÕES!$A:$K,11,0),"") | R58: =IF(ISERROR(VLOOKUP(C58,INCRIÇÕES!A:A,1,0)),"NÃO TEM INSCRIÇÃO","OK") -> NÃO TEM INSCRIÇÃO | S58: =IF(S57="",S56+1,IF(F58<>"",S57+1,"")) | T58: =IF(COUNTIF(C:C,C58)>1,"REPETIDO","OK") -> OK | U58: =CONCATENATE(D58&A58) | AD58: =IF(ISERROR(VLOOKUP(AC58,C:C,1,0)),"SEM GRUPO","JÁ TEM GRUPO") -> SEM GRUPO | AE58: =VLOOKUP(AC58,INCRIÇÕES!A:F,6,0) -> #N/A
A59: =S59 -> 45 | C59: 847 | D59: 12 | E59: 01 | F59: 12 | G59: =IF(C59>0,VLOOKUP(C59,'BASE FEDERAÇÃO'!$B:$M,2,FALSE),"") -> KANOMATA | H59: =IF(C59>0,VLOOKUP(C59,'BASE FEDERAÇÃO'!$B:$M,3,FALSE),"") -> KOKI | I59: =IF($C59>0,VLOOKUP($C59,'BASE FEDERAÇÃO'!$B:$M,4,FALSE),"") -> M | J59: =IF($C59>0,VLOOKUP($C59,'BASE FEDERAÇÃO'!$B:$M,5,FALSE),"") -> 15. BIR | K59: =IFERROR(VLOOKUP(J59,Base!$G:$H,2,0),"") -> BIRITIBA MIRIM | L59: =IF($C59>0,VLOOKUP($C59,'BASE FEDERAÇÃO'!$B:$M,6,FALSE),"") -> 24950 | M59: =IF($C59>0,VLOOKUP($C59,'BASE FEDERAÇÃO'!$B:$M,7,FALSE),"") -> 0 | N59: =IF($C59>0,VLOOKUP($C59,'BASE FEDERAÇÃO'!$B:$M,8,FALSE),"") -> EX | O59: =IF($C59="","",VLOOKUP($C59,'BASE FEDERAÇÃO'!$B:$M,9,0)) -> NSR | P59: =IF($C59>0,VLOOKUP($C59,INCRIÇÕES!$A:$K,11,0),"") | R59: =IF(ISERROR(VLOOKUP(C59,INCRIÇÕES!A:A,1,0)),"NÃO TEM INSCRIÇÃO","OK") -> OK | S59: =IF(S58="",S57+1,IF(F59<>"",S58+1,"")) -> 45 | T59: =IF(COUNTIF(C:C,C59)>1,"REPETIDO","OK") -> OK | U59: =CONCATENATE(D59&A59) -> 1245 | AD59: =IF(ISERROR(VLOOKUP(AC59,C:C,1,0)),"SEM GRUPO","JÁ TEM GRUPO") -> SEM GRUPO | AE59: =VLOOKUP(AC59,INCRIÇÕES!A:F,6,0) -> #N/A
A60: =S60 -> 46 | C60: 478 | D60: =D59 -> 12 | E60: =E59 -> 01 | F60: =F59 -> 12 | G60: =IF(C60>0,VLOOKUP(C60,'BASE FEDERAÇÃO'!$B:$M,2,FALSE),"") -> HIGUCHI | H60: =IF(C60>0,VLOOKUP(C60,'BASE FEDERAÇÃO'!$B:$M,3,FALSE),"") -> ARTUR KEN | I60: =IF($C60>0,VLOOKUP($C60,'BASE FEDERAÇÃO'!$B:$M,4,FALSE),"") -> M | J60: =IF($C60>0,VLOOKUP($C60,'BASE FEDERAÇÃO'!$B:$M,5,FALSE),"") -> 11. NCC | K60: =IFERROR(VLOOKUP(J60,Base!$G:$H,2,0),"") -> NIPPON COUNTRY | L60: =IF($C60>0,VLOOKUP($C60,'BASE FEDERAÇÃO'!$B:$M,6,FALSE),"") -> 19959 | M60: =IF($C60>0,VLOOKUP($C60,'BASE FEDERAÇÃO'!$B:$M,7,FALSE),"") -> 3 | N60: =IF($C60>0,VLOOKUP($C60,'BASE FEDERAÇÃO'!$B:$M,8,FALSE),"") -> EX | O60: =IF($C60="","",VLOOKUP($C60,'BASE FEDERAÇÃO'!$B:$M,9,0)) -> NSR | P60: =IF($C60>0,VLOOKUP($C60,INCRIÇÕES!$A:$K,11,0),"") -> X | R60: =IF(ISERROR(VLOOKUP(C60,INCRIÇÕES!A:A,1,0)),"NÃO TEM INSCRIÇÃO","OK") -> OK | S60: =IF(S59="",S58+1,IF(F60<>"",S59+1,"")) -> 46 | T60: =IF(COUNTIF(C:C,C60)>1,"REPETIDO","OK") -> OK | U60: =CONCATENATE(D60&A60) -> 1246 | AD60: =IF(ISERROR(VLOOKUP(AC60,C:C,1,0)),"SEM GRUPO","JÁ TEM GRUPO") -> SEM GRUPO | AE60: =VLOOKUP(AC60,INCRIÇÕES!A:F,6,0) -> #N/A
A61: =S61 -> 47 | C61: 671 | D61: =D60 -> 12 | E61: =E60 -> 01 | F61: =F60 -> 12 | G61: =IF(C61>0,VLOOKUP(C61,'BASE FEDERAÇÃO'!$B:$M,2,FALSE),"") -> OKAWARA | H61: =IF(C61>0,VLOOKUP(C61,'BASE FEDERAÇÃO'!$B:$M,3,FALSE),"") -> TOSHIO | I61: =IF($C61>0,VLOOKUP($C61,'BASE FEDERAÇÃO'!$B:$M,4,FALSE),"") -> M | J61: =IF($C61>0,VLOOKUP($C61,'BASE FEDERAÇÃO'!$B:$M,5,FALSE),"") -> 08. SMA | K61: =IFERROR(VLOOKUP(J61,Base!$G:$H,2,0),"") -> SÃO M. ARCANJO | L61: =IF($C61>0,VLOOKUP($C61,'BASE FEDERAÇÃO'!$B:$M,6,FALSE),"") -> 24451 | M61: =IF($C61>0,VLOOKUP($C61,'BASE FEDERAÇÃO'!$B:$M,7,FALSE),"") -> 2 | N61: =IF($C61>0,VLOOKUP($C61,'BASE FEDERAÇÃO'!$B:$M,8,FALSE),"") -> EX | O61: =IF($C61="","",VLOOKUP($C61,'BASE FEDERAÇÃO'!$B:$M,9,0)) -> NSR | P61: =IF($C61>0,VLOOKUP($C61,INCRIÇÕES!$A:$K,11,0),"") | R61: =IF(ISERROR(VLOOKUP(C61,INCRIÇÕES!A:A,1,0)),"NÃO TEM INSCRIÇÃO","OK") -> OK | S61: =IF(S60="",S59+1,IF(F61<>"",S60+1,"")) -> 47 | T61: =IF(COUNTIF(C:C,C61)>1,"REPETIDO","OK") -> OK | U61: =CONCATENATE(D61&A61) -> 1247 | AD61: =IF(ISERROR(VLOOKUP(AC61,C:C,1,0)),"SEM GRUPO","JÁ TEM GRUPO") -> SEM GRUPO | AE61: =VLOOKUP(AC61,INCRIÇÕES!A:F,6,0) -> #N/A
A62: =S62 -> 48 | C62: 834 | D62: =D61 -> 12 | E62: =E61 -> 01 | F62: =F61 -> 12 | G62: =IF(C62>0,VLOOKUP(C62,'BASE FEDERAÇÃO'!$B:$M,2,FALSE),"") -> YAMANO | H62: =IF(C62>0,VLOOKUP(C62,'BASE FEDERAÇÃO'!$B:$M,3,FALSE),"") -> PAULO | I62: =IF($C62>0,VLOOKUP($C62,'BASE FEDERAÇÃO'!$B:$M,4,FALSE),"") -> M | J62: =IF($C62>0,VLOOKUP($C62,'BASE FEDERAÇÃO'!$B:$M,5,FALSE),"") -> 03. IBI | K62: =IFERROR(VLOOKUP(J62,Base!$G:$H,2,0),"") -> IBIÚNA | L62: =IF($C62>0,VLOOKUP($C62,'BASE FEDERAÇÃO'!$B:$M,6,FALSE),"") -> 17828 | M62: =IF($C62>0,VLOOKUP($C62,'BASE FEDERAÇÃO'!$B:$M,7,FALSE),"") -> 6 | N62: =IF($C62>0,VLOOKUP($C62,'BASE FEDERAÇÃO'!$B:$M,8,FALSE),"") -> A | O62: =IF($C62="","",VLOOKUP($C62,'BASE FEDERAÇÃO'!$B:$M,9,0)) -> SR | P62: =IF($C62>0,VLOOKUP($C62,INCRIÇÕES!$A:$K,11,0),"") | R62: =IF(ISERROR(VLOOKUP(C62,INCRIÇÕES!A:A,1,0)),"NÃO TEM INSCRIÇÃO","OK") -> OK | S62: =IF(S61="",S60+1,IF(F62<>"",S61+1,"")) -> 48 | T62: =IF(COUNTIF(C:C,C62)>1,"REPETIDO","OK") -> OK | U62: =CONCATENATE(D62&A62) -> 1248 | AD62: =IF(ISERROR(VLOOKUP(AC62,C:C,1,0)),"SEM GRUPO","JÁ TEM GRUPO") -> SEM GRUPO | AE62: =VLOOKUP(AC62,INCRIÇÕES!A:F,6,0) -> #N/A
A63: =S63 | G63: =IF(C63>0,VLOOKUP(C63,'BASE FEDERAÇÃO'!$B:$M,2,FALSE),"") | H63: =IF(C63>0,VLOOKUP(C63,'BASE FEDERAÇÃO'!$B:$M,3,FALSE),"") | I63: =IF($C63>0,VLOOKUP($C63,'BASE FEDERAÇÃO'!$B:$M,4,FALSE),"") | J63: =IF($C63>0,VLOOKUP($C63,'BASE FEDERAÇÃO'!$B:$M,5,FALSE),"") | K63: =IFERROR(VLOOKUP(J63,Base!$G:$H,2,0),"") | L63: =IF($C63>0,VLOOKUP($C63,'BASE FEDERAÇÃO'!$B:$M,6,FALSE),"") | M63: =IF($C63>0,VLOOKUP($C63,'BASE FEDERAÇÃO'!$B:$M,7,FALSE),"") | N63: =IF($C63>0,VLOOKUP($C63,'BASE FEDERAÇÃO'!$B:$M,8,FALSE),"") | O63: =IF($C63="","",VLOOKUP($C63,'BASE FEDERAÇÃO'!$B:$M,9,0)) | P63: =IF($C63>0,VLOOKUP($C63,INCRIÇÕES!$A:$K,11,0),"") | R63: =IF(ISERROR(VLOOKUP(C63,INCRIÇÕES!A:A,1,0)),"NÃO TEM INSCRIÇÃO","OK") -> NÃO TEM INSCRIÇÃO | S63: =IF(S62="",S61+1,IF(F63<>"",S62+1,"")) | T63: =IF(COUNTIF(C:C,C63)>1,"REPETIDO","OK") -> OK | U63: =CONCATENATE(D63&A63) | AD63: =IF(ISERROR(VLOOKUP(AC63,C:C,1,0)),"SEM GRUPO","JÁ TEM GRUPO") -> SEM GRUPO | AE63: =VLOOKUP(AC63,INCRIÇÕES!A:F,6,0) -> #N/A
A64: =S64 -> 49 | C64: 860 | D64: 13 | E64: 01 | F64: 13 | G64: =IF(C64>0,VLOOKUP(C64,'BASE FEDERAÇÃO'!$B:$M,2,FALSE),"") -> MORI | H64: =IF(C64>0,VLOOKUP(C64,'BASE FEDERAÇÃO'!$B:$M,3,FALSE),"") -> TORAO | I64: =IF($C64>0,VLOOKUP($C64,'BASE FEDERAÇÃO'!$B:$M,4,FALSE),"") -> M | J64: =IF($C64>0,VLOOKUP($C64,'BASE FEDERAÇÃO'!$B:$M,5,FALSE),"") -> 15. BIR | K64: =IFERROR(VLOOKUP(J64,Base!$G:$H,2,0),"") -> BIRITIBA MIRIM | L64: =IF($C64>0,VLOOKUP($C64,'BASE FEDERAÇÃO'!$B:$M,6,FALSE),"") -> 22977 | M64: =IF($C64>0,VLOOKUP($C64,'BASE FEDERAÇÃO'!$B:$M,7,FALSE),"") -> 2 | N64: =IF($C64>0,VLOOKUP($C64,'BASE FEDERAÇÃO'!$B:$M,8,FALSE),"") -> EX | O64: =IF($C64="","",VLOOKUP($C64,'BASE FEDERAÇÃO'!$B:$M,9,0)) -> NSR | P64: =IF($C64>0,VLOOKUP($C64,INCRIÇÕES!$A:$K,11,0),"") | R64: =IF(ISERROR(VLOOKUP(C64,INCRIÇÕES!A:A,1,0)),"NÃO TEM INSCRIÇÃO","OK") -> OK | S64: =IF(S63="",S62+1,IF(F64<>"",S63+1,"")) -> 49 | T64: =IF(COUNTIF(C:C,C64)>1,"REPETIDO","OK") -> OK | U64: =CONCATENATE(D64&A64) -> 1349 | AD64: =IF(ISERROR(VLOOKUP(AC64,C:C,1,0)),"SEM GRUPO","JÁ TEM GRUPO") -> SEM GRUPO | AE64: =VLOOKUP(AC64,INCRIÇÕES!A:F,6,0) -> #N/A
A65: =S65 -> 50 | C65: 843 | D65: =D64 -> 13 | E65: =E64 -> 01 | F65: =F64 -> 13 | G65: =IF(C65>0,VLOOKUP(C65,'BASE FEDERAÇÃO'!$B:$M,2,FALSE),"") -> CICERI | H65: =IF(C65>0,VLOOKUP(C65,'BASE FEDERAÇÃO'!$B:$M,3,FALSE),"") -> MARIO VANDER | I65: =IF($C65>0,VLOOKUP($C65,'BASE FEDERAÇÃO'!$B:$M,4,FALSE),"") -> M | J65: =IF($C65>0,VLOOKUP($C65,'BASE FEDERAÇÃO'!$B:$M,5,FALSE),"") -> 11. NCC | K65: =IFERROR(VLOOKUP(J65,Base!$G:$H,2,0),"") -> NIPPON COUNTRY | L65: =IF($C65>0,VLOOKUP($C65,'BASE FEDERAÇÃO'!$B:$M,6,FALSE),"") -> 24674 | M65: =IF($C65>0,VLOOKUP($C65,'BASE FEDERAÇÃO'!$B:$M,7,FALSE),"") -> 5 | N65: =IF($C65>0,VLOOKUP($C65,'BASE FEDERAÇÃO'!$B:$M,8,FALSE),"") -> A | O65: =IF($C65="","",VLOOKUP($C65,'BASE FEDERAÇÃO'!$B:$M,9,0)) -> NSR | P65: =IF($C65>0,VLOOKUP($C65,INCRIÇÕES!$A:$K,11,0),"") -> X | R65: =IF(ISERROR(VLOOKUP(C65,INCRIÇÕES!A:A,1,0)),"NÃO TEM INSCRIÇÃO","OK") -> OK | S65: =IF(S64="",S63+1,IF(F65<>"",S64+1,"")) -> 50 | T65: =IF(COUNTIF(C:C,C65)>1,"REPETIDO","OK") -> OK | U65: =CONCATENATE(D65&A65) -> 1350 | AD65: =IF(ISERROR(VLOOKUP(AC65,C:C,1,0)),"SEM GRUPO","JÁ TEM GRUPO") -> SEM GRUPO | AE65: =VLOOKUP(AC65,INCRIÇÕES!A:F,6,0) -> #N/A
A66: =S66 -> 51 | C66: 347 | D66: =D65 -> 13 | E66: =E65 -> 01 | F66: =F65 -> 13 | G66: =IF(C66>0,VLOOKUP(C66,'BASE FEDERAÇÃO'!$B:$M,2,FALSE),"") -> MASUDA | H66: =IF(C66>0,VLOOKUP(C66,'BASE FEDERAÇÃO'!$B:$M,3,FALSE),"") -> TIZUKO | I66: =IF($C66>0,VLOOKUP($C66,'BASE FEDERAÇÃO'!$B:$M,4,FALSE),"") -> F | J66: =IF($C66>0,VLOOKUP($C66,'BASE FEDERAÇÃO'!$B:$M,5,FALSE),"") -> 01. PIE | K66: =IFERROR(VLOOKUP(J66,Base!$G:$H,2,0),"") -> PIEDADE | L66: =IF($C66>0,VLOOKUP($C66,'BASE FEDERAÇÃO'!$B:$M,6,FALSE),"") -> 15977 | M66: =IF($C66>0,VLOOKUP($C66,'BASE FEDERAÇÃO'!$B:$M,7,FALSE),"") -> 5 | N66: =IF($C66>0,VLOOKUP($C66,'BASE FEDERAÇÃO'!$B:$M,8,FALSE),"") -> A | O66: =IF($C66="","",VLOOKUP($C66,'BASE FEDERAÇÃO'!$B:$M,9,0)) -> SR | P66: =IF($C66>0,VLOOKUP($C66,INCRIÇÕES!$A:$K,11,0),"") -> X | R66: =IF(ISERROR(VLOOKUP(C66,INCRIÇÕES!A:A,1,0)),"NÃO TEM INSCRIÇÃO","OK") -> OK | S66: =IF(S65="",S64+1,IF(F66<>"",S65+1,"")) -> 51 | T66: =IF(COUNTIF(C:C,C66)>1,"REPETIDO","OK") -> OK | U66: =CONCATENATE(D66&A66) -> 1351 | AD66: =IF(ISERROR(VLOOKUP(AC66,C:C,1,0)),"SEM GRUPO","JÁ TEM GRUPO") -> SEM GRUPO | AE66: =VLOOKUP(AC66,INCRIÇÕES!A:F,6,0) -> #N/A
A67: =S67 -> 52 | C67: 489 | D67: =D66 -> 13 | E67: =E66 -> 01 | F67: =F66 -> 13 | G67: =IF(C67>0,VLOOKUP(C67,'BASE FEDERAÇÃO'!$B:$M,2,FALSE),"") -> TOGO | H67: =IF(C67>0,VLOOKUP(C67,'BASE FEDERAÇÃO'!$B:$M,3,FALSE),"") -> NARIKO | I67: =IF($C67>0,VLOOKUP($C67,'BASE FEDERAÇÃO'!$B:$M,4,FALSE),"") -> F | J67: =IF($C67>0,VLOOKUP($C67,'BASE FEDERAÇÃO'!$B:$M,5,FALSE),"") -> 07. GSP | K67: =IFERROR(VLOOKUP(J67,Base!$G:$H,2,0),"") -> GRANDE SÃO PAULO | L67: =IF($C67>0,VLOOKUP($C67,'BASE FEDERAÇÃO'!$B:$M,6,FALSE),"") -> 18327 | M67: =IF($C67>0,VLOOKUP($C67,'BASE FEDERAÇÃO'!$B:$M,7,FALSE),"") -> 4 | N67: =IF($C67>0,VLOOKUP($C67,'BASE FEDERAÇÃO'!$B:$M,8,FALSE),"") -> A | O67: =IF($C67="","",VLOOKUP($C67,'BASE FEDERAÇÃO'!$B:$M,9,0)) -> SR | P67: =IF($C67>0,VLOOKUP($C67,INCRIÇÕES!$A:$K,11,0),"") | R67: =IF(ISERROR(VLOOKUP(C67,INCRIÇÕES!A:A,1,0)),"NÃO TEM INSCRIÇÃO","OK") -> OK | S67: =IF(S66="",S65+1,IF(F67<>"",S66+1,"")) -> 52 | T67: =IF(COUNTIF(C:C,C67)>1,"REPETIDO","OK") -> OK | U67: =CONCATENATE(D67&A67) -> 1352 | AD67: =IF(ISERROR(VLOOKUP(AC67,C:C,1,0)),"SEM GRUPO","JÁ TEM GRUPO") -> SEM GRUPO | AE67: =VLOOKUP(AC67,INCRIÇÕES!A:F,6,0) -> #N/A
A68: =S68 | G68: =IF(C68>0,VLOOKUP(C68,'BASE FEDERAÇÃO'!$B:$M,2,FALSE),"") | H68: =IF(C68>0,VLOOKUP(C68,'BASE FEDERAÇÃO'!$B:$M,3,FALSE),"") | I68: =IF($C68>0,VLOOKUP($C68,'BASE FEDERAÇÃO'!$B:$M,4,FALSE),"") | J68: =IF($C68>0,VLOOKUP($C68,'BASE FEDERAÇÃO'!$B:$M,5,FALSE),"") | K68: =IFERROR(VLOOKUP(J68,Base!$G:$H,2,0),"") | L68: =IF($C68>0,VLOOKUP($C68,'BASE FEDERAÇÃO'!$B:$M,6,FALSE),"") | M68: =IF($C68>0,VLOOKUP($C68,'BASE FEDERAÇÃO'!$B:$M,7,FALSE),"") | N68: =IF($C68>0,VLOOKUP($C68,'BASE FEDERAÇÃO'!$B:$M,8,FALSE),"") | O68: =IF($C68="","",VLOOKUP($C68,'BASE FEDERAÇÃO'!$B:$M,9,0)) | P68: =IF($C68>0,VLOOKUP($C68,INCRIÇÕES!$A:$K,11,0),"") | R68: =IF(ISERROR(VLOOKUP(C68,INCRIÇÕES!A:A,1,0)),"NÃO TEM INSCRIÇÃO","OK") -> NÃO TEM INSCRIÇÃO | S68: =IF(S67="",S66+1,IF(F68<>"",S67+1,"")) | T68: =IF(COUNTIF(C:C,C68)>1,"REPETIDO","OK") -> OK | U68: =CONCATENATE(D68&A68) | AD68: =IF(ISERROR(VLOOKUP(AC68,C:C,1,0)),"SEM GRUPO","JÁ TEM GRUPO") -> SEM GRUPO | AE68: =VLOOKUP(AC68,INCRIÇÕES!A:F,6,0) -> #N/A
A69: =S69 -> 53 | C69: 786 | D69: 14 | E69: 01 | F69: 14 | G69: =IF(C69>0,VLOOKUP(C69,'BASE FEDERAÇÃO'!$B:$M,2,FALSE),"") -> KAMIMURA | H69: =IF(C69>0,VLOOKUP(C69,'BASE FEDERAÇÃO'!$B:$M,3,FALSE),"") -> PAULO Y. | I69: =IF($C69>0,VLOOKUP($C69,'BASE FEDERAÇÃO'!$B:$M,4,FALSE),"") -> M | J69: =IF($C69>0,VLOOKUP($C69,'BASE FEDERAÇÃO'!$B:$M,5,FALSE),"") -> 11. NCC | K69: =IFERROR(VLOOKUP(J69,Base!$G:$H,2,0),"") -> NIPPON COUNTRY | L69: =IF($C69>0,VLOOKUP($C69,'BASE FEDERAÇÃO'!$B:$M,6,FALSE),"") -> 23165 | M69: =IF($C69>0,VLOOKUP($C69,'BASE FEDERAÇÃO'!$B:$M,7,FALSE),"") -> 2 | N69: =IF($C69>0,VLOOKUP($C69,'BASE FEDERAÇÃO'!$B:$M,8,FALSE),"") -> EX | O69: =IF($C69="","",VLOOKUP($C69,'BASE FEDERAÇÃO'!$B:$M,9,0)) -> NSR | P69: =IF($C69>0,VLOOKUP($C69,INCRIÇÕES!$A:$K,11,0),"") | R69: =IF(ISERROR(VLOOKUP(C69,INCRIÇÕES!A:A,1,0)),"NÃO TEM INSCRIÇÃO","OK") -> OK | S69: =IF(S68="",S67+1,IF(F69<>"",S68+1,"")) -> 53 | T69: =IF(COUNTIF(C:C,C69)>1,"REPETIDO","OK") -> OK | U69: =CONCATENATE(D69&A69) -> 1453 | AD69: =IF(ISERROR(VLOOKUP(AC69,C:C,1,0)),"SEM GRUPO","JÁ TEM GRUPO") -> SEM GRUPO | AE69: =VLOOKUP(AC69,INCRIÇÕES!A:F,6,0) -> #N/A
A70: =S70 -> 54 | C70: 993 | D70: =D69 -> 14 | E70: =E69 -> 01 | F70: =F69 -> 14 | G70: =IF(C70>0,VLOOKUP(C70,'BASE FEDERAÇÃO'!$B:$M,2,FALSE),"") -> ABEMATSU | H70: =IF(C70>0,VLOOKUP(C70,'BASE FEDERAÇÃO'!$B:$M,3,FALSE),"") -> KATSUYUKI | I70: =IF($C70>0,VLOOKUP($C70,'BASE FEDERAÇÃO'!$B:$M,4,FALSE),"") -> M | J70: =IF($C70>0,VLOOKUP($C70,'BASE FEDERAÇÃO'!$B:$M,5,FALSE),"") -> 07. GSP | K70: =IFERROR(VLOOKUP(J70,Base!$G:$H,2,0),"") -> GRANDE SÃO PAULO | L70: =IF($C70>0,VLOOKUP($C70,'BASE FEDERAÇÃO'!$B:$M,6,FALSE),"") -> 17411 | M70: =IF($C70>0,VLOOKUP($C70,'BASE FEDERAÇÃO'!$B:$M,7,FALSE),"") -> 5 | N70: =IF($C70>0,VLOOKUP($C70,'BASE FEDERAÇÃO'!$B:$M,8,FALSE),"") -> A | O70: =IF($C70="","",VLOOKUP($C70,'BASE FEDERAÇÃO'!$B:$M,9,0)) -> SR | P70: =IF($C70>0,VLOOKUP($C70,INCRIÇÕES!$A:$K,11,0),"") -> X | R70: =IF(ISERROR(VLOOKUP(C70,INCRIÇÕES!A:A,1,0)),"NÃO TEM INSCRIÇÃO","OK") -> OK | S70: =IF(S69="",S68+1,IF(F70<>"",S69+1,"")) -> 54 | T70: =IF(COUNTIF(C:C,C70)>1,"REPETIDO","OK") -> OK | U70: =CONCATENATE(D70&A70) -> 1454 | AD70: =IF(ISERROR(VLOOKUP(AC70,C:C,1,0)),"SEM GRUPO","JÁ TEM GRUPO") -> SEM GRUPO | AE70: =VLOOKUP(AC70,INCRIÇÕES!A:F,6,0) -> #N/A
A71: =S71 -> 55 | C71: 555 | D71: =D70 -> 14 | E71: =E70 -> 01 | F71: =F70 -> 14 | G71: =IF(C71>0,VLOOKUP(C71,'BASE FEDERAÇÃO'!$B:$M,2,FALSE),"") -> SIQUEIRA OLIVEIRA | H71: =IF(C71>0,VLOOKUP(C71,'BASE FEDERAÇÃO'!$B:$M,3,FALSE),"") -> HELVECIO | I71: =IF($C71>0,VLOOKUP($C71,'BASE FEDERAÇÃO'!$B:$M,4,FALSE),"") -> M | J71: =IF($C71>0,VLOOKUP($C71,'BASE FEDERAÇÃO'!$B:$M,5,FALSE),"") -> 18. SOR | K71: =IFERROR(VLOOKUP(J71,Base!$G:$H,2,0),"") -> SOROCABA | L71: =IF($C71>0,VLOOKUP($C71,'BASE FEDERAÇÃO'!$B:$M,6,FALSE),"") -> 21411 | M71: =IF($C71>0,VLOOKUP($C71,'BASE FEDERAÇÃO'!$B:$M,7,FALSE),"") -> 6 | N71: =IF($C71>0,VLOOKUP($C71,'BASE FEDERAÇÃO'!$B:$M,8,FALSE),"") -> A | O71: =IF($C71="","",VLOOKUP($C71,'BASE FEDERAÇÃO'!$B:$M,9,0)) -> NSR | P71: =IF($C71>0,VLOOKUP($C71,INCRIÇÕES!$A:$K,11,0),"") -> X | R71: =IF(ISERROR(VLOOKUP(C71,INCRIÇÕES!A:A,1,0)),"NÃO TEM INSCRIÇÃO","OK") -> OK | S71: =IF(S70="",S69+1,IF(F71<>"",S70+1,"")) -> 55 | T71: =IF(COUNTIF(C:C,C71)>1,"REPETIDO","OK") -> OK | U71: =CONCATENATE(D71&A71) -> 1455 | AD71: =IF(ISERROR(VLOOKUP(AC71,C:C,1,0)),"SEM GRUPO","JÁ TEM GRUPO") -> SEM GRUPO | AE71: =VLOOKUP(AC71,INCRIÇÕES!A:F,6,0) -> #N/A
A72: =S72 -> 56 | C72: 480 | D72: =D71 -> 14 | E72: =E71 -> 01 | F72: =F71 -> 14 | G72: =IF(C72>0,VLOOKUP(C72,'BASE FEDERAÇÃO'!$B:$M,2,FALSE),"") -> SIGAKI HIGUCHI | H72: =IF(C72>0,VLOOKUP(C72,'BASE FEDERAÇÃO'!$B:$M,3,FALSE),"") -> LOURDES YASSUKO | I72: =IF($C72>0,VLOOKUP($C72,'BASE FEDERAÇÃO'!$B:$M,4,FALSE),"") -> F | J72: =IF($C72>0,VLOOKUP($C72,'BASE FEDERAÇÃO'!$B:$M,5,FALSE),"") -> 11. NCC | K72: =IFERROR(VLOOKUP(J72,Base!$G:$H,2,0),"") -> NIPPON COUNTRY | L72: =IF($C72>0,VLOOKUP($C72,'BASE FEDERAÇÃO'!$B:$M,6,FALSE),"") -> 20585 | M72: =IF($C72>0,VLOOKUP($C72,'BASE FEDERAÇÃO'!$B:$M,7,FALSE),"") -> 6 | N72: =IF($C72>0,VLOOKUP($C72,'BASE FEDERAÇÃO'!$B:$M,8,FALSE),"") -> A | O72: =IF($C72="","",VLOOKUP($C72,'BASE FEDERAÇÃO'!$B:$M,9,0)) -> NSR | P72: =IF($C72>0,VLOOKUP($C72,INCRIÇÕES!$A:$K,11,0),"") -> X | R72: =IF(ISERROR(VLOOKUP(C72,INCRIÇÕES!A:A,1,0)),"NÃO TEM INSCRIÇÃO","OK") -> OK | S72: =IF(S71="",S70+1,IF(F72<>"",S71+1,"")) -> 56 | T72: =IF(COUNTIF(C:C,C72)>1,"REPETIDO","OK") -> OK | U72: =CONCATENATE(D72&A72) -> 1456 | AD72: =IF(ISERROR(VLOOKUP(AC72,C:C,1,0)),"SEM GRUPO","JÁ TEM GRUPO") -> SEM GRUPO | AE72: =VLOOKUP(AC72,INCRIÇÕES!A:F,6,0) -> #N/A
A73: =S73 | G73: =IF(C73>0,VLOOKUP(C73,'BASE FEDERAÇÃO'!$B:$M,2,FALSE),"") | H73: =IF(C73>0,VLOOKUP(C73,'BASE FEDERAÇÃO'!$B:$M,3,FALSE),"") | I73: =IF($C73>0,VLOOKUP($C73,'BASE FEDERAÇÃO'!$B:$M,4,FALSE),"") | J73: =IF($C73>0,VLOOKUP($C73,'BASE FEDERAÇÃO'!$B:$M,5,FALSE),"") | K73: =IFERROR(VLOOKUP(J73,Base!$G:$H,2,0),"") | L73: =IF($C73>0,VLOOKUP($C73,'BASE FEDERAÇÃO'!$B:$M,6,FALSE),"") | M73: =IF($C73>0,VLOOKUP($C73,'BASE FEDERAÇÃO'!$B:$M,7,FALSE),"") | N73: =IF($C73>0,VLOOKUP($C73,'BASE FEDERAÇÃO'!$B:$M,8,FALSE),"") | O73: =IF($C73="","",VLOOKUP($C73,'BASE FEDERAÇÃO'!$B:$M,9,0)) | P73: =IF($C73>0,VLOOKUP($C73,INCRIÇÕES!$A:$K,11,0),"") | R73: =IF(ISERROR(VLOOKUP(C73,INCRIÇÕES!A:A,1,0)),"NÃO TEM INSCRIÇÃO","OK") -> NÃO TEM INSCRIÇÃO | S73: =IF(S72="",S71+1,IF(F73<>"",S72+1,"")) | T73: =IF(COUNTIF(C:C,C73)>1,"REPETIDO","OK") -> OK | U73: =CONCATENATE(D73&A73) | AD73: =IF(ISERROR(VLOOKUP(AC73,C:C,1,0)),"SEM GRUPO","JÁ TEM GRUPO") -> SEM GRUPO | AE73: =VLOOKUP(AC73,INCRIÇÕES!A:F,6,0) -> #N/A
A74: =S74 -> 57 | C74: 842 | D74: 15 | E74: 01 | F74: 15 | G74: =IF(C74>0,VLOOKUP(C74,'BASE FEDERAÇÃO'!$B:$M,2,FALSE),"") -> T. NISHIKAWA | H74: =IF(C74>0,VLOOKUP(C74,'BASE FEDERAÇÃO'!$B:$M,3,FALSE),"") -> RUI | I74: =IF($C74>0,VLOOKUP($C74,'BASE FEDERAÇÃO'!$B:$M,4,FALSE),"") -> M | J74: =IF($C74>0,VLOOKUP($C74,'BASE FEDERAÇÃO'!$B:$M,5,FALSE),"") -> 11. NCC | K74: =IFERROR(VLOOKUP(J74,Base!$G:$H,2,0),"") -> NIPPON COUNTRY | L74: =IF($C74>0,VLOOKUP($C74,'BASE FEDERAÇÃO'!$B:$M,6,FALSE),"") -> 21731 | M74: =IF($C74>0,VLOOKUP($C74,'BASE FEDERAÇÃO'!$B:$M,7,FALSE),"") -> 3 | N74: =IF($C74>0,VLOOKUP($C74,'BASE FEDERAÇÃO'!$B:$M,8,FALSE),"") -> EX | O74: =IF($C74="","",VLOOKUP($C74,'BASE FEDERAÇÃO'!$B:$M,9,0)) -> NSR | P74: =IF($C74>0,VLOOKUP($C74,INCRIÇÕES!$A:$K,11,0),"") -> X | R74: =IF(ISERROR(VLOOKUP(C74,INCRIÇÕES!A:A,1,0)),"NÃO TEM INSCRIÇÃO","OK") -> OK | S74: =IF(S73="",S72+1,IF(F74<>"",S73+1,"")) -> 57 | T74: =IF(COUNTIF(C:C,C74)>1,"REPETIDO","OK") -> OK | U74: =CONCATENATE(D74&A74) -> 1557 | AD74: =IF(ISERROR(VLOOKUP(AC74,C:C,1,0)),"SEM GRUPO","JÁ TEM GRUPO") -> SEM GRUPO | AE74: =VLOOKUP(AC74,INCRIÇÕES!A:F,6,0) -> #N/A
A75: =S75 -> 58 | C75: 914 | D75: =D74 -> 15 | E75: =E74 -> 01 | F75: =F74 -> 15 | G75: =IF(C75>0,VLOOKUP(C75,'BASE FEDERAÇÃO'!$B:$M,2,FALSE),"") -> ODA | H75: =IF(C75>0,VLOOKUP(C75,'BASE FEDERAÇÃO'!$B:$M,3,FALSE),"") -> TOMIKO | I75: =IF($C75>0,VLOOKUP($C75,'BASE FEDERAÇÃO'!$B:$M,4,FALSE),"") -> F | J75: =IF($C75>0,VLOOKUP($C75,'BASE FEDERAÇÃO'!$B:$M,5,FALSE),"") -> 07. GSP | K75: =IFERROR(VLOOKUP(J75,Base!$G:$H,2,0),"") -> GRANDE SÃO PAULO | L75: =IF($C75>0,VLOOKUP($C75,'BASE FEDERAÇÃO'!$B:$M,6,FALSE),"") -> 19438 | M75: =IF($C75>0,VLOOKUP($C75,'BASE FEDERAÇÃO'!$B:$M,7,FALSE),"") -> 3 | N75: =IF($C75>0,VLOOKUP($C75,'BASE FEDERAÇÃO'!$B:$M,8,FALSE),"") -> EX | O75: =IF($C75="","",VLOOKUP($C75,'BASE FEDERAÇÃO'!$B:$M,9,0)) -> NSR | P75: =IF($C75>0,VLOOKUP($C75,INCRIÇÕES!$A:$K,11,0),"") -> X | R75: =IF(ISERROR(VLOOKUP(C75,INCRIÇÕES!A:A,1,0)),"NÃO TEM INSCRIÇÃO","OK") -> OK | S75: =IF(S74="",S73+1,IF(F75<>"",S74+1,"")) -> 58 | T75: =IF(COUNTIF(C:C,C75)>1,"REPETIDO","OK") -> OK | U75: =CONCATENATE(D75&A75) -> 1558 | AD75: =IF(ISERROR(VLOOKUP(AC75,C:C,1,0)),"SEM GRUPO","JÁ TEM GRUPO") -> SEM GRUPO | AE75: =VLOOKUP(AC75,INCRIÇÕES!A:F,6,0) -> #N/A
A76: =S76 -> 59 | C76: 676 | D76: =D75 -> 15 | E76: =E75 -> 01 | F76: =F75 -> 15 | G76: =IF(C76>0,VLOOKUP(C76,'BASE FEDERAÇÃO'!$B:$M,2,FALSE),"") -> OKAWARA | H76: =IF(C76>0,VLOOKUP(C76,'BASE FEDERAÇÃO'!$B:$M,3,FALSE),"") -> SUMIRE | I76: =IF($C76>0,VLOOKUP($C76,'BASE FEDERAÇÃO'!$B:$M,4,FALSE),"") -> F | J76: =IF($C76>0,VLOOKUP($C76,'BASE FEDERAÇÃO'!$B:$M,5,FALSE),"") -> 08. SMA | K76: =IFERROR(VLOOKUP(J76,Base!$G:$H,2,0),"") -> SÃO M. ARCANJO | L76: =IF($C76>0,VLOOKUP($C76,'BASE FEDERAÇÃO'!$B:$M,6,FALSE),"") -> 23722 | M76: =IF($C76>0,VLOOKUP($C76,'BASE FEDERAÇÃO'!$B:$M,7,FALSE),"") -> 4 | N76: =IF($C76>0,VLOOKUP($C76,'BASE FEDERAÇÃO'!$B:$M,8,FALSE),"") -> A | O76: =IF($C76="","",VLOOKUP($C76,'BASE FEDERAÇÃO'!$B:$M,9,0)) -> NSR | P76: =IF($C76>0,VLOOKUP($C76,INCRIÇÕES!$A:$K,11,0),"") -> X | R76: =IF(ISERROR(VLOOKUP(C76,INCRIÇÕES!A:A,1,0)),"NÃO TEM INSCRIÇÃO","OK") -> OK | S76: =IF(S75="",S74+1,IF(F76<>"",S75+1,"")) -> 59 | T76: =IF(COUNTIF(C:C,C76)>1,"REPETIDO","OK") -> OK | U76: =CONCATENATE(D76&A76) -> 1559 | AD76: =IF(ISERROR(VLOOKUP(AC76,C:C,1,0)),"SEM GRUPO","JÁ TEM GRUPO") -> SEM GRUPO | AE76: =VLOOKUP(AC76,INCRIÇÕES!A:F,6,0) -> #N/A
A77: =S77 -> 60 | C77: 903 | D77: =D76 -> 15 | E77: =E76 -> 01 | F77: =F76 -> 15 | G77: =IF(C77>0,VLOOKUP(C77,'BASE FEDERAÇÃO'!$B:$M,2,FALSE),"") -> NAGATA | H77: =IF(C77>0,VLOOKUP(C77,'BASE FEDERAÇÃO'!$B:$M,3,FALSE),"") -> AROLDO KOJI | I77: =IF($C77>0,VLOOKUP($C77,'BASE FEDERAÇÃO'!$B:$M,4,FALSE),"") -> M | J77: =IF($C77>0,VLOOKUP($C77,'BASE FEDERAÇÃO'!$B:$M,5,FALSE),"") -> 12. COO | K77: =IFERROR(VLOOKUP(J77,Base!$G:$H,2,0),"") -> COOPER COTIA | L77: =IF($C77>0,VLOOKUP($C77,'BASE FEDERAÇÃO'!$B:$M,6,FALSE),"") -> 27807 | M77: =IF($C77>0,VLOOKUP($C77,'BASE FEDERAÇÃO'!$B:$M,7,FALSE),"") -> 5 | N77: =IF($C77>0,VLOOKUP($C77,'BASE FEDERAÇÃO'!$B:$M,8,FALSE),"") -> A | O77: =IF($C77="","",VLOOKUP($C77,'BASE FEDERAÇÃO'!$B:$M,9,0)) -> NSR | P77: =IF($C77>0,VLOOKUP($C77,INCRIÇÕES!$A:$K,11,0),"") | R77: =IF(ISERROR(VLOOKUP(C77,INCRIÇÕES!A:A,1,0)),"NÃO TEM INSCRIÇÃO","OK") -> OK | S77: =IF(S76="",S75+1,IF(F77<>"",S76+1,"")) -> 60 | T77: =IF(COUNTIF(C:C,C77)>1,"REPETIDO","OK") -> OK | U77: =CONCATENATE(D77&A77) -> 1560 | AD77: =IF(ISERROR(VLOOKUP(AC77,C:C,1,0)),"SEM GRUPO","JÁ TEM GRUPO") -> SEM GRUPO | AE77: =VLOOKUP(AC77,INCRIÇÕES!A:F,6,0) -> #N/A
A78: =S78 | G78: =IF(C78>0,VLOOKUP(C78,'BASE FEDERAÇÃO'!$B:$M,2,FALSE),"") | H78: =IF(C78>0,VLOOKUP(C78,'BASE FEDERAÇÃO'!$B:$M,3,FALSE),"") | I78: =IF($C78>0,VLOOKUP($C78,'BASE FEDERAÇÃO'!$B:$M,4,FALSE),"") | J78: =IF($C78>0,VLOOKUP($C78,'BASE FEDERAÇÃO'!$B:$M,5,FALSE),"") | K78: =IFERROR(VLOOKUP(J78,Base!$G:$H,2,0),"") | L78: =IF($C78>0,VLOOKUP($C78,'BASE FEDERAÇÃO'!$B:$M,6,FALSE),"") | M78: =IF($C78>0,VLOOKUP($C78,'BASE FEDERAÇÃO'!$B:$M,7,FALSE),"") | N78: =IF($C78>0,VLOOKUP($C78,'BASE FEDERAÇÃO'!$B:$M,8,FALSE),"") | O78: =IF($C78="","",VLOOKUP($C78,'BASE FEDERAÇÃO'!$B:$M,9,0)) | P78: =IF($C78>0,VLOOKUP($C78,INCRIÇÕES!$A:$K,11,0),"") | R78: =IF(ISERROR(VLOOKUP(C78,INCRIÇÕES!A:A,1,0)),"NÃO TEM INSCRIÇÃO","OK") -> NÃO TEM INSCRIÇÃO | S78: =IF(S77="",S76+1,IF(F78<>"",S77+1,"")) | T78: =IF(COUNTIF(C:C,C78)>1,"REPETIDO","OK") -> OK | U78: =CONCATENATE(D78&A78) | AD78: =IF(ISERROR(VLOOKUP(AC78,C:C,1,0)),"SEM GRUPO","JÁ TEM GRUPO") -> SEM GRUPO | AE78: =VLOOKUP(AC78,INCRIÇÕES!A:F,6,0) -> #N/A
A79: =S79 -> 61 | C79: 733 | D79: 16 | E79: 01 | F79: 16 | G79: =IF(C79>0,VLOOKUP(C79,'BASE FEDERAÇÃO'!$B:$M,2,FALSE),"") -> WATANABE | H79: =IF(C79>0,VLOOKUP(C79,'BASE FEDERAÇÃO'!$B:$M,3,FALSE),"") -> EMILIA | I79: =IF($C79>0,VLOOKUP($C79,'BASE FEDERAÇÃO'!$B:$M,4,FALSE),"") -> F | J79: =IF($C79>0,VLOOKUP($C79,'BASE FEDERAÇÃO'!$B:$M,5,FALSE),"") -> 11. NCC | K79: =IFERROR(VLOOKUP(J79,Base!$G:$H,2,0),"") -> NIPPON COUNTRY | L79: =IF($C79>0,VLOOKUP($C79,'BASE FEDERAÇÃO'!$B:$M,6,FALSE),"") -> 20589 | M79: =IF($C79>0,VLOOKUP($C79,'BASE FEDERAÇÃO'!$B:$M,7,FALSE),"") -> 3 | N79: =IF($C79>0,VLOOKUP($C79,'BASE FEDERAÇÃO'!$B:$M,8,FALSE),"") -> EX | O79: =IF($C79="","",VLOOKUP($C79,'BASE FEDERAÇÃO'!$B:$M,9,0)) -> NSR | P79: =IF($C79>0,VLOOKUP($C79,INCRIÇÕES!$A:$K,11,0),"") -> X | R79: =IF(ISERROR(VLOOKUP(C79,INCRIÇÕES!A:A,1,0)),"NÃO TEM INSCRIÇÃO","OK") -> OK | S79: =IF(S78="",S77+1,IF(F79<>"",S78+1,"")) -> 61 | T79: =IF(COUNTIF(C:C,C79)>1,"REPETIDO","OK") -> OK | U79: =CONCATENATE(D79&A79) -> 1661 | AD79: =IF(ISERROR(VLOOKUP(AC79,C:C,1,0)),"SEM GRUPO","JÁ TEM GRUPO") -> SEM GRUPO | AE79: =VLOOKUP(AC79,INCRIÇÕES!A:F,6,0) -> #N/A
A80: =S80 -> 62 | C80: 549 | D80: =D79 -> 16 | E80: =E79 -> 01 | F80: =F79 -> 16 | G80: =IF(C80>0,VLOOKUP(C80,'BASE FEDERAÇÃO'!$B:$M,2,FALSE),"") -> KAWABATA | H80: =IF(C80>0,VLOOKUP(C80,'BASE FEDERAÇÃO'!$B:$M,3,FALSE),"") -> TAKAO | I80: =IF($C80>0,VLOOKUP($C80,'BASE FEDERAÇÃO'!$B:$M,4,FALSE),"") -> M | J80: =IF($C80>0,VLOOKUP($C80,'BASE FEDERAÇÃO'!$B:$M,5,FALSE),"") -> 07. GSP | K80: =IFERROR(VLOOKUP(J80,Base!$G:$H,2,0),"") -> GRANDE SÃO PAULO | L80: =IF($C80>0,VLOOKUP($C80,'BASE FEDERAÇÃO'!$B:$M,6,FALSE),"") -> 14203 | M80: =IF($C80>0,VLOOKUP($C80,'BASE FEDERAÇÃO'!$B:$M,7,FALSE),"") -> 6 | N80: =IF($C80>0,VLOOKUP($C80,'BASE FEDERAÇÃO'!$B:$M,8,FALSE),"") -> A | O80: =IF($C80="","",VLOOKUP($C80,'BASE FEDERAÇÃO'!$B:$M,9,0)) -> MR | P80: =IF($C80>0,VLOOKUP($C80,INCRIÇÕES!$A:$K,11,0),"") | R80: =IF(ISERROR(VLOOKUP(C80,INCRIÇÕES!A:A,1,0)),"NÃO TEM INSCRIÇÃO","OK") -> OK | S80: =IF(S79="",S78+1,IF(F80<>"",S79+1,"")) -> 62 | T80: =IF(COUNTIF(C:C,C80)>1,"REPETIDO","OK") -> OK | U80: =CONCATENATE(D80&A80) -> 1662 | AD80: =IF(ISERROR(VLOOKUP(AC80,C:C,1,0)),"SEM GRUPO","JÁ TEM GRUPO") -> SEM GRUPO | AE80: =VLOOKUP(AC80,INCRIÇÕES!A:F,6,0) -> #N/A
A81: =S81 -> 63 | C81: 670 | D81: =D80 -> 16 | E81: =E80 -> 01 | F81: =F80 -> 16 | G81: =IF(C81>0,VLOOKUP(C81,'BASE FEDERAÇÃO'!$B:$M,2,FALSE),"") -> FUKUZAWA | H81: =IF(C81>0,VLOOKUP(C81,'BASE FEDERAÇÃO'!$B:$M,3,FALSE),"") -> AKIRA | I81: =IF($C81>0,VLOOKUP($C81,'BASE FEDERAÇÃO'!$B:$M,4,FALSE),"") -> M | J81: =IF($C81>0,VLOOKUP($C81,'BASE FEDERAÇÃO'!$B:$M,5,FALSE),"") -> 06. KOK | K81: =IFERROR(VLOOKUP(J81,Base!$G:$H,2,0),"") -> KOKUSHIKAN | L81: =IF($C81>0,VLOOKUP($C81,'BASE FEDERAÇÃO'!$B:$M,6,FALSE),"") -> 18276 | M81: =IF($C81>0,VLOOKUP($C81,'BASE FEDERAÇÃO'!$B:$M,7,FALSE),"") -> 6 | N81: =IF($C81>0,VLOOKUP($C81,'BASE FEDERAÇÃO'!$B:$M,8,FALSE),"") -> A | O81: =IF($C81="","",VLOOKUP($C81,'BASE FEDERAÇÃO'!$B:$M,9,0)) -> SR | P81: =IF($C81>0,VLOOKUP($C81,INCRIÇÕES!$A:$K,11,0),"") | R81: =IF(ISERROR(VLOOKUP(C81,INCRIÇÕES!A:A,1,0)),"NÃO TEM INSCRIÇÃO","OK") -> OK | S81: =IF(S80="",S79+1,IF(F81<>"",S80+1,"")) -> 63 | T81: =IF(COUNTIF(C:C,C81)>1,"REPETIDO","OK") -> OK | U81: =CONCATENATE(D81&A81) -> 1663 | AD81: =IF(ISERROR(VLOOKUP(AC81,C:C,1,0)),"SEM GRUPO","JÁ TEM GRUPO") -> SEM GRUPO | AE81: =VLOOKUP(AC81,INCRIÇÕES!A:F,6,0) -> #N/A
A82: =S82 -> 64 | C82: 511 | D82: =D81 -> 16 | E82: =E81 -> 01 | F82: =F81 -> 16 | G82: =IF(C82>0,VLOOKUP(C82,'BASE FEDERAÇÃO'!$B:$M,2,FALSE),"") -> DE MATOS | H82: =IF(C82>0,VLOOKUP(C82,'BASE FEDERAÇÃO'!$B:$M,3,FALSE),"") -> VANETE CLARO | I82: =IF($C82>0,VLOOKUP($C82,'BASE FEDERAÇÃO'!$B:$M,4,FALSE),"") -> F | J82: =IF($C82>0,VLOOKUP($C82,'BASE FEDERAÇÃO'!$B:$M,5,FALSE),"") -> 10. ITA | K82: =IFERROR(VLOOKUP(J82,Base!$G:$H,2,0),"") -> ITAPETININGA | L82: =IF($C82>0,VLOOKUP($C82,'BASE FEDERAÇÃO'!$B:$M,6,FALSE),"") -> 26024 | M82: =IF($C82>0,VLOOKUP($C82,'BASE FEDERAÇÃO'!$B:$M,7,FALSE),"") -> 6 | N82: =IF($C82>0,VLOOKUP($C82,'BASE FEDERAÇÃO'!$B:$M,8,FALSE),"") -> A | O82: =IF($C82="","",VLOOKUP($C82,'BASE FEDERAÇÃO'!$B:$M,9,0)) -> NSR | P82: =IF($C82>0,VLOOKUP($C82,INCRIÇÕES!$A:$K,11,0),"") -> X | R82: =IF(ISERROR(VLOOKUP(C82,INCRIÇÕES!A:A,1,0)),"NÃO TEM INSCRIÇÃO","OK") -> OK | S82: =IF(S81="",S80+1,IF(F82<>"",S81+1,"")) -> 64 | T82: =IF(COUNTIF(C:C,C82)>1,"REPETIDO","OK") -> OK | U82: =CONCATENATE(D82&A82) -> 1664 | AD82: =IF(ISERROR(VLOOKUP(AC82,C:C,1,0)),"SEM GRUPO","JÁ TEM GRUPO") -> SEM GRUPO | AE82: =VLOOKUP(AC82,INCRIÇÕES!A:F,6,0) -> #N/A
A83: =S83 | G83: =IF(C83>0,VLOOKUP(C83,'BASE FEDERAÇÃO'!$B:$M,2,FALSE),"") | H83: =IF(C83>0,VLOOKUP(C83,'BASE FEDERAÇÃO'!$B:$M,3,FALSE),"") | I83: =IF($C83>0,VLOOKUP($C83,'BASE FEDERAÇÃO'!$B:$M,4,FALSE),"") | J83: =IF($C83>0,VLOOKUP($C83,'BASE FEDERAÇÃO'!$B:$M,5,FALSE),"") | K83: =IFERROR(VLOOKUP(J83,Base!$G:$H,2,0),"") | L83: =IF($C83>0,VLOOKUP($C83,'BASE FEDERAÇÃO'!$B:$M,6,FALSE),"") | M83: =IF($C83>0,VLOOKUP($C83,'BASE FEDERAÇÃO'!$B:$M,7,FALSE),"") | N83: =IF($C83>0,VLOOKUP($C83,'BASE FEDERAÇÃO'!$B:$M,8,FALSE),"") | O83: =IF($C83="","",VLOOKUP($C83,'BASE FEDERAÇÃO'!$B:$M,9,0)) | P83: =IF($C83>0,VLOOKUP($C83,INCRIÇÕES!$A:$K,11,0),"") | R83: =IF(ISERROR(VLOOKUP(C83,INCRIÇÕES!A:A,1,0)),"NÃO TEM INSCRIÇÃO","OK") -> NÃO TEM INSCRIÇÃO | S83: =IF(S82="",S81+1,IF(F83<>"",S82+1,"")) | T83: =IF(COUNTIF(C:C,C83)>1,"REPETIDO","OK") -> OK | U83: =CONCATENATE(D83&A83) | AD83: =IF(ISERROR(VLOOKUP(AC83,C:C,1,0)),"SEM GRUPO","JÁ TEM GRUPO") -> SEM GRUPO | AE83: =VLOOKUP(AC83,INCRIÇÕES!A:F,6,0) -> #N/A
A84: =S84 -> 65 | C84: 626 | D84: 17 | E84: 01 | F84: 17 | G84: =IF(C84>0,VLOOKUP(C84,'BASE FEDERAÇÃO'!$B:$M,2,FALSE),"") -> SHIMURA | H84: =IF(C84>0,VLOOKUP(C84,'BASE FEDERAÇÃO'!$B:$M,3,FALSE),"") -> ALICE MIWAKO | I84: =IF($C84>0,VLOOKUP($C84,'BASE FEDERAÇÃO'!$B:$M,4,FALSE),"") -> F | J84: =IF($C84>0,VLOOKUP($C84,'BASE FEDERAÇÃO'!$B:$M,5,FALSE),"") -> 07. GSP | K84: =IFERROR(VLOOKUP(J84,Base!$G:$H,2,0),"") -> GRANDE SÃO PAULO | L84: =IF($C84>0,VLOOKUP($C84,'BASE FEDERAÇÃO'!$B:$M,6,FALSE),"") -> 21468 | M84: =IF($C84>0,VLOOKUP($C84,'BASE FEDERAÇÃO'!$B:$M,7,FALSE),"") -> 2 | N84: =IF($C84>0,VLOOKUP($C84,'BASE FEDERAÇÃO'!$B:$M,8,FALSE),"") -> EX | O84: =IF($C84="","",VLOOKUP($C84,'BASE FEDERAÇÃO'!$B:$M,9,0)) -> NSR | P84: =IF($C84>0,VLOOKUP($C84,INCRIÇÕES!$A:$K,11,0),"") -> X | R84: =IF(ISERROR(VLOOKUP(C84,INCRIÇÕES!A:A,1,0)),"NÃO TEM INSCRIÇÃO","OK") -> OK | S84: =IF(S83="",S82+1,IF(F84<>"",S83+1,"")) -> 65 | T84: =IF(COUNTIF(C:C,C84)>1,"REPETIDO","OK") -> OK | U84: =CONCATENATE(D84&A84) -> 1765 | AD84: =IF(ISERROR(VLOOKUP(AC84,C:C,1,0)),"SEM GRUPO","JÁ TEM GRUPO") -> SEM GRUPO | AE84: =VLOOKUP(AC84,INCRIÇÕES!A:F,6,0) -> #N/A
