Workbook

Sheet Fed.
A2: 131 | B2: IBUSUKI | C2: FUMIYOSHI | D2: M | E2: 01. PIE | F2: 24985 | G2: 4 | H2: A-NSR | I2: LIB2026 | L2: =A2=W2 -> TRUE | M2: =B2=X2 -> TRUE | N2: =C2=Y2 -> TRUE | O2: =D2=Z2 -> TRUE | P2: =E2=AA2 -> TRUE | Q2: =F2=AB2 -> TRUE | R2: =G2=AC2 -> FALSE | S2: =H2=AD2 -> FALSE | ... U2: =J2=AF2 -> TRUE | W2: 131 | X2: IBUSUKI | Y2: FUMIYOSHI | Z2: M | AA2: 01. PIE | AB2: 24985 | AC2: A-NSR | AD2: LIB2026
A3: 168 | B3: INUTSUKA | C3: TIYOKO | D3: F | E3: 01. PIE | F3: 15534 | G3: 9 | H3: B-SR | I3: LIB2026 | L3: =A3=W3 -> TRUE | M3: =B3=X3 -> TRUE | N3: =C3=Y3 -> TRUE | O3: =D3=Z3 -> TRUE | P3: =E3=AA3 -> TRUE | Q3: =F3=AB3 -> TRUE | R3: =G3=AC3 -> FALSE | S3: =H3=AD3 -> FALSE | ... U3: =J3=AF3 -> TRUE | W3: 168 | X3: INUTSUKA | Y3: TIYOKO | Z3: F | AA3: 01. PIE | AB3: 15534 | AC3: B-SR | AD3: LIB2026
A4: 178 | B4: KAWAKAMI | C4: TETSUSHI | D4: M | E4: 01. PIE | F4: 14323 | G4: 6 | H4: A-MR | I4: LIB2026 | L4: =A4=W4 -> TRUE | M4: =B4=X4 -> TRUE | N4: =C4=Y4 -> TRUE | O4: =D4=Z4 -> TRUE | P4: =E4=AA4 -> TRUE | Q4: =F4=AB4 -> TRUE | R4: =G4=AC4 -> FALSE | S4: =H4=AD4 -> FALSE | ... U4: =J4=AF4 -> TRUE | W4: 178 | X4: KAWAKAMI | Y4: TETSUSHI | Z4: M | AA4: 01. PIE | AB4: 14323 | AC4: A-MR | AD4: LIB2026
A5: 201 | B5: MASUDA | C5: TERUO | D5: M | E5: 01. PIE | F5: 15336 | G5: 3 | H5: EX-MR | I5: LIB2026 | L5: =A5=W5 -> TRUE | M5: =B5=X5 -> TRUE | N5: =C5=Y5 -> TRUE | O5: =D5=Z5 -> TRUE | P5: =E5=AA5 -> TRUE | Q5: =F5=AB5 -> TRUE | R5: =G5=AC5 -> FALSE | S5: =H5=AD5 -> FALSE | ... U5: =J5=AF5 -> TRUE | W5: 201 | X5: MASUDA | Y5: TERUO | Z5: M | AA5: 01. PIE | AB5: 15336 | AC5: EX-MR | AD5: LIB2026
A6: 203 | B6: NAKAMURA | C6: EDSON | D6: M | E6: 01. PIE | F6: 21525 | G6: 4 | H6: A-NSR | I6: LIB2026 | L6: =A6=W6 -> TRUE | M6: =B6=X6 -> TRUE | N6: =C6=Y6 -> TRUE | O6: =D6=Z6 -> TRUE | P6: =E6=AA6 -> TRUE | Q6: =F6=AB6 -> TRUE | R6: =G6=AC6 -> FALSE | S6: =H6=AD6 -> FALSE | ... U6: =J6=AF6 -> TRUE | W6: 203 | X6: NAKAMURA | Y6: EDSON | Z6: M | AA6: 01. PIE | AB6: 21525 | AC6: A-NSR | AD6: LIB2026
A7: 248 | B7: NISHIMURA | C7: KESAO | D7: M | E7: 01. PIE | F7: 15479 | G7: 9 | H7: B-SR | I7: LIB2026 | L7: =A7=W7 -> TRUE | M7: =B7=X7 -> TRUE | N7: =C7=Y7 -> TRUE | O7: =D7=Z7 -> TRUE | P7: =E7=AA7 -> TRUE | Q7: =F7=AB7 -> TRUE | R7: =G7=AC7 -> FALSE | S7: =H7=AD7 -> FALSE | ... U7: =J7=AF7 -> TRUE | W7: 248 | X7: NISHIMURA | Y7: KESAO | Z7: M | AA7: 01. PIE | AB7: 15479 | AC7: B-SR | AD7: LIB2026
A8: 249 | B8: NISHIMURA | C8: MITIKO | D8: F | E8: 01. PIE | F8: 15668 | G8: 9 | H8: B-SR | I8: LIB2026 | L8: =A8=W8 -> TRUE | M8: =B8=X8 -> TRUE | N8: =C8=Y8 -> TRUE | O8: =D8=Z8 -> TRUE | P8: =E8=AA8 -> TRUE | Q8: =F8=AB8 -> TRUE | R8: =G8=AC8 -> FALSE | S8: =H8=AD8 -> FALSE | ... U8: =J8=AF8 -> TRUE | W8: 249 | X8: NISHIMURA | Y8: MITIKO | Z8: F | AA8: 01. PIE | AB8: 15668 | AC8: B-SR | AD8: LIB2026
A9: 266 | B9: TOYODA | C9: MATOMU | D9: M | E9: 01. PIE | F9: 13051 | G9: 12 | H9: C-MR | I9: LIB2026i | L9: =A9=W9 -> TRUE | M9: =B9=X9 -> TRUE | N9: =C9=Y9 -> TRUE | O9: =D9=Z9 -> TRUE | P9: =E9=AA9 -> TRUE | Q9: =F9=AB9 -> TRUE | R9: =G9=AC9 -> FALSE | S9: =H9=AD9 -> FALSE | ... U9: =J9=AF9 -> TRUE | W9: 266 | X9: TOYODA | Y9: MATOMU | Z9: M | AA9: 01. PIE | AB9: 13051 | AC9: C-MR | AD9: LIB2026i
A10: 267 | B10: UEYAMA | C10: MARIA KIYOKO | D10: F | E10: 01. PIE | F10: 14975 | G10: 9 | H10: B-MR | I10: LIB2026 | L10: =A10=W10 -> TRUE | M10: =B10=X10 -> TRUE | N10: =C10=Y10 -> TRUE | O10: =D10=Z10 -> TRUE | P10: =E10=AA10 -> TRUE | Q10: =F10=AB10 -> TRUE | R10: =G10=AC10 -> FALSE | S10: =H10=AD10 -> FALSE | ... U10: =J10=AF10 -> TRUE | W10: 267 | X10: UEYAMA | Y10: MARIA KIYOKO | Z10: F | AA10: 01. PIE | AB10: 14975 | AC10: B-MR | AD10: LIB2026
A11: 268 | B11: UEYAMA | C11: TAKINORI | D11: M | E11: 01. PIE | F11: 13234 | G11: 8 | H11: B-MR | I11: LIB2026i | L11: =A11=W11 -> TRUE | M11: =B11=X11 -> TRUE | N11: =C11=Y11 -> TRUE | O11: =D11=Z11 -> TRUE | P11: =E11=AA11 -> TRUE | Q11: =F11=AB11 -> TRUE | R11: =G11=AC11 -> FALSE | S11: =H11=AD11 -> FALSE | ... U11: =J11=AF11 -> TRUE | W11: 268 | X11: UEYAMA | Y11: TAKINORI | Z11: M | AA11: 01. PIE | AB11: 13234 | AC11: B-MR | AD11: LIB2026i
A12: 347 | B12: MASUDA | C12: TIZUKO | D12: F | E12: 01. PIE | F12: 15977 | G12: 5 | H12: A-SR | I12: LIB2026 | L12: =A12=W12 -> TRUE | M12: =B12=X12 -> TRUE | N12: =C12=Y12 -> TRUE | O12: =D12=Z12 -> TRUE | P12: =E12=AA12 -> TRUE | Q12: =F12=AB12 -> TRUE | R12: =G12=AC12 -> FALSE | S12: =H12=AD12 -> FALSE | ... U12: =J12=AF12 -> TRUE | W12: 347 | X12: MASUDA | Y12: TIZUKO | Z12: F | AA12: 01. PIE | AB12: 15977 | AC12: A-SR | AD12: LIB2026
A13: 397 | B13: NAKAZATO | C13: JORGE SHITOMI | D13: M | E13: 01. PIE | F13: 16003 | G13: 12 | H13: C-SR | I13: LIB2026 | L13: =A13=W13 -> TRUE | M13: =B13=X13 -> TRUE | N13: =C13=Y13 -> TRUE | O13: =D13=Z13 -> TRUE | P13: =E13=AA13 -> TRUE | Q13: =F13=AB13 -> TRUE | R13: =G13=AC13 -> FALSE | S13: =H13=AD13 -> FALSE | ... U13: =J13=AF13 -> TRUE | W13: 397 | X13: NAKAZATO | Y13: JORGE SHITOMI | Z13: M | AA13: 01. PIE | AB13: 16003 | AC13: C-SR | AD13: LIB2026
... A18: 402 | B18: ISHIHARA | C18: MARCIO EIDI | D18: M | E18: 01. PIE | F18: 27323 | G18: 12 | H18: C-NSR | I18: LIB2026 | L18: =A18=W18 -> TRUE | M18: =B18=X18 -> TRUE | N18: =C18=Y18 -> TRUE | O18: =D18=Z18 -> TRUE | P18: =E18=AA18 -> TRUE | Q18: =F18=AB18 -> TRUE | R18: =G18=AC18 -> FALSE | S18: =H18=AD18 -> FALSE | ... U18: =J18=AF18 -> TRUE | W18: 402 | X18: ISHIHARA | Y18: MARCIO EIDI | Z18: M | AA18: 01. PIE | AB18: 27323 | AC18: C-NSR | AD18: LIB2026
A19: 434 | B19: KATO | C19: MASSAKAZU | D19: M | E19: 01. PIE | F19: 15/07/1960 | G19: 4 | H19: A-NSR | I19: LIB2026 | L19: =A19=W19 -> TRUE | M19: =B19=X19 -> TRUE | N19: =C19=Y19 -> TRUE | O19: =D19=Z19 -> TRUE | P19: =E19=AA19 -> TRUE | Q19: =F19=AB19 -> TRUE | R19: =G19=AC19 -> FALSE | S19: =H19=AD19 -> FALSE | ... U19: =J19=AF19 -> TRUE | W19: 434 | X19: KATO | Y19: MASSAKAZU | Z19: M | AA19: 01. PIE | AB19: 15/07/1960 | AC19: A-NSR | AD19: LIB2026
A20: 437 | B20: SACAMOTO | C20: MORIO | D20: M | E20: 01. PIE | F20: 23045 | G20: 5 | H20: A-NSR | I20: LIB2026 | L20: =A20=W20 -> TRUE | M20: =B20=X20 -> TRUE | N20: =C20=Y20 -> TRUE | O20: =D20=Z20 -> TRUE | P20: =E20=AA20 -> TRUE | Q20: =F20=AB20 -> TRUE | R20: =G20=AC20 -> FALSE | S20: =H20=AD20 -> FALSE | ... U20: =J20=AF20 -> TRUE | W20: 437 | X20: SACAMOTO | Y20: MORIO | Z20: M | AA20: 01. PIE | AB20: 23045 | AC20: A-NSR | AD20: LIB2026
A21: 442 | B21: ARIZAWA | C21: MARIKO | D21: F | E21: 01. PIE | F21: 17503 | G21: 6 | H21: A-SR | I21: LIB2026 | L21: =A21=W21 -> TRUE | M21: =B21=X21 -> TRUE | N21: =C21=Y21 -> TRUE | O21: =D21=Z21 -> TRUE | P21: =E21=AA21 -> TRUE | Q21: =F21=AB21 -> TRUE | R21: =G21=AC21 -> FALSE | S21: =H21=AD21 -> FALSE | ... U21: =J21=AF21 -> TRUE | W21: 442 | X21: ARIZAWA | Y21: MARIKO | Z21: F | AA21: 01. PIE | AB21: 17503 | AC21: A-SR | AD21: LIB2026
A22: 526 | B22: NAKAMURA | C22: EMI KAWAKAMI | D22: F | E22: 01. PIE | F22: 21828 | G22: 12 | H22: C-NSR | I22: LIB2026 | L22: =A22=W22 -> TRUE | M22: =B22=X22 -> TRUE | N22: =C22=Y22 -> TRUE | O22: =D22=Z22 -> TRUE | P22: =E22=AA22 -> TRUE | Q22: =F22=AB22 -> TRUE | R22: =G22=AC22 -> FALSE | S22: =H22=AD22 -> FALSE | ... U22: =J22=AF22 -> TRUE | W22: 526 | X22: NAKAMURA | Y22: EMI KAWAKAMI | Z22: F | AA22: 01. PIE | AB22: 21828 | AC22: C-NSR | AD22: LIB2026
A23: 617 | B23: DOKAN | C23: CARLOS EIITI | D23: M | E23: 01. PIE | F23: 22800 | G23: 4 | H23: A-NSR | I23: LIB2026 | L23: =A23=W23 -> TRUE | M23: =B23=X23 -> TRUE | N23: =C23=Y23 -> TRUE | O23: =D23=Z23 -> TRUE | P23: =E23=AA23 -> TRUE | Q23: =F23=AB23 -> TRUE | R23: =G23=AC23 -> FALSE | S23: =H23=AD23 -> FALSE | ... U23: =J23=AF23 -> TRUE | W23: 617 | X23: DOKAN | Y23: CARLOS EIITI | Z23: M | AA23: 01. PIE | AB23: 22800 | AC23: A-NSR | AD23: LIB2026
A24: 653 | B24: TAKAMUNE | C24: ATSUSHI | D24: M | E24: 01. PIE | F24: 16893 | G24: 8 | H24: B-SR | I24: LIB2026 | L24: =A24=W24 -> TRUE | M24: =B24=X24 -> TRUE | N24: =C24=Y24 -> TRUE | O24: =D24=Z24 -> TRUE | P24: =E24=AA24 -> TRUE | Q24: =F24=AB24 -> TRUE | R24: =G24=AC24 -> FALSE | S24: =H24=AD24 -> FALSE | ... U24: =J24=AF24 -> TRUE | W24: 653 | X24: TAKAMUNE | Y24: ATSUSHI | Z24: M | AA24: 01. PIE | AB24: 16893 | AC24: B-SR | AD24: LIB2026
A25: 694 | B25: MISHIMA | C25: JUNITI | D25: M | E25: 01. PIE | F25: 18652 | G25: 12 | H25: C-SR | I25: LIB2026 | L25: =A25=W25 -> TRUE | M25: =B25=X25 -> TRUE | N25: =C25=Y25 -> TRUE | O25: =D25=Z25 -> TRUE | P25: =E25=AA25 -> TRUE | Q25: =F25=AB25 -> TRUE | R25: =G25=AC25 -> FALSE | S25: =H25=AD25 -> FALSE | ... U25: =J25=AF25 -> TRUE | W25: 694 | X25: MISHIMA | Y25: JUNITI | Z25: M | AA25: 01. PIE | AB25: 18652 | AC25: C-SR | AD25: LIB2026
A26: 699 | B26: MISOBUSHI | C26: ARMANDO KOMI | D26: M | E26: 01. PIE | F26: 21065 | G26: 11 | H26: C-NSR | I26: LIB2026 | L26: =A26=W26 -> TRUE | M26: =B26=X26 -> TRUE | N26: =C26=Y26 -> TRUE | O26: =D26=Z26 -> TRUE | P26: =E26=AA26 -> TRUE | Q26: =F26=AB26 -> TRUE | R26: =G26=AC26 -> FALSE | S26: =H26=AD26 -> FALSE | ... U26: =J26=AF26 -> TRUE | W26: 699 | X26: MISOBUSHI | Y26: ARMANDO KOMI | Z26: M | AA26: 01. PIE | AB26: 21065 | AC26: C-NSR | AD26: LIB2026
A27: 700 | B27: TAKAMUNE MISOBUSHI | C27: JURACI HIROKO | D27: F | E27: 01. PIE | F27: 21779 | G27: 12 | H27: C-NSR | I27: LIB2026 | L27: =A27=W27 -> TRUE | M27: =B27=X27 -> TRUE | N27: =C27=Y27 -> TRUE | O27: =D27=Z27 -> TRUE | P27: =E27=AA27 -> TRUE | Q27: =F27=AB27 -> TRUE | R27: =G27=AC27 -> FALSE | S27: =H27=AD27 -> FALSE | ... U27: =J27=AF27 -> TRUE | W27: 700 | X27: TAKAMUNE MISOBUSHI | Y27: JURACI HIROKO | Z27: F | AA27: 01. PIE | AB27: 21779 | AC27: C-NSR | AD27: LIB2026
A28: 744 | B28: UEMURA | C28: JORGE | D28: M | E28: 01. PIE | F28: 29247 | G28: 9 | H28: B-NSR | I28: LIB2026 | L28: =A28=W28 -> TRUE | M28: =B28=X28 -> TRUE | N28: =C28=Y28 -> TRUE | O28: =D28=Z28 -> TRUE | P28: =E28=AA28 -> TRUE | Q28: =F28=AB28 -> TRUE | R28: =G28=AC28 -> FALSE | S28: =H28=AD28 -> FALSE | ... U28: =J28=AF28 -> TRUE | W28: 744 | X28: UEMURA | Y28: JORGE | Z28: M | AA28: 01. PIE | AB28: 29247 | AC28: B-NSR | AD28: LIB2026
A29: 763 | B29: ANTAL MASUDA | C29: RODRIGO YUJI | D29: M | E29: 01. PIE | F29: 41082 | G29: 12 | H29: C-NSR | I29: LIB2026 | L29: =A29=W29 -> TRUE | M29: =B29=X29 -> TRUE | N29: =C29=Y29 -> TRUE | O29: =D29=Z29 -> TRUE | P29: =E29=AA29 -> TRUE | Q29: =F29=AB29 -> TRUE | R29: =G29=AC29 -> FALSE | S29: =H29=AD29 -> FALSE | ... U29: =J29=AF29 -> TRUE | W29: 763 | X29: ANTAL MASUDA | Y29: RODRIGO YUJI | Z29: M | AA29: 01. PIE | AB29: 41082 | AC29: C-NSR | AD29: LIB2026
A30: 764 | B30: ISHIHARA | C30: HILTON HARUAKI | D30: M | E30: 01. PIE | F30: 41116 | G30: 12 | H30: C-NSR | I30: LIB2026 | L30: =A30=W30 -> TRUE | M30: =B30=X30 -> TRUE | N30: =C30=Y30 -> TRUE | O30: =D30=Z30 -> TRUE | P30: =E30=AA30 -> TRUE | Q30: =F30=AB30 -> TRUE | R30: =G30=AC30 -> FALSE | S30: =H30=AD30 -> FALSE | ... U30: =J30=AF30 -> TRUE | W30: 764 | X30: ISHIHARA | Y30: HILTON HARUAKI | Z30: M | AA30: 01. PIE | AB30: 41116 | AC30: C-NSR | AD30: LIB2026
A31: 866 | B31: SAKAGUTI | C31: MARIO | D31: M | E31: 01. PIE | F31: 28572 | G31: 5 | H31: A-NSR | I31: LIB2026 | L31: =A31=W31 -> TRUE | M31: =B31=X31 -> TRUE | N31: =C31=Y31 -> TRUE | O31: =D31=Z31 -> TRUE | P31: =E31=AA31 -> TRUE | Q31: =F31=AB31 -> TRUE | R31: =G31=AC31 -> FALSE | S31: =H31=AD31 -> FALSE | ... U31: =J31=AF31 -> TRUE | W31: 866 | X31: SAKAGUTI | Y31: MARIO | Z31: M | AA31: 01. PIE | AB31: 28572 | AC31: A-NSR | AD31: LIB2026
A32: 876 | B32: DE MELO DE JESUS | C32: BRUNO | D32: M | E32: 01. PIE | F32: 34349 | G32: 4 | H32: A-NSR | I32: LIB2026 | L32: =A32=W32 -> TRUE | M32: =B32=X32 -> TRUE | N32: =C32=Y32 -> TRUE | O32: =D32=Z32 -> TRUE | P32: =E32=AA32 -> TRUE | Q32: =F32=AB32 -> TRUE | R32: =G32=AC32 -> FALSE | S32: =H32=AD32 -> FALSE | ... U32: =J32=AF32 -> TRUE | W32: 876 | X32: DE MELO DE JESUS | Y32: BRUNO | Z32: M | AA32: 01. PIE | AB32: 34349 | AC32: A-NSR | AD32: LIB2026
A33: 917 | B33: SAKAGUTI KAWANAKA | C33: YOUKO | D33: F | E33: 01. PIE | F33: 18970 | G33: 12 | H33: C-SR | I33: LIB2026 | L33: =A33=W33 -> TRUE | M33: =B33=X33 -> TRUE | N33: =C33=Y33 -> TRUE | O33: =D33=Z33 -> TRUE | P33: =E33=AA33 -> TRUE | Q33: =F33=AB33 -> TRUE | R33: =G33=AC33 -> FALSE | S33: =H33=AD33 -> FALSE | ... U33: =J33=AF33 -> TRUE | W33: 917 | X33: SAKAGUTI KAWANAKA | Y33: YOUKO | Z33: F | AA33: 01. PIE | AB33: 18970 | AC33: C-SR | AD33: LIB2026
A34: 958 | B34: NUNES | C34: MARIA HELENA | D34: F | E34: 01. PIE | F34: 16884 | G34: 12 | H34: C-SR | I34: LIB2026 | L34: =A34=W34 -> TRUE | M34: =B34=X34 -> TRUE | N34: =C34=Y34 -> TRUE | O34: =D34=Z34 -> TRUE | P34: =E34=AA34 -> TRUE | Q34: =F34=AB34 -> TRUE | R34: =G34=AC34 -> FALSE | S34: =H34=AD34 -> FALSE | ... U34: =J34=AF34 -> TRUE | W34: 958 | X34: NUNES | Y34: MARIA HELENA | Z34: F | AA34: 01. PIE | AB34: 16884 | AC34: C-SR | AD34: LIB2026
A35: 976 | B35: MORI | C35: SADAO | D35: M | E35: 01. PIE | F35: 19729 | G35: 8 | H35: B-NSR | I35: LIB2026 | L35: =A35=W35 -> TRUE | M35: =B35=X35 -> TRUE | N35: =C35=Y35 -> TRUE | O35: =D35=Z35 -> TRUE | P35: =E35=AA35 -> TRUE | Q35: =F35=AB35 -> TRUE | R35: =G35=AC35 -> FALSE | S35: =H35=AD35 -> FALSE | ... U35: =J35=AF35 -> TRUE | W35: 976 | X35: MORI | Y35: SADAO | Z35: M | AA35: 01. PIE | AB35: 19729 | AC35: B-NSR | AD35: LIB2026
A36: 991 | B36: KANAI | C36: MICHIO | D36: M | E36: 01. PIE | F36: 19641 | G36: 1 | H36: EX-NSR | I36: LIB2026 | L36: =A36=W36 -> TRUE | M36: =B36=X36 -> TRUE | N36: =C36=Y36 -> TRUE | O36: =D36=Z36 -> TRUE | P36: =E36=AA36 -> TRUE | Q36: =F36=AB36 -> TRUE | R36: =G36=AC36 -> FALSE | S36: =H36=AD36 -> FALSE | ... U36: =J36=AF36 -> TRUE | W36: 991 | X36: KANAI | Y36: MICHIO | Z36: M | AA36: 01. PIE | AB36: 19641 | AC36: EX-NSR | AD36: LIB2026
A37: 001 | B37: SAITO | C37: ISSAO | D37: M | E37: 03. IBI | F37: 14862 | G37: 12 | H37: C-MR | I37: LIB2026 | L37: =A37=W37 -> TRUE | M37: =B37=X37 -> TRUE | N37: =C37=Y37 -> TRUE | O37: =D37=Z37 -> TRUE | P37: =E37=AA37 -> TRUE | Q37: =F37=AB37 -> TRUE | R37: =G37=AC37 -> FALSE | S37: =H37=AD37 -> FALSE | ... U37: =J37=AF37 -> TRUE | W37: 001 | X37: SAITO | Y37: ISSAO | Z37: M | AA37: 03. IBI | AB37: 14862 | AC37: C-MR | AD37: LIB2026
... A39: 010 | B39: FURUYA | C39: ISAO | D39: M | E39: 03. IBI | F39: 14983 | G39: 3 | H39: EX-MR | I39: LIB2026 | L39: =A39=W39 -> TRUE | M39: =B39=X39 -> TRUE | N39: =C39=Y39 -> TRUE | O39: =D39=Z39 -> TRUE | P39: =E39=AA39 -> TRUE | Q39: =F39=AB39 -> TRUE | R39: =G39=AC39 -> FALSE | S39: =H39=AD39 -> FALSE | ... U39: =J39=AF39 -> TRUE | W39: 010 | X39: FURUYA | Y39: ISAO | Z39: M | AA39: 03. IBI | AB39: 14983 | AC39: EX-MR | AD39: LIB2026
A40: 11 | B40: FURUYA | C40: AYAKO | D40: F | E40: 03. IBI | F40: 17976 | G40: 7 | H40: B-SR | I40: LIB2026 | L40: =A40=W40 -> TRUE | M40: =B40=X40 -> TRUE | N40: =C40=Y40 -> TRUE | O40: =D40=Z40 -> TRUE | P40: =E40=AA40 -> TRUE | Q40: =F40=AB40 -> TRUE | R40: =G40=AC40 -> FALSE | S40: =H40=AD40 -> FALSE | ... U40: =J40=AF40 -> TRUE | W40: 11 | X40: FURUYA | Y40: AYAKO | Z40: F | AA40: 03. IBI | AB40: 17976 | AC40: B-SR | AD40: LIB2026
A41: 012 | B41: SHIMIZU | C41: HIDEO | D41: M | E41: 03. IBI | F41: 15076 | G41: 9 | H41: B-MR | I41: LIB2026 | L41: =A41=W41 -> TRUE | M41: =B41=X41 -> TRUE | N41: =C41=Y41 -> TRUE | O41: =D41=Z41 -> TRUE | P41: =E41=AA41 -> TRUE | Q41: =F41=AB41 -> TRUE | R41: =G41=AC41 -> FALSE | S41: =H41=AD41 -> FALSE | ... U41: =J41=AF41 -> TRUE | W41: 012 | X41: SHIMIZU | Y41: HIDEO | Z41: M | AA41: 03. IBI | AB41: 15076 | AC41: B-MR | AD41: LIB2026
A42: 017 | B42: SHIMOYAMA | C42: KAZUKO | D42: F | E42: 03. IBI | F42: 14507 | G42: 8 | H42: B-MR | I42: LIB2026 | L42: =A42=W42 -> TRUE | M42: =B42=X42 -> TRUE | N42: =C42=Y42 -> TRUE | O42: =D42=Z42 -> TRUE | P42: =E42=AA42 -> TRUE | Q42: =F42=AB42 -> TRUE | R42: =G42=AC42 -> FALSE | S42: =H42=AD42 -> FALSE | ... U42: =J42=AF42 -> TRUE | W42: 017 | X42: SHIMOYAMA | Y42: KAZUKO | Z42: F | AA42: 03. IBI | AB42: 14507 | AC42: B-MR | AD42: LIB2026
A43: 019 | B43: YOSHIZUMI | C43: MASARU | D43: M | E43: 03. IBI | F43: 11650 | G43: 7 | H43: B-MR | I43: LIB2026i | L43: =A43=W43 -> TRUE | M43: =B43=X43 -> TRUE | N43: =C43=Y43 -> TRUE | O43: =D43=Z43 -> TRUE | P43: =E43=AA43 -> TRUE | Q43: =F43=AB43 -> TRUE | R43: =G43=AC43 -> FALSE | S43: =H43=AD43 -> FALSE | ... U43: =J43=AF43 -> TRUE | W43: 019 | X43: YOSHIZUMI | Y43: MASARU | Z43: M | AA43: 03. IBI | AB43: 11650 | AC43: B-MR | AD43: LIB2026i
A44: 022 | B44: MIYAJI | C44: SETSUKO | D44: F | E44: 03. IBI | F44: 16538 | G44: 12 | H44: C-SR | I44: LIB2026 | L44: =A44=W44 -> TRUE | M44: =B44=X44 -> TRUE | N44: =C44=Y44 -> TRUE | O44: =D44=Z44 -> TRUE | P44: =E44=AA44 -> TRUE | Q44: =F44=AB44 -> TRUE | R44: =G44=AC44 -> FALSE | S44: =H44=AD44 -> FALSE | ... U44: =J44=AF44 -> TRUE | W44: 022 | X44: MIYAJI | Y44: SETSUKO | Z44: F | AA44: 03. IBI | AB44: 16538 | AC44: C-SR | AD44: LIB2026
A45: 037 | B45: UCHIMURA | C45: HISAO | D45: M | E45: 03. IBI | F45: 10971 | G45: 6 | H45: A-MR | I45: LIB2026i | L45: =A45=W45 -> TRUE | M45: =B45=X45 -> TRUE | N45: =C45=Y45 -> TRUE | O45: =D45=Z45 -> TRUE | P45: =E45=AA45 -> TRUE | Q45: =F45=AB45 -> TRUE | R45: =G45=AC45 -> FALSE | S45: =H45=AD45 -> FALSE | ... U45: =J45=AF45 -> TRUE | W45: 037 | X45: UCHIMURA | Y45: HISAO | Z45: M | AA45: 03. IBI | AB45: 10971 | AC45: A-MR | AD45: LIB2026i
A46: 055 | B46: OZAKI | C46: MIE | D46: F | E46: 03. IBI | F46: 15211 | G46: 5 | H46: A-MR | I46: LIB2026 | L46: =A46=W46 -> TRUE | M46: =B46=X46 -> TRUE | N46: =C46=Y46 -> TRUE | O46: =D46=Z46 -> TRUE | P46: =E46=AA46 -> TRUE | Q46: =F46=AB46 -> TRUE | R46: =G46=AC46 -> FALSE | S46: =H46=AD46 -> FALSE | ... U46: =J46=AF46 -> TRUE | W46: 055 | X46: OZAKI | Y46: MIE | Z46: F | AA46: 03. IBI | AB46: 15211 | AC46: A-MR | AD46: LIB2026
...

Sheet Insc.
A1: 900 | B1: =IF(A1:A1>0,VLOOKUP(A1,Fed.!$A$2:$J$1973,2,FALSE)," ") -> OGATA | C1: =IF(A1:A1>0,VLOOKUP(A1,Fed.!$A$2:$J$1973,3,FALSE)," ") -> MITIKO | D1: =IF(A1:A1>0,VLOOKUP(A1,Fed.!$A$2:$J$1973,4,FALSE)," ") -> F | E1: =IF(A1:A1>0,VLOOKUP(A1,Fed.!$A$2:$J$1973,5,FALSE)," ") -> 12. COO | F1: =IF(A1:A1>0,VLOOKUP(A1,Fed.!$A$2:$J$1973,6,FALSE)," ") -> 20316 | G1: =IF(A1:A1>0,VLOOKUP(A1,Fed.!$A$2:$J$1973,7,FALSE)," ") -> 9 | H1: =IF(A1:A1>0,VLOOKUP(A1,Fed.!$A$2:$J$1973,8,FALSE)," ") -> B-NSR | I1: =IF(A1:A1>0,VLOOKUP(A1,Fed.!$A$2:$J$1973,9,FALSE)," ") -> LIB2026 | J1: =IF(A1:A1>0,VLOOKUP(A1,Fed.!$A$2:$J$1973,10,FALSE)," ") -> 0
A2: 899 | B2: =IF(A2:A2>0,VLOOKUP(A2,Fed.!$A$2:$J$1973,2,FALSE)," ") -> OGATA | C2: =IF(A2:A2>0,VLOOKUP(A2,Fed.!$A$2:$J$1973,3,FALSE)," ") -> YOSHITAKA | D2: =IF(A2:A2>0,VLOOKUP(A2,Fed.!$A$2:$J$1973,4,FALSE)," ") -> M | E2: =IF(A2:A2>0,VLOOKUP(A2,Fed.!$A$2:$J$1973,5,FALSE)," ") -> 12. COO | F2: =IF(A2:A2>0,VLOOKUP(A2,Fed.!$A$2:$J$1973,6,FALSE)," ") -> 16971 | G2: =IF(A2:A2>0,VLOOKUP(A2,Fed.!$A$2:$J$1973,7,FALSE)," ") -> 7 | H2: =IF(A2:A2>0,VLOOKUP(A2,Fed.!$A$2:$J$1973,8,FALSE)," ") -> B-SR | I2: =IF(A2:A2>0,VLOOKUP(A2,Fed.!$A$2:$J$1973,9,FALSE)," ") -> LIB2026 | J2: =IF(A2:A2>0,VLOOKUP(A2,Fed.!$A$2:$J$1973,10,FALSE)," ") -> 0
A3: 527 | B3: =IF(A3:A3>0,VLOOKUP(A3,Fed.!$A$2:$J$1973,2,FALSE)," ") -> KONDO | C3: =IF(A3:A3>0,VLOOKUP(A3,Fed.!$A$2:$J$1973,3,FALSE)," ") -> JORGE | D3: =IF(A3:A3>0,VLOOKUP(A3,Fed.!$A$2:$J$1973,4,FALSE)," ") -> M | E3: =IF(A3:A3>0,VLOOKUP(A3,Fed.!$A$2:$J$1973,5,FALSE)," ") -> 12. COO | F3: =IF(A3:A3>0,VLOOKUP(A3,Fed.!$A$2:$J$1973,6,FALSE)," ") -> 16542 | G3: =IF(A3:A3>0,VLOOKUP(A3,Fed.!$A$2:$J$1973,7,FALSE)," ") -> 3 | H3: =IF(A3:A3>0,VLOOKUP(A3,Fed.!$A$2:$J$1973,8,FALSE)," ") -> EX-SR | I3: =IF(A3:A3>0,VLOOKUP(A3,Fed.!$A$2:$J$1973,9,FALSE)," ") -> LIB2026 | J3: =IF(A3:A3>0,VLOOKUP(A3,Fed.!$A$2:$J$1973,10,FALSE)," ") -> 0
A4: 642 | B4: =IF(A4:A4>0,VLOOKUP(A4,Fed.!$A$2:$J$1973,2,FALSE)," ") -> TAKAHASHI | C4: =IF(A4:A4>0,VLOOKUP(A4,Fed.!$A$2:$J$1973,3,FALSE)," ") -> KATUMI | D4: =IF(A4:A4>0,VLOOKUP(A4,Fed.!$A$2:$J$1973,4,FALSE)," ") -> F | E4: =IF(A4:A4>0,VLOOKUP(A4,Fed.!$A$2:$J$1973,5,FALSE)," ") -> 12. COO | F4: =IF(A4:A4>0,VLOOKUP(A4,Fed.!$A$2:$J$1973,6,FALSE)," ") -> 16757 | G4: =IF(A4:A4>0,VLOOKUP(A4,Fed.!$A$2:$J$1973,7,FALSE)," ") -> 9 | H4: =IF(A4:A4>0,VLOOKUP(A4,Fed.!$A$2:$J$1973,8,FALSE)," ") -> B-SR | I4: =IF(A4:A4>0,VLOOKUP(A4,Fed.!$A$2:$J$1973,9,FALSE)," ") -> LIB2026 | J4: =IF(A4:A4>0,VLOOKUP(A4,Fed.!$A$2:$J$1973,10,FALSE)," ") -> 0
A5: 884 | B5: =IF(A5:A5>0,VLOOKUP(A5,Fed.!$A$2:$J$1973,2,FALSE)," ") -> KODA | C5: =IF(A5:A5>0,VLOOKUP(A5,Fed.!$A$2:$J$1973,3,FALSE)," ") -> MASAO | D5: =IF(A5:A5>0,VLOOKUP(A5,Fed.!$A$2:$J$1973,4,FALSE)," ") -> M | E5: =IF(A5:A5>0,VLOOKUP(A5,Fed.!$A$2:$J$1973,5,FALSE)," ") -> 12. COO | F5: =IF(A5:A5>0,VLOOKUP(A5,Fed.!$A$2:$J$1973,6,FALSE)," ") -> 16228 | G5: =IF(A5:A5>0,VLOOKUP(A5,Fed.!$A$2:$J$1973,7,FALSE)," ") -> 7 | H5: =IF(A5:A5>0,VLOOKUP(A5,Fed.!$A$2:$J$1973,8,FALSE)," ") -> B-SR | I5: =IF(A5:A5>0,VLOOKUP(A5,Fed.!$A$2:$J$1973,9,FALSE)," ") -> LIB2026 | J5: =IF(A5:A5>0,VLOOKUP(A5,Fed.!$A$2:$J$1973,10,FALSE)," ") -> 0
A6: 495 | B6: =IF(A6:A6>0,VLOOKUP(A6,Fed.!$A$2:$J$1973,2,FALSE)," ") -> SHIMANOE | C6: =IF(A6:A6>0,VLOOKUP(A6,Fed.!$A$2:$J$1973,3,FALSE)," ") -> PAULO MASSATO | D6: =IF(A6:A6>0,VLOOKUP(A6,Fed.!$A$2:$J$1973,4,FALSE)," ") -> M | E6: =IF(A6:A6>0,VLOOKUP(A6,Fed.!$A$2:$J$1973,5,FALSE)," ") -> 12. COO | F6: =IF(A6:A6>0,VLOOKUP(A6,Fed.!$A$2:$J$1973,6,FALSE)," ") -> 18911 | G6: =IF(A6:A6>0,VLOOKUP(A6,Fed.!$A$2:$J$1973,7,FALSE)," ") -> 9 | H6: =IF(A6:A6>0,VLOOKUP(A6,Fed.!$A$2:$J$1973,8,FALSE)," ") -> B-SR | I6: =IF(A6:A6>0,VLOOKUP(A6,Fed.!$A$2:$J$1973,9,FALSE)," ") -> LIB2026 | J6: =IF(A6:A6>0,VLOOKUP(A6,Fed.!$A$2:$J$1973,10,FALSE)," ") -> 0
A7: 815 | B7: =IF(A7:A7>0,VLOOKUP(A7,Fed.!$A$2:$J$1973,2,FALSE)," ") -> KUADA | C7: =IF(A7:A7>0,VLOOKUP(A7,Fed.!$A$2:$J$1973,3,FALSE)," ") -> TEREZINHA ARICO | D7: =IF(A7:A7>0,VLOOKUP(A7,Fed.!$A$2:$J$1973,4,FALSE)," ") -> F | E7: =IF(A7:A7>0,VLOOKUP(A7,Fed.!$A$2:$J$1973,5,FALSE)," ") -> 12. COO | F7: =IF(A7:A7>0,VLOOKUP(A7,Fed.!$A$2:$J$1973,6,FALSE)," ") -> 19916 | G7: =IF(A7:A7>0,VLOOKUP(A7,Fed.!$A$2:$J$1973,7,FALSE)," ") -> 9 | H7: =IF(A7:A7>0,VLOOKUP(A7,Fed.!$A$2:$J$1973,8,FALSE)," ") -> B-NSR | I7: =IF(A7:A7>0,VLOOKUP(A7,Fed.!$A$2:$J$1973,9,FALSE)," ") -> LIB2026 | J7: =IF(A7:A7>0,VLOOKUP(A7,Fed.!$A$2:$J$1973,10,FALSE)," ") -> 0
A8: 903 | B8: =IF(A8:A8>0,VLOOKUP(A8,Fed.!$A$2:$J$1973,2,FALSE)," ") -> NAGATA | C8: =IF(A8:A8>0,VLOOKUP(A8,Fed.!$A$2:$J$1973,3,FALSE)," ") -> AROLDO KOJI | D8: =IF(A8:A8>0,VLOOKUP(A8,Fed.!$A$2:$J$1973,4,FALSE)," ") -> M | E8: =IF(A8:A8>0,VLOOKUP(A8,Fed.!$A$2:$J$1973,5,FALSE)," ") -> 12. COO | F8: =IF(A8:A8>0,VLOOKUP(A8,Fed.!$A$2:$J$1973,6,FALSE)," ") -> 27807 | G8: =IF(A8:A8>0,VLOOKUP(A8,Fed.!$A$2:$J$1973,7,FALSE)," ") -> 5 | H8: =IF(A8:A8>0,VLOOKUP(A8,Fed.!$A$2:$J$1973,8,FALSE)," ") -> A-NSR | I8: =IF(A8:A8>0,VLOOKUP(A8,Fed.!$A$2:$J$1973,9,FALSE)," ") -> LIB2026 | J8: =IF(A8:A8>0,VLOOKUP(A8,Fed.!$A$2:$J$1973,10,FALSE)," ") -> 0
A9: 446 | B9: =IF(A9:A9>0,VLOOKUP(A9,Fed.!$A$2:$J$1973,2,FALSE)," ") -> NAGATA | C9: =IF(A9:A9>0,VLOOKUP(A9,Fed.!$A$2:$J$1973,3,FALSE)," ") -> MASARU | D9: =IF(A9:A9>0,VLOOKUP(A9,Fed.!$A$2:$J$1973,4,FALSE)," ") -> M | E9: =IF(A9:A9>0,VLOOKUP(A9,Fed.!$A$2:$J$1973,5,FALSE)," ") -> 12. COO | F9: =IF(A9:A9>0,VLOOKUP(A9,Fed.!$A$2:$J$1973,6,FALSE)," ") -> 14590 | G9: =IF(A9:A9>0,VLOOKUP(A9,Fed.!$A$2:$J$1973,7,FALSE)," ") -> 9 | H9: =IF(A9:A9>0,VLOOKUP(A9,Fed.!$A$2:$J$1973,8,FALSE)," ") -> B-MR | I9: =IF(A9:A9>0,VLOOKUP(A9,Fed.!$A$2:$J$1973,9,FALSE)," ") -> LIB2026 | J9: =IF(A9:A9>0,VLOOKUP(A9,Fed.!$A$2:$J$1973,10,FALSE)," ") -> 0
A10: 870 | B10: =IF(A10:A10>0,VLOOKUP(A10,Fed.!$A$2:$J$1973,2,FALSE)," ") -> SAKAE HAMADA | C10: =IF(A10:A10>0,VLOOKUP(A10,Fed.!$A$2:$J$1973,3,FALSE)," ") -> FLORINDA G. | D10: =IF(A10:A10>0,VLOOKUP(A10,Fed.!$A$2:$J$1973,4,FALSE)," ") -> F | E10: =IF(A10:A10>0,VLOOKUP(A10,Fed.!$A$2:$J$1973,5,FALSE)," ") -> 12. COO | F10: =IF(A10:A10>0,VLOOKUP(A10,Fed.!$A$2:$J$1973,6,FALSE)," ") -> 17286 | G10: =IF(A10:A10>0,VLOOKUP(A10,Fed.!$A$2:$J$1973,7,FALSE)," ") -> 12 | H10: =IF(A10:A10>0,VLOOKUP(A10,Fed.!$A$2:$J$1973,8,FALSE)," ") -> C-SR | I10: =IF(A10:A10>0,VLOOKUP(A10,Fed.!$A$2:$J$1973,9,FALSE)," ") -> LIB2026 | J10: =IF(A10:A10>0,VLOOKUP(A10,Fed.!$A$2:$J$1973,10,FALSE)," ") -> 0
A11: 871 | B11: =IF(A11:A11>0,VLOOKUP(A11,Fed.!$A$2:$J$1973,2,FALSE)," ") -> YASSUDA | C11: =IF(A11:A11>0,VLOOKUP(A11,Fed.!$A$2:$J$1973,3,FALSE)," ") -> LENITA NOBUKO | D11: =IF(A11:A11>0,VLOOKUP(A11,Fed.!$A$2:$J$1973,4,FALSE)," ") -> F | E11: =IF(A11:A11>0,VLOOKUP(A11,Fed.!$A$2:$J$1973,5,FALSE)," ") -> 12. COO | F11: =IF(A11:A11>0,VLOOKUP(A11,Fed.!$A$2:$J$1973,6,FALSE)," ") -> 16949 | G11: =IF(A11:A11>0,VLOOKUP(A11,Fed.!$A$2:$J$1973,7,FALSE)," ") -> 12 | H11: =IF(A11:A11>0,VLOOKUP(A11,Fed.!$A$2:$J$1973,8,FALSE)," ") -> C-SR | I11: =IF(A11:A11>0,VLOOKUP(A11,Fed.!$A$2:$J$1973,9,FALSE)," ") -> LIB2026 | J11: =IF(A11:A11>0,VLOOKUP(A11,Fed.!$A$2:$J$1973,10,FALSE)," ") -> 0
A12: 540 | B12: =IF(A12:A12>0,VLOOKUP(A12,Fed.!$A$2:$J$1973,2,FALSE)," ") -> ANZAI | C12: =IF(A12:A12>0,VLOOKUP(A12,Fed.!$A$2:$J$1973,3,FALSE)," ") -> YOSHIO | D12: =IF(A12:A12>0,VLOOKUP(A12,Fed.!$A$2:$J$1973,4,FALSE)," ") -> M | E12: =IF(A12:A12>0,VLOOKUP(A12,Fed.!$A$2:$J$1973,5,FALSE)," ") -> 12. COO | F12: =IF(A12:A12>0,VLOOKUP(A12,Fed.!$A$2:$J$1973,6,FALSE)," ") -> 17424 | G12: =IF(A12:A12>0,VLOOKUP(A12,Fed.!$A$2:$J$1973,7,FALSE)," ") -> 12 | H12: =IF(A12:A12>0,VLOOKUP(A12,Fed.!$A$2:$J$1973,8,FALSE)," ") -> C-SR | I12: =IF(A12:A12>0,VLOOKUP(A12,Fed.!$A$2:$J$1973,9,FALSE)," ") -> LIB2026 | J12: =IF(A12:A12>0,VLOOKUP(A12,Fed.!$A$2:$J$1973,10,FALSE)," ") -> 0
A13: 769 | B13: =IF(A13:A13>0,VLOOKUP(A13,Fed.!$A$2:$J$1973,2,FALSE)," ") -> SOTOTUKA | C13: =IF(A13:A13>0,VLOOKUP(A13,Fed.!$A$2:$J$1973,3,FALSE)," ") -> MASSAHIKO | D13: =IF(A13:A13>0,VLOOKUP(A13,Fed.!$A$2:$J$1973,4,FALSE)," ") -> M | E13: =IF(A13:A13>0,VLOOKUP(A13,Fed.!$A$2:$J$1973,5,FALSE)," ") -> 12. COO | F13: =IF(A13:A13>0,VLOOKUP(A13,Fed.!$A$2:$J$1973,6,FALSE)," ") -> 17868 | G13: =IF(A13:A13>0,VLOOKUP(A13,Fed.!$A$2:$J$1973,7,FALSE)," ") -> 9 | H13: =IF(A13:A13>0,VLOOKUP(A13,Fed.!$A$2:$J$1973,8,FALSE)," ") -> B-SR | I13: =IF(A13:A13>0,VLOOKUP(A13,Fed.!$A$2:$J$1973,9,FALSE)," ") -> LIB2026 | J13: =IF(A13:A13>0,VLOOKUP(A13,Fed.!$A$2:$J$1973,10,FALSE)," ") -> 0
... A19: 270 | B19: =IF(A19:A19>0,VLOOKUP(A19,Fed.!$A$2:$J$1973,2,FALSE)," ") -> NOZAWA | C19: =IF(A19:A19>0,VLOOKUP(A19,Fed.!$A$2:$J$1973,3,FALSE)," ") -> ASSAMI | D19: =IF(A19:A19>0,VLOOKUP(A19,Fed.!$A$2:$J$1973,4,FALSE)," ") -> F | E19: =IF(A19:A19>0,VLOOKUP(A19,Fed.!$A$2:$J$1973,5,FALSE)," ") -> 06. KOK | F19: =IF(A19:A19>0,VLOOKUP(A19,Fed.!$A$2:$J$1973,6,FALSE)," ") -> 23351 | G19: =IF(A19:A19>0,VLOOKUP(A19,Fed.!$A$2:$J$1973,7,FALSE)," ") -> 12 | H19: =IF(A19:A19>0,VLOOKUP(A19,Fed.!$A$2:$J$1973,8,FALSE)," ") -> C-NSR | I19: =IF(A19:A19>0,VLOOKUP(A19,Fed.!$A$2:$J$1973,9,FALSE)," ") -> LIB2026 | J19: =IF(A19:A19>0,VLOOKUP(A19,Fed.!$A$2:$J$1973,10,FALSE)," ") -> 0
A20: 709 | B20: =IF(A20:A20>0,VLOOKUP(A20,Fed.!$A$2:$J$1973,2,FALSE)," ") -> MADUREIRA | C20: =IF(A20:A20>0,VLOOKUP(A20,Fed.!$A$2:$J$1973,3,FALSE)," ") -> CESAR AUGUSTO | D20: =IF(A20:A20>0,VLOOKUP(A20,Fed.!$A$2:$J$1973,4,FALSE)," ") -> M | E20: =IF(A20:A20>0,VLOOKUP(A20,Fed.!$A$2:$J$1973,5,FALSE)," ") -> 06. KOK | F20: =IF(A20:A20>0,VLOOKUP(A20,Fed.!$A$2:$J$1973,6,FALSE)," ") -> 19956 | G20: =IF(A20:A20>0,VLOOKUP(A20,Fed.!$A$2:$J$1973,7,FALSE)," ") -> 12 | H20: =IF(A20:A20>0,VLOOKUP(A20,Fed.!$A$2:$J$1973,8,FALSE)," ") -> C-NSR | I20: =IF(A20:A20>0,VLOOKUP(A20,Fed.!$A$2:$J$1973,9,FALSE)," ") -> LIB2026 | J20: =IF(A20:A20>0,VLOOKUP(A20,Fed.!$A$2:$J$1973,10,FALSE)," ") -> 0
A21: 673 | B21: =IF(A21:A21>0,VLOOKUP(A21,Fed.!$A$2:$J$1973,2,FALSE)," ") -> KADOWAKI | C21: =IF(A21:A21>0,VLOOKUP(A21,Fed.!$A$2:$J$1973,3,FALSE)," ") -> SUELY | D21: =IF(A21:A21>0,VLOOKUP(A21,Fed.!$A$2:$J$1973,4,FALSE)," ") -> F | E21: =IF(A21:A21>0,VLOOKUP(A21,Fed.!$A$2:$J$1973,5,FALSE)," ") -> 06. KOK | F21: =IF(A21:A21>0,VLOOKUP(A21,Fed.!$A$2:$J$1973,6,FALSE)," ") -> 20147 | G21: =IF(A21:A21>0,VLOOKUP(A21,Fed.!$A$2:$J$1973,7,FALSE)," ") -> 12 | H21: =IF(A21:A21>0,VLOOKUP(A21,Fed.!$A$2:$J$1973,8,FALSE)," ") -> C-NSR | I21: =IF(A21:A21>0,VLOOKUP(A21,Fed.!$A$2:$J$1973,9,FALSE)," ") -> LIB2026 | J21: =IF(A21:A21>0,VLOOKUP(A21,Fed.!$A$2:$J$1973,10,FALSE)," ") -> 0
A22: 672 | B22: =IF(A22:A22>0,VLOOKUP(A22,Fed.!$A$2:$J$1973,2,FALSE)," ") -> FUKUZAWA | C22: =IF(A22:A22>0,VLOOKUP(A22,Fed.!$A$2:$J$1973,3,FALSE)," ") -> ISAURA | D22: =IF(A22:A22>0,VLOOKUP(A22,Fed.!$A$2:$J$1973,4,FALSE)," ") -> F | E22: =IF(A22:A22>0,VLOOKUP(A22,Fed.!$A$2:$J$1973,5,FALSE)," ") -> 06. KOK | F22: =IF(A22:A22>0,VLOOKUP(A22,Fed.!$A$2:$J$1973,6,FALSE)," ") -> 19670 | G22: =IF(A22:A22>0,VLOOKUP(A22,Fed.!$A$2:$J$1973,7,FALSE)," ") -> 8 | H22: =IF(A22:A22>0,VLOOKUP(A22,Fed.!$A$2:$J$1973,8,FALSE)," ") -> B-NSR | I22: =IF(A22:A22>0,VLOOKUP(A22,Fed.!$A$2:$J$1973,9,FALSE)," ") -> LIB2026 | J22: =IF(A22:A22>0,VLOOKUP(A22,Fed.!$A$2:$J$1973,10,FALSE)," ") -> 0
A23: 670 | B23: =IF(A23:A23>0,VLOOKUP(A23,Fed.!$A$2:$J$1973,2,FALSE)," ") -> FUKUZAWA | C23: =IF(A23:A23>0,VLOOKUP(A23,Fed.!$A$2:$J$1973,3,FALSE)," ") -> AKIRA | D23: =IF(A23:A23>0,VLOOKUP(A23,Fed.!$A$2:$J$1973,4,FALSE)," ") -> M | E23: =IF(A23:A23>0,VLOOKUP(A23,Fed.!$A$2:$J$1973,5,FALSE)," ") -> 06. KOK | F23: =IF(A23:A23>0,VLOOKUP(A23,Fed.!$A$2:$J$1973,6,FALSE)," ") -> 18276 | G23: =IF(A23:A23>0,VLOOKUP(A23,Fed.!$A$2:$J$1973,7,FALSE)," ") -> 6 | H23: =IF(A23:A23>0,VLOOKUP(A23,Fed.!$A$2:$J$1973,8,FALSE)," ") -> A-SR | I23: =IF(A23:A23>0,VLOOKUP(A23,Fed.!$A$2:$J$1973,9,FALSE)," ") -> LIB2026 | J23: =IF(A23:A23>0,VLOOKUP(A23,Fed.!$A$2:$J$1973,10,FALSE)," ") -> 0
A24: 609 | B24: =IF(A24:A24>0,VLOOKUP(A24,Fed.!$A$2:$J$1973,2,FALSE)," ") -> NAKASHIMA | C24: =IF(A24:A24>0,VLOOKUP(A24,Fed.!$A$2:$J$1973,3,FALSE)," ") -> MITSUKO | D24: =IF(A24:A24>0,VLOOKUP(A24,Fed.!$A$2:$J$1973,4,FALSE)," ") -> F | E24: =IF(A24:A24>0,VLOOKUP(A24,Fed.!$A$2:$J$1973,5,FALSE)," ") -> 06. KOK | F24: =IF(A24:A24>0,VLOOKUP(A24,Fed.!$A$2:$J$1973,6,FALSE)," ") -> 19177 | G24: =IF(A24:A24>0,VLOOKUP(A24,Fed.!$A$2:$J$1973,7,FALSE)," ") -> 9 | H24: =IF(A24:A24>0,VLOOKUP(A24,Fed.!$A$2:$J$1973,8,FALSE)," ") -> B-NSR | I24: =IF(A24:A24>0,VLOOKUP(A24,Fed.!$A$2:$J$1973,9,FALSE)," ") -> LIB2026 | J24: =IF(A24:A24>0,VLOOKUP(A24,Fed.!$A$2:$J$1973,10,FALSE)," ") -> 0
A25: 276 | B25: =IF(A25:A25>0,VLOOKUP(A25,Fed.!$A$2:$J$1973,2,FALSE)," ") -> KUDO | C25: =IF(A25:A25>0,VLOOKUP(A25,Fed.!$A$2:$J$1973,3,FALSE)," ") -> SHOJI | D25: =IF(A25:A25>0,VLOOKUP(A25,Fed.!$A$2:$J$1973,4,FALSE)," ") -> M | E25: =IF(A25:A25>0,VLOOKUP(A25,Fed.!$A$2:$J$1973,5,FALSE)," ") -> 06. KOK | F25: =IF(A25:A25>0,VLOOKUP(A25,Fed.!$A$2:$J$1973,6,FALSE)," ") -> 13665 | G25: =IF(A25:A25>0,VLOOKUP(A25,Fed.!$A$2:$J$1973,7,FALSE)," ") -> 6 | H25: =IF(A25:A25>0,VLOOKUP(A25,Fed.!$A$2:$J$1973,8,FALSE)," ") -> A-MR | I25: =IF(A25:A25>0,VLOOKUP(A25,Fed.!$A$2:$J$1973,9,FALSE)," ") -> LIB2026 | J25: =IF(A25:A25>0,VLOOKUP(A25,Fed.!$A$2:$J$1973,10,FALSE)," ") -> 0
A26: 278 | B26: =IF(A26:A26>0,VLOOKUP(A26,Fed.!$A$2:$J$1973,2,FALSE)," ") -> KUDO | C26: =IF(A26:A26>0,VLOOKUP(A26,Fed.!$A$2:$J$1973,3,FALSE)," ") -> AKIKO | D26: =IF(A26:A26>0,VLOOKUP(A26,Fed.!$A$2:$J$1973,4,FALSE)," ") -> F | E26: =IF(A26:A26>0,VLOOKUP(A26,Fed.!$A$2:$J$1973,5,FALSE)," ") -> 06. KOK | F26: =IF(A26:A26>0,VLOOKUP(A26,Fed.!$A$2:$J$1973,6,FALSE)," ") -> 15656 | G26: =IF(A26:A26>0,VLOOKUP(A26,Fed.!$A$2:$J$1973,7,FALSE)," ") -> 7 | H26: =IF(A26:A26>0,VLOOKUP(A26,Fed.!$A$2:$J$1973,8,FALSE)," ") -> B-SR | I26: =IF(A26:A26>0,VLOOKUP(A26,Fed.!$A$2:$J$1973,9,FALSE)," ") -> LIB2026 | J26: =IF(A26:A26>0,VLOOKUP(A26,Fed.!$A$2:$J$1973,10,FALSE)," ") -> 0
A27: 141 | B27: =IF(A27:A27>0,VLOOKUP(A27,Fed.!$A$2:$J$1973,2,FALSE)," ") -> HASHIZUME | C27: =IF(A27:A27>0,VLOOKUP(A27,Fed.!$A$2:$J$1973,3,FALSE)," ") -> AKIO | D27: =IF(A27:A27>0,VLOOKUP(A27,Fed.!$A$2:$J$1973,4,FALSE)," ") -> M | E27: =IF(A27:A27>0,VLOOKUP(A27,Fed.!$A$2:$J$1973,5,FALSE)," ") -> 06. KOK | F27: =IF(A27:A27>0,VLOOKUP(A27,Fed.!$A$2:$J$1973,6,FALSE)," ") -> 16851 | G27: =IF(A27:A27>0,VLOOKUP(A27,Fed.!$A$2:$J$1973,7,FALSE)," ") -> 6 | H27: =IF(A27:A27>0,VLOOKUP(A27,Fed.!$A$2:$J$1973,8,FALSE)," ") -> A-SR | I27: =IF(A27:A27>0,VLOOKUP(A27,Fed.!$A$2:$J$1973,9,FALSE)," ") -> LIB2026 | J27: =IF(A27:A27>0,VLOOKUP(A27,Fed.!$A$2:$J$1973,10,FALSE)," ") -> 0
A28: 155 | B28: =IF(A28:A28>0,VLOOKUP(A28,Fed.!$A$2:$J$1973,2,FALSE)," ") -> HASHIZUME | C28: =IF(A28:A28>0,VLOOKUP(A28,Fed.!$A$2:$J$1973,3,FALSE)," ") -> AKIKO | D28: =IF(A28:A28>0,VLOOKUP(A28,Fed.!$A$2:$J$1973,4,FALSE)," ") -> F | E28: =IF(A28:A28>0,VLOOKUP(A28,Fed.!$A$2:$J$1973,5,FALSE)," ") -> 06. KOK | F28: =IF(A28:A28>0,VLOOKUP(A28,Fed.!$A$2:$J$1973,6,FALSE)," ") -> 18684 | G28: =IF(A28:A28>0,VLOOKUP(A28,Fed.!$A$2:$J$1973,7,FALSE)," ") -> 6 | H28: =IF(A28:A28>0,VLOOKUP(A28,Fed.!$A$2:$J$1973,8,FALSE)," ") -> A-SR | I28: =IF(A28:A28>0,VLOOKUP(A28,Fed.!$A$2:$J$1973,9,FALSE)," ") -> LIB2026 | J28: =IF(A28:A28>0,VLOOKUP(A28,Fed.!$A$2:$J$1973,10,FALSE)," ") -> 0
A29: 768 | B29: =IF(A29:A29>0,VLOOKUP(A29,Fed.!$A$2:$J$1973,2,FALSE)," ") -> SATO | C29: =IF(A29:A29>0,VLOOKUP(A29,Fed.!$A$2:$J$1973,3,FALSE)," ") -> NOBUO | D29: =IF(A29:A29>0,VLOOKUP(A29,Fed.!$A$2:$J$1973,4,FALSE)," ") -> M | E29: =IF(A29:A29>0,VLOOKUP(A29,Fed.!$A$2:$J$1973,5,FALSE)," ") -> 06. KOK | F29: =IF(A29:A29>0,VLOOKUP(A29,Fed.!$A$2:$J$1973,6,FALSE)," ") -> 16524 | G29: =IF(A29:A29>0,VLOOKUP(A29,Fed.!$A$2:$J$1973,7,FALSE)," ") -> 9 | H29: =IF(A29:A29>0,VLOOKUP(A29,Fed.!$A$2:$J$1973,8,FALSE)," ") -> B-SR | I29: =IF(A29:A29>0,VLOOKUP(A29,Fed.!$A$2:$J$1973,9,FALSE)," ") -> LIB2026 | J29: =IF(A29:A29>0,VLOOKUP(A29,Fed.!$A$2:$J$1973,10,FALSE)," ") -> 0
A30: 941 | B30: =IF(A30:A30>0,VLOOKUP(A30,Fed.!$A$2:$J$1973,2,FALSE)," ") -> OKUYAMA | C30: =IF(A30:A30>0,VLOOKUP(A30,Fed.!$A$2:$J$1973,3,FALSE)," ") -> NOBORU | D30: =IF(A30:A30>0,VLOOKUP(A30,Fed.!$A$2:$J$1973,4,FALSE)," ") -> M | E30: =IF(A30:A30>0,VLOOKUP(A30,Fed.!$A$2:$J$1973,5,FALSE)," ") -> 06. KOK | F30: =IF(A30:A30>0,VLOOKUP(A30,Fed.!$A$2:$J$1973,6,FALSE)," ") -> 17489 | G30: =IF(A30:A30>0,VLOOKUP(A30,Fed.!$A$2:$J$1973,7,FALSE)," ") -> 12 | H30: =IF(A30:A30>0,VLOOKUP(A30,Fed.!$A$2:$J$1973,8,FALSE)," ") -> C-SR | I30: =IF(A30:A30>0,VLOOKUP(A30,Fed.!$A$2:$J$1973,9,FALSE)," ") -> LIB2026 | J30: =IF(A30:A30>0,VLOOKUP(A30,Fed.!$A$2:$J$1973,10,FALSE)," ") -> 0
A31: 408 | B31: =IF(A31:A31>0,VLOOKUP(A31,Fed.!$A$2:$J$1973,2,FALSE)," ") -> YOKOTA | C31: =IF(A31:A31>0,VLOOKUP(A31,Fed.!$A$2:$J$1973,3,FALSE)," ") -> NELSON AKIRA | D31: =IF(A31:A31>0,VLOOKUP(A31,Fed.!$A$2:$J$1973,4,FALSE)," ") -> M | E31: =IF(A31:A31>0,VLOOKUP(A31,Fed.!$A$2:$J$1973,5,FALSE)," ") -> 06. KOK | F31: =IF(A31:A31>0,VLOOKUP(A31,Fed.!$A$2:$J$1973,6,FALSE)," ") -> 20468 | G31: =IF(A31:A31>0,VLOOKUP(A31,Fed.!$A$2:$J$1973,7,FALSE)," ") -> 12 | H31: =IF(A31:A31>0,VLOOKUP(A31,Fed.!$A$2:$J$1973,8,FALSE)," ") -> C-NSR | I31: =IF(A31:A31>0,VLOOKUP(A31,Fed.!$A$2:$J$1973,9,FALSE)," ") -> LIB2026 | J31: =IF(A31:A31>0,VLOOKUP(A31,Fed.!$A$2:$J$1973,10,FALSE)," ") -> 0
A32: 407 | B32: =IF(A32:A32>0,VLOOKUP(A32,Fed.!$A$2:$J$1973,2,FALSE)," ") -> HIROSE YOKOTA | C32: =IF(A32:A32>0,VLOOKUP(A32,Fed.!$A$2:$J$1973,3,FALSE)," ") -> HAYDEE HARUMI | D32: =IF(A32:A32>0,VLOOKUP(A32,Fed.!$A$2:$J$1973,4,FALSE)," ") -> F | E32: =IF(A32:A32>0,VLOOKUP(A32,Fed.!$A$2:$J$1973,5,FALSE)," ") -> 06. KOK | F32: =IF(A32:A32>0,VLOOKUP(A32,Fed.!$A$2:$J$1973,6,FALSE)," ") -> 22444 | G32: =IF(A32:A32>0,VLOOKUP(A32,Fed.!$A$2:$J$1973,7,FALSE)," ") -> 12 | H32: =IF(A32:A32>0,VLOOKUP(A32,Fed.!$A$2:$J$1973,8,FALSE)," ") -> C-NSR | I32: =IF(A32:A32>0,VLOOKUP(A32,Fed.!$A$2:$J$1973,9,FALSE)," ") -> LIB2026 | J32: =IF(A32:A32>0,VLOOKUP(A32,Fed.!$A$2:$J$1973,10,FALSE)," ") -> 0
... A37: 184 | B37: =IF(A37:A37>0,VLOOKUP(A37,Fed.!$A$2:$J$1973,2,FALSE)," ") -> UTSUMI | C37: =IF(A37:A37>0,VLOOKUP(A37,Fed.!$A$2:$J$1973,3,FALSE)," ") -> CHIOMI | D37: =IF(A37:A37>0,VLOOKUP(A37,Fed.!$A$2:$J$1973,4,FALSE)," ") -> F | E37: =IF(A37:A37>0,VLOOKUP(A37,Fed.!$A$2:$J$1973,5,FALSE)," ") -> 06. KOK | F37: =IF(A37:A37>0,VLOOKUP(A37,Fed.!$A$2:$J$1973,6,FALSE)," ") -> 14740 | G37: =IF(A37:A37>0,VLOOKUP(A37,Fed.!$A$2:$J$1973,7,FALSE)," ") -> 12 | H37: =IF(A37:A37>0,VLOOKUP(A37,Fed.!$A$2:$J$1973,8,FALSE)," ") -> C-MR | I37: =IF(A37:A37>0,VLOOKUP(A37,Fed.!$A$2:$J$1973,9,FALSE)," ") -> LIB2026 | J37: =IF(A37:A37>0,VLOOKUP(A37,Fed.!$A$2:$J$1973,10,FALSE)," ") -> 0
A38: 691 | B38: =IF(A38:A38>0,VLOOKUP(A38,Fed.!$A$2:$J$1973,2,FALSE)," ") -> HIRATA | C38: =IF(A38:A38>0,VLOOKUP(A38,Fed.!$A$2:$J$1973,3,FALSE)," ") -> IRINEU YASSAYUKI | D38: =IF(A38:A38>0,VLOOKUP(A38,Fed.!$A$2:$J$1973,4,FALSE)," ") -> M | E38: =IF(A38:A38>0,VLOOKUP(A38,Fed.!$A$2:$J$1973,5,FALSE)," ") -> 06. KOK | F38: =IF(A38:A38>0,VLOOKUP(A38,Fed.!$A$2:$J$1973,6,FALSE)," ") -> 24162 | G38: =IF(A38:A38>0,VLOOKUP(A38,Fed.!$A$2:$J$1973,7,FALSE)," ") -> 8 | H38: =IF(A38:A38>0,VLOOKUP(A38,Fed.!$A$2:$J$1973,8,FALSE)," ") -> B-NSR | I38: =IF(A38:A38>0,VLOOKUP(A38,Fed.!$A$2:$J$1973,9,FALSE)," ") -> LIB2026 | J38: =IF(A38:A38>0,VLOOKUP(A38,Fed.!$A$2:$J$1973,10,FALSE)," ") -> 0
A39: 714 | B39: =IF(A39:A39>0,VLOOKUP(A39,Fed.!$A$2:$J$1973,2,FALSE)," ") -> MARTINS DE MELLO | C39: =IF(A39:A39>0,VLOOKUP(A39,Fed.!$A$2:$J$1973,3,FALSE)," ") -> VANESSA | D39: =IF(A39:A39>0,VLOOKUP(A39,Fed.!$A$2:$J$1973,4,FALSE)," ") -> F | E39: =IF(A39:A39>0,VLOOKUP(A39,Fed.!$A$2:$J$1973,5,FALSE)," ") -> 06. KOK | F39: =IF(A39:A39>0,VLOOKUP(A39,Fed.!$A$2:$J$1973,6,FALSE)," ") -> 28169 | G39: =IF(A39:A39>0,VLOOKUP(A39,Fed.!$A$2:$J$1973,7,FALSE)," ") -> 12 | H39: =IF(A39:A39>0,VLOOKUP(A39,Fed.!$A$2:$J$1973,8,FALSE)," ") -> C-NSR | I39: =IF(A39:A39>0,VLOOKUP(A39,Fed.!$A$2:$J$1973,9,FALSE)," ") -> LIB2026 | J39: =IF(A39:A39>0,VLOOKUP(A39,Fed.!$A$2:$J$1973,10,FALSE)," ") -> 0
A40: 635 | B40: =IF(A40:A40>0,VLOOKUP(A40,Fed.!$A$2:$J$1973,2,FALSE)," ") -> BABATA | C40: =IF(A40:A40>0,VLOOKUP(A40,Fed.!$A$2:$J$1973,3,FALSE)," ") -> JORGE TOSHIO | D40: =IF(A40:A40>0,VLOOKUP(A40,Fed.!$A$2:$J$1973,4,FALSE)," ") -> M | E40: =IF(A40:A40>0,VLOOKUP(A40,Fed.!$A$2:$J$1973,5,FALSE)," ") -> 06. KOK | F40: =IF(A40:A40>0,VLOOKUP(A40,Fed.!$A$2:$J$1973,6,FALSE)," ") -> 21124 | G40: =IF(A40:A40>0,VLOOKUP(A40,Fed.!$A$2:$J$1973,7,FALSE)," ") -> 3 | H40: =IF(A40:A40>0,VLOOKUP(A40,Fed.!$A$2:$J$1973,8,FALSE)," ") -> EX-NSR | I40: =IF(A40:A40>0,VLOOKUP(A40,Fed.!$A$2:$J$1973,9,FALSE)," ") -> LIB2026 | J40: =IF(A40:A40>0,VLOOKUP(A40,Fed.!$A$2:$J$1973,10,FALSE)," ") -> 0
A41: 705 | B41: =IF(A41:A41>0,VLOOKUP(A41,Fed.!$A$2:$J$1973,2,FALSE)," ") -> IWAMOTO MAEDA | C41: =IF(A41:A41>0,VLOOKUP(A41,Fed.!$A$2:$J$1973,3,FALSE)," ") -> IOSHIMI | D41: =IF(A41:A41>0,VLOOKUP(A41,Fed.!$A$2:$J$1973,4,FALSE)," ") -> F | E41: =IF(A41:A41>0,VLOOKUP(A41,Fed.!$A$2:$J$1973,5,FALSE)," ") -> 06. KOK | F41: =IF(A41:A41>0,VLOOKUP(A41,Fed.!$A$2:$J$1973,6,FALSE)," ") -> 20443 | G41: =IF(A41:A41>0,VLOOKUP(A41,Fed.!$A$2:$J$1973,7,FALSE)," ") -> 12 | H41: =IF(A41:A41>0,VLOOKUP(A41,Fed.!$A$2:$J$1973,8,FALSE)," ") -> C-NSR | I41: =IF(A41:A41>0,VLOOKUP(A41,Fed.!$A$2:$J$1973,9,FALSE)," ") -> LIB2026 | J41: =IF(A41:A41>0,VLOOKUP(A41,Fed.!$A$2:$J$1973,10,FALSE)," ") -> 0
A42: 704 | B42: =IF(A42:A42>0,VLOOKUP(A42,Fed.!$A$2:$J$1973,2,FALSE)," ") -> MAEDA | C42: =IF(A42:A42>0,VLOOKUP(A42,Fed.!$A$2:$J$1973,3,FALSE)," ") -> KAUSSEI | D42: =IF(A42:A42>0,VLOOKUP(A42,Fed.!$A$2:$J$1973,4,FALSE)," ") -> M | E42: =IF(A42:A42>0,VLOOKUP(A42,Fed.!$A$2:$J$1973,5,FALSE)," ") -> 06. KOK | F42: =IF(A42:A42>0,VLOOKUP(A42,Fed.!$A$2:$J$1973,6,FALSE)," ") -> 18515 | G42: =IF(A42:A42>0,VLOOKUP(A42,Fed.!$A$2:$J$1973,7,FALSE)," ") -> 12 | H42: =IF(A42:A42>0,VLOOKUP(A42,Fed.!$A$2:$J$1973,8,FALSE)," ") -> C-SR | I42: =IF(A42:A42>0,VLOOKUP(A42,Fed.!$A$2:$J$1973,9,FALSE)," ") -> LIB2026 | J42: =IF(A42:A42>0,VLOOKUP(A42,Fed.!$A$2:$J$1973,10,FALSE)," ") -> 0
A43: 605 | B43: =IF(A43:A43>0,VLOOKUP(A43,Fed.!$A$2:$J$1973,2,FALSE)," ") -> ABE | C43: =IF(A43:A43>0,VLOOKUP(A43,Fed.!$A$2:$J$1973,3,FALSE)," ") -> TETSUO | D43: =IF(A43:A43>0,VLOOKUP(A43,Fed.!$A$2:$J$1973,4,FALSE)," ") -> M | E43: =IF(A43:A43>0,VLOOKUP(A43,Fed.!$A$2:$J$1973,5,FALSE)," ") -> 06. KOK | F43: =IF(A43:A43>0,VLOOKUP(A43,Fed.!$A$2:$J$1973,6,FALSE)," ") -> 12082 | G43: =IF(A43:A43>0,VLOOKUP(A43,Fed.!$A$2:$J$1973,7,FALSE)," ") -> 8 | H43: =IF(A43:A43>0,VLOOKUP(A43,Fed.!$A$2:$J$1973,8,FALSE)," ") -> B-MR | I43: =IF(A43:A43>0,VLOOKUP(A43,Fed.!$A$2:$J$1973,9,FALSE)," ") -> LIB2026i | J43: =IF(A43:A43>0,VLOOKUP(A43,Fed.!$A$2:$J$1973,10,FALSE)," ") -> 0
A44: 607 | B44: =IF(A44:A44>0,VLOOKUP(A44,Fed.!$A$2:$J$1973,2,FALSE)," ") -> ABE | C44: =IF(A44:A44>0,VLOOKUP(A44,Fed.!$A$2:$J$1973,3,FALSE)," ") -> KAZUKO | D44: =IF(A44:A44>0,VLOOKUP(A44,Fed.!$A$2:$J$1973,4,FALSE)," ") -> F | E44: =IF(A44:A44>0,VLOOKUP(A44,Fed.!$A$2:$J$1973,5,FALSE)," ") -> 06. KOK | F44: =IF(A44:A44>0,VLOOKUP(A44,Fed.!$A$2:$J$1973,6,FALSE)," ") -> 18129 | G44: =IF(A44:A44>0,VLOOKUP(A44,Fed.!$A$2:$J$1973,7,FALSE)," ") -> 9 | H44: =IF(A44:A44>0,VLOOKUP(A44,Fed.!$A$2:$J$1973,8,FALSE)," ") -> B-SR | I44: =IF(A44:A44>0,VLOOKUP(A44,Fed.!$A$2:$J$1973,9,FALSE)," ") -> LIB2026 | J44: =IF(A44:A44>0,VLOOKUP(A44,Fed.!$A$2:$J$1973,10,FALSE)," ") -> 0
A45: 152 | B45: =IF(A45:A45>0,VLOOKUP(A45,Fed.!$A$2:$J$1973,2,FALSE)," ") -> SHIRAHATA | C45: =IF(A45:A45>0,VLOOKUP(A45,Fed.!$A$2:$J$1973,3,FALSE)," ") -> MAKOTO | D45: =IF(A45:A45>0,VLOOKUP(A45,Fed.!$A$2:$J$1973,4,FALSE)," ") -> M | E45: =IF(A45:A45>0,VLOOKUP(A45,Fed.!$A$2:$J$1973,5,FALSE)," ") -> 06. KOK | F45: =IF(A45:A45>0,VLOOKUP(A45,Fed.!$A$2:$J$1973,6,FALSE)," ") -> 13189 | G45: =IF(A45:A45>0,VLOOKUP(A45,Fed.!$A$2:$J$1973,7,FALSE)," ") -> 9 | H45: =IF(A45:A45>0,VLOOKUP(A45,Fed.!$A$2:$J$1973,8,FALSE)," ") -> B-MR | I45: =IF(A45:A45>0,VLOOKUP(A45,Fed.!$A$2:$J$1973,9,FALSE)," ") -> LIB2026i | J45: =IF(A45:A45>0,VLOOKUP(A45,Fed.!$A$2:$J$1973,10,FALSE)," ") -> 0
A46: 630 | B46: =IF(A46:A46>0,VLOOKUP(A46,Fed.!$A$2:$J$1973,2,FALSE)," ") -> YAMAZAKI | C46: =IF(A46:A46>0,VLOOKUP(A46,Fed.!$A$2:$J$1973,3,FALSE)," ") -> TERUYUKI | D46: =IF(A46:A46>0,VLOOKUP(A46,Fed.!$A$2:$J$1973,4,FALSE)," ") -> M | E46: =IF(A46:A46>0,VLOOKUP(A46,Fed.!$A$2:$J$1973,5,FALSE)," ") -> 06. KOK | F46: =IF(A46:A46>0,VLOOKUP(A46,Fed.!$A$2:$J$1973,6,FALSE)," ") -> 17919 | G46: =IF(A46:A46>0,VLOOKUP(A46,Fed.!$A$2:$J$1973,7,FALSE)," ") -> 9 | H46: =IF(A46:A46>0,VLOOKUP(A46,Fed.!$A$2:$J$1973,8,FALSE)," ") -> B-SR | I46: =IF(A46:A46>0,VLOOKUP(A46,Fed.!$A$2:$J$1973,9,FALSE)," ") -> LIB2026 | J46: =IF(A46:A46>0,VLOOKUP(A46,Fed.!$A$2:$J$1973,10,FALSE)," ") -> 0
A47: 771 | B47: =IF(A47:A47>0,VLOOKUP(A47,Fed.!$A$2:$J$1973,2,FALSE)," ") -> YAMAMOTO YAMAZAKI | C47: =IF(A47:A47>0,VLOOKUP(A47,Fed.!$A$2:$J$1973,3,FALSE)," ") -> CECILIA TOSHIE | D47: =IF(A47:A47>0,VLOOKUP(A47,Fed.!$A$2:$J$1973,4,FALSE)," ") -> F | E47: =IF(A47:A47>0,VLOOKUP(A47,Fed.!$A$2:$J$1973,5,FALSE)," ") -> 06. KOK | F47: =IF(A47:A47>0,VLOOKUP(A47,Fed.!$A$2:$J$1973,6,FALSE)," ") -> 23302 | G47: =IF(A47:A47>0,VLOOKUP(A47,Fed.!$A$2:$J$1973,7,FALSE)," ") -> 12 | H47: =IF(A47:A47>0,VLOOKUP(A47,Fed.!$A$2:$J$1973,8,FALSE)," ") -> C-NSR | I47: =IF(A47:A47>0,VLOOKUP(A47,Fed.!$A$2:$J$1973,9,FALSE)," ") -> LIB2026 | J47: =IF(A47:A47>0,VLOOKUP(A47,Fed.!$A$2:$J$1973,10,FALSE)," ") -> 0
A48: 153 | B48: =IF(A48:A48>0,VLOOKUP(A48,Fed.!$A$2:$J$1973,2,FALSE)," ") -> FURUKAWA | C48: =IF(A48:A48>0,VLOOKUP(A48,Fed.!$A$2:$J$1973,3,FALSE)," ") -> FUMIKO | D48: =IF(A48:A48>0,VLOOKUP(A48,Fed.!$A$2:$J$1973,4,FALSE)," ") -> F | E48: =IF(A48:A48>0,VLOOKUP(A48,Fed.!$A$2:$J$1973,5,FALSE)," ") -> 06. KOK | F48: =IF(A48:A48>0,VLOOKUP(A48,Fed.!$A$2:$J$1973,6,FALSE)," ") -> 13386 | G48: =IF(A48:A48>0,VLOOKUP(A48,Fed.!$A$2:$J$1973,7,FALSE)," ") -> 12 | H48: =IF(A48:A48>0,VLOOKUP(A48,Fed.!$A$2:$J$1973,8,FALSE)," ") -> C-MR | I48: =IF(A48:A48>0,VLOOKUP(A48,Fed.!$A$2:$J$1973,9,FALSE)," ") -> LIB2026i | J48: =IF(A48:A48>0,VLOOKUP(A48,Fed.!$A$2:$J$1973,10,FALSE)," ") -> 0
A49: 182 | B49: =IF(A49:A49>0,VLOOKUP(A49,Fed.!$A$2:$J$1973,2,FALSE)," ") -> NISHIDA | C49: =IF(A49:A49>0,VLOOKUP(A49,Fed.!$A$2:$J$1973,3,FALSE)," ") -> UTAKO | D49: =IF(A49:A49>0,VLOOKUP(A49,Fed.!$A$2:$J$1973,4,FALSE)," ") -> F | E49: =IF(A49:A49>0,VLOOKUP(A49,Fed.!$A$2:$J$1973,5,FALSE)," ") -> 06. KOK | F49: =IF(A49:A49>0,VLOOKUP(A49,Fed.!$A$2:$J$1973,6,FALSE)," ") -> 15498 | G49: =IF(A49:A49>0,VLOOKUP(A49,Fed.!$A$2:$J$1973,7,FALSE)," ") -> 9 | H49: =IF(A49:A49>0,VLOOKUP(A49,Fed.!$A$2:$J$1973,8,FALSE)," ") -> B-SR | I49: =IF(A49:A49>0,VLOOKUP(A49,Fed.!$A$2:$J$1973,9,FALSE)," ") -> LIB2027 | J49: =IF(A49:A49>0,VLOOKUP(A49,Fed.!$A$2:$J$1973,10,FALSE)," ") -> 0
...

Sheet Sorteio
A1: 101 | B1: 1 | C1: 1 | D1: 342 | E1: =IF(D1:D1>0,VLOOKUP(D1,Insc.!$A$1:$J$972,2,FALSE),"") -> TOBIMATSU | F1: =IF(D1:D1>0,VLOOKUP(D1,Insc.!$A$1:$J$972,3,FALSE),"") -> SHINYA | G1: =IF(D1:D1>0,VLOOKUP(D1,Insc.!$A$1:$J$972,4,FALSE),"") -> M | H1: =IF(D1:D1>0,VLOOKUP(D1,Insc.!$A$1:$J$972,5,FALSE),"") -> 06. KOK | I1: =IF(D1:D1>0,VLOOKUP(D1,Insc.!$A$1:$J$972,6,FALSE),"") -> 17774 | J1: =IF(D1:D1>0,VLOOKUP(D1,Insc.!$A$1:$J$972,7,FALSE),"") -> 1 | K1: =IF(D1:D1>0,VLOOKUP(D1,Insc.!$A$1:$J$972,8,FALSE),"") -> EX-SR | L1: =IF(D1:D1>0,VLOOKUP(D1,Insc.!$A$1:$J$972,9,FALSE),"") -> LIB2026 | M1: =IF(D1:D1>0,VLOOKUP(D1,Insc.!$A$1:$J$972,10,FALSE),"") -> 0 | N1: 951 | O1: =IF(N1:N1>0,VLOOKUP(N1,Insc.!$A$1:$J$972,2,FALSE),"") -> YOSHIDA | P1: =IF(N1:N1>0,VLOOKUP(N1,Insc.!$A$1:$J$972,3,FALSE),"") -> AKIMITSU | Q1: =IF(N1:N1>0,VLOOKUP(N1,Insc.!$A$1:$J$972,4,FALSE),"") -> M | R1: =IF(N1:N1>0,VLOOKUP(N1,Insc.!$A$1:$J$972,5,FALSE),"") -> 11. NCC | S1: =IF(N1:N1>0,VLOOKUP(N1,Insc.!$A$1:$J$972,6,FALSE),"") -> 16973 | T1: =IF(N1:N1>0,VLOOKUP(N1,Insc.!$A$1:$J$972,7,FALSE),"") -> 1 | U1: =IF(N1:N1>0,VLOOKUP(N1,Insc.!$A$1:$J$972,8,FALSE),"") -> EX-SR | V1: =IF(N1:N1>0,VLOOKUP(N1,Insc.!$A$1:$J$972,9,FALSE),"") -> LIB2026 | W1: =IF(N1:N1>0,VLOOKUP(N1,Insc.!$A$1:$J$972,10,FALSE),"") -> 0 | X1: 756 | Y1: =IF(X1:X1>0,VLOOKUP(X1,Insc.!$A$1:$J$972,2,FALSE),"") -> TABATA | Z1: =IF(X1:X1>0,VLOOKUP(X1,Insc.!$A$1:$J$972,3,FALSE),"") -> PAULO YUKIHARU | AA1: =IF(X1:X1>0,VLOOKUP(X1,Insc.!$A$1:$J$972,4,FALSE),"") -> M | AB1: =IF(X1:X1>0,VLOOKUP(X1,Insc.!$A$1:$J$972,5,FALSE),"") -> 07. GSP | AC1: =IF(X1:X1>0,VLOOKUP(X1,Insc.!$A$1:$J$972,6,FALSE),"") -> 22876 | AD1: =IF(X1:X1>0,VLOOKUP(X1,Insc.!$A$1:$J$972,7,FALSE),"") -> 4 | AE1: =IF(X1:X1>0,VLOOKUP(X1,Insc.!$A$1:$J$972,8,FALSE),"") -> A-NSR | AF1: =IF(X1:X1>0,VLOOKUP(X1,Insc.!$A$1:$J$972,9,FALSE),"") -> LIB2026 | AG1: =IF(X1:X1>0,VLOOKUP(X1,Insc.!$A$1:$J$972,10,FALSE),"") -> 0 | AH1: 073 | AI1: =IF(AH1:AH1>0,VLOOKUP(AH1,Insc.!$A$1:$J$972,2,FALSE),"") -> TAKANO | AJ1: =IF(AH1:AH1>0,VLOOKUP(AH1,Insc.!$A$1:$J$972,3,FALSE),"") -> YASUO | AK1: =IF(AH1:AH1>0,VLOOKUP(AH1,Insc.!$A$1:$J$972,4,FALSE),"") -> M | AL1: =IF(AH1:AH1>0,VLOOKUP(AH1,Insc.!$A$1:$J$972,5,FALSE),"") -> 03. IBI | AM1: =IF(AH1:AH1>0,VLOOKUP(AH1,Insc.!$A$1:$J$972,6,FALSE),"") -> 16369 | AN1: =IF(AH1:AH1>0,VLOOKUP(AH1,Insc.!$A$1:$J$972,7,FALSE),"") -> 6 | AO1: =IF(AH1:AH1>0,VLOOKUP(AH1,Insc.!$A$1:$J$972,8,FALSE),"") -> A-SR | AP1: =IF(AH1:AH1>0,VLOOKUP(AH1,Insc.!$A$1:$J$972,9,FALSE),"") -> LIB2026 | AQ1: =IF(AH1:AH1>0,VLOOKUP(AH1,Insc.!$A$1:$J$972,10,FALSE),"") -> 0
A2: 102 | B2: 1 | C2: 2 | D2: 271 | E2: =IF(D2:D2>0,VLOOKUP(D2,Insc.!$A$1:$J$972,2,FALSE),"") -> WATANABE | F2: =IF(D2:D2>0,VLOOKUP(D2,Insc.!$A$1:$J$972,3,FALSE),"") -> HIROMI | G2: =IF(D2:D2>0,VLOOKUP(D2,Insc.!$A$1:$J$972,4,FALSE),"") -> M | H2: =IF(D2:D2>0,VLOOKUP(D2,Insc.!$A$1:$J$972,5,FALSE),"") -> 08. SMA | I2: =IF(D2:D2>0,VLOOKUP(D2,Insc.!$A$1:$J$972,6,FALSE),"") -> 18070 | J2: =IF(D2:D2>0,VLOOKUP(D2,Insc.!$A$1:$J$972,7,FALSE),"") -> 0 | K2: =IF(D2:D2>0,VLOOKUP(D2,Insc.!$A$1:$J$972,8,FALSE),"") -> EX-SR | L2: =IF(D2:D2>0,VLOOKUP(D2,Insc.!$A$1:$J$972,9,FALSE),"") -> LIB2026 | M2: =IF(D2:D2>0,VLOOKUP(D2,Insc.!$A$1:$J$972,10,FALSE),"") -> 0 | N2: 513 | O2: =IF(N2:N2>0,VLOOKUP(N2,Insc.!$A$1:$J$972,2,FALSE),"") -> TIZUKA | P2: =IF(N2:N2>0,VLOOKUP(N2,Insc.!$A$1:$J$972,3,FALSE),"") -> SACHIKO | Q2: =IF(N2:N2>0,VLOOKUP(N2,Insc.!$A$1:$J$972,4,FALSE),"") -> F | R2: =IF(N2:N2>0,VLOOKUP(N2,Insc.!$A$1:$J$972,5,FALSE),"") -> 07. GSP | S2: =IF(N2:N2>0,VLOOKUP(N2,Insc.!$A$1:$J$972,6,FALSE),"") -> 19170 | T2: =IF(N2:N2>0,VLOOKUP(N2,Insc.!$A$1:$J$972,7,FALSE),"") -> 4 | U2: =IF(N2:N2>0,VLOOKUP(N2,Insc.!$A$1:$J$972,8,FALSE),"") -> A-NSR | V2: =IF(N2:N2>0,VLOOKUP(N2,Insc.!$A$1:$J$972,9,FALSE),"") -> LIB2026 | W2: =IF(N2:N2>0,VLOOKUP(N2,Insc.!$A$1:$J$972,10,FALSE),"") -> 0 | X2: 555 | Y2: =IF(X2:X2>0,VLOOKUP(X2,Insc.!$A$1:$J$972,2,FALSE),"") -> SIQUEIRA OLIVEIRA | Z2: =IF(X2:X2>0,VLOOKUP(X2,Insc.!$A$1:$J$972,3,FALSE),"") -> HELVECIO | AA2: =IF(X2:X2>0,VLOOKUP(X2,Insc.!$A$1:$J$972,4,FALSE),"") -> M | AB2: =IF(X2:X2>0,VLOOKUP(X2,Insc.!$A$1:$J$972,5,FALSE),"") -> 18. SOR | AC2: =IF(X2:X2>0,VLOOKUP(X2,Insc.!$A$1:$J$972,6,FALSE),"") -> 21411 | AD2: =IF(X2:X2>0,VLOOKUP(X2,Insc.!$A$1:$J$972,7,FALSE),"") -> 6 | AE2: =IF(X2:X2>0,VLOOKUP(X2,Insc.!$A$1:$J$972,8,FALSE),"") -> A-NSR | AF2: =IF(X2:X2>0,VLOOKUP(X2,Insc.!$A$1:$J$972,9,FALSE),"") -> LIB2026 | AG2: =IF(X2:X2>0,VLOOKUP(X2,Insc.!$A$1:$J$972,10,FALSE),"") -> 0 | AH2: 480 | AI2: =IF(AH2:AH2>0,VLOOKUP(AH2,Insc.!$A$1:$J$972,2,FALSE),"") -> SIGAKI HIGUCHI | AJ2: =IF(AH2:AH2>0,VLOOKUP(AH2,Insc.!$A$1:$J$972,3,FALSE),"") -> LOURDES YASSUKO | AK2: =IF(AH2:AH2>0,VLOOKUP(AH2,Insc.!$A$1:$J$972,4,FALSE),"") -> F | AL2: =IF(AH2:AH2>0,VLOOKUP(AH2,Insc.!$A$1:$J$972,5,FALSE),"") -> 11. NCC | AM2: =IF(AH2:AH2>0,VLOOKUP(AH2,Insc.!$A$1:$J$972,6,FALSE),"") -> 20585 | AN2: =IF(AH2:AH2>0,VLOOKUP(AH2,Insc.!$A$1:$J$972,7,FALSE),"") -> 6 | AO2: =IF(AH2:AH2>0,VLOOKUP(AH2,Insc.!$A$1:$J$972,8,FALSE),"") -> A-NSR | AP2: =IF(AH2:AH2>0,VLOOKUP(AH2,Insc.!$A$1:$J$972,9,FALSE),"") -> LIB2026 | AQ2: =IF(AH2:AH2>0,VLOOKUP(AH2,Insc.!$A$1:$J$972,10,FALSE),"") -> 0
A3: 103 | B3: 1 | C3: 3 | D3: 952 | E3: =IF(D3:D3>0,VLOOKUP(D3,Insc.!$A$1:$J$972,2,FALSE),"") -> HAYASI ARIMORI | F3: =IF(D3:D3>0,VLOOKUP(D3,Insc.!$A$1:$J$972,3,FALSE),"") -> IZAURA KAZUE | G3: =IF(D3:D3>0,VLOOKUP(D3,Insc.!$A$1:$J$972,4,FALSE),"") -> F | H3: =IF(D3:D3>0,VLOOKUP(D3,Insc.!$A$1:$J$972,5,FALSE),"") -> 11. NCC | I3: =IF(D3:D3>0,VLOOKUP(D3,Insc.!$A$1:$J$972,6,FALSE),"") -> 22219 | J3: =IF(D3:D3>0,VLOOKUP(D3,Insc.!$A$1:$J$972,7,FALSE),"") -> 1 | K3: =IF(D3:D3>0,VLOOKUP(D3,Insc.!$A$1:$J$972,8,FALSE),"") -> EX-NSR | L3: =IF(D3:D3>0,VLOOKUP(D3,Insc.!$A$1:$J$972,9,FALSE),"") -> LIB2026 | M3: =IF(D3:D3>0,VLOOKUP(D3,Insc.!$A$1:$J$972,10,FALSE),"") -> 0 | N3: 800 | O3: =IF(N3:N3>0,VLOOKUP(N3,Insc.!$A$1:$J$972,2,FALSE),"") -> FIUZA DE OLIVEIRA | P3: =IF(N3:N3>0,VLOOKUP(N3,Insc.!$A$1:$J$972,3,FALSE),"") -> IVAN | Q3: =IF(N3:N3>0,VLOOKUP(N3,Insc.!$A$1:$J$972,4,FALSE),"") -> M | R3: =IF(N3:N3>0,VLOOKUP(N3,Insc.!$A$1:$J$972,5,FALSE),"") -> 03. IBI | S3: =IF(N3:N3>0,VLOOKUP(N3,Insc.!$A$1:$J$972,6,FALSE),"") -> 29849 | T3: =IF(N3:N3>0,VLOOKUP(N3,Insc.!$A$1:$J$972,7,FALSE),"") -> 2 | U3: =IF(N3:N3>0,VLOOKUP(N3,Insc.!$A$1:$J$972,8,FALSE),"") -> EX-NSR | V3: =IF(N3:N3>0,VLOOKUP(N3,Insc.!$A$1:$J$972,9,FALSE),"") -> LIB2026 | W3: =IF(N3:N3>0,VLOOKUP(N3,Insc.!$A$1:$J$972,10,FALSE),"") -> 0 | X3: 620 | Y3: =IF(X3:X3>0,VLOOKUP(X3,Insc.!$A$1:$J$972,2,FALSE),"") -> OGATA | Z3: =IF(X3:X3>0,VLOOKUP(X3,Insc.!$A$1:$J$972,3,FALSE),"") -> NELSON | AA3: =IF(X3:X3>0,VLOOKUP(X3,Insc.!$A$1:$J$972,4,FALSE),"") -> M | AB3: =IF(X3:X3>0,VLOOKUP(X3,Insc.!$A$1:$J$972,5,FALSE),"") -> 07. GSP | AC3: =IF(X3:X3>0,VLOOKUP(X3,Insc.!$A$1:$J$972,6,FALSE),"") -> 19753 | AD3: =IF(X3:X3>0,VLOOKUP(X3,Insc.!$A$1:$J$972,7,FALSE),"") -> 3 | AE3: =IF(X3:X3>0,VLOOKUP(X3,Insc.!$A$1:$J$972,8,FALSE),"") -> EX-NSR | AF3: =IF(X3:X3>0,VLOOKUP(X3,Insc.!$A$1:$J$972,9,FALSE),"") -> LIB2026 | AG3: =IF(X3:X3>0,VLOOKUP(X3,Insc.!$A$1:$J$972,10,FALSE),"") -> 0 | AH3: 767 | AI3: =IF(AH3:AH3>0,VLOOKUP(AH3,Insc.!$A$1:$J$972,2,FALSE),"") -> FURUKAWA | AJ3: =IF(AH3:AH3>0,VLOOKUP(AH3,Insc.!$A$1:$J$972,3,FALSE),"") -> HIROSHI | AK3: =IF(AH3:AH3>0,VLOOKUP(AH3,Insc.!$A$1:$J$972,4,FALSE),"") -> M | AL3: =IF(AH3:AH3>0,VLOOKUP(AH3,Insc.!$A$1:$J$972,5,FALSE),"") -> 06. KOK | AM3: =IF(AH3:AH3>0,VLOOKUP(AH3,Insc.!$A$1:$J$972,6,FALSE),"") -> 14567 | AN3: =IF(AH3:AH3>0,VLOOKUP(AH3,Insc.!$A$1:$J$972,7,FALSE),"") -> 6 | AO3: =IF(AH3:AH3>0,VLOOKUP(AH3,Insc.!$A$1:$J$972,8,FALSE),"") -> A-MR | AP3: =IF(AH3:AH3>0,VLOOKUP(AH3,Insc.!$A$1:$J$972,9,FALSE),"") -> LIB2026 | AQ3: =IF(AH3:AH3>0,VLOOKUP(AH3,Insc.!$A$1:$J$972,10,FALSE),"") -> 0
A4: 104 | B4: 1 | C4: 4 | D4: 635 | E4: =IF(D4:D4>0,VLOOKUP(D4,Insc.!$A$1:$J$972,2,FALSE),"") -> BABATA | F4: =IF(D4:D4>0,VLOOKUP(D4,Insc.!$A$1:$J$972,3,FALSE),"") -> JORGE TOSHIO | G4: =IF(D4:D4>0,VLOOKUP(D4,Insc.!$A$1:$J$972,4,FALSE),"") -> M | H4: =IF(D4:D4>0,VLOOKUP(D4,Insc.!$A$1:$J$972,5,FALSE),"") -> 06. KOK | I4: =IF(D4:D4>0,VLOOKUP(D4,Insc.!$A$1:$J$972,6,FALSE),"") -> 21124 | J4: =IF(D4:D4>0,VLOOKUP(D4,Insc.!$A$1:$J$972,7,FALSE),"") -> 3 | K4: =IF(D4:D4>0,VLOOKUP(D4,Insc.!$A$1:$J$972,8,FALSE),"") -> EX-NSR | L4: =IF(D4:D4>0,VLOOKUP(D4,Insc.!$A$1:$J$972,9,FALSE),"") -> LIB2026 | M4: =IF(D4:D4>0,VLOOKUP(D4,Insc.!$A$1:$J$972,10,FALSE),"") -> 0 | N4: 177 | O4: =IF(N4:N4>0,VLOOKUP(N4,Insc.!$A$1:$J$972,2,FALSE),"") -> KAWAKAMI | P4: =IF(N4:N4>0,VLOOKUP(N4,Insc.!$A$1:$J$972,3,FALSE),"") -> LIKA | Q4: =IF(N4:N4>0,VLOOKUP(N4,Insc.!$A$1:$J$972,4,FALSE),"") -> F | R4: =IF(N4:N4>0,VLOOKUP(N4,Insc.!$A$1:$J$972,5,FALSE),"") -> 08. SMA | S4: =IF(N4:N4>0,VLOOKUP(N4,Insc.!$A$1:$J$972,6,FALSE),"") -> 26516 | T4: =IF(N4:N4>0,VLOOKUP(N4,Insc.!$A$1:$J$972,7,FALSE),"") -> 3 | U4: =IF(N4:N4>0,VLOOKUP(N4,Insc.!$A$1:$J$972,8,FALSE),"") -> EX-NSR | V4: =IF(N4:N4>0,VLOOKUP(N4,Insc.!$A$1:$J$972,9,FALSE),"") -> LIB2026 | W4: =IF(N4:N4>0,VLOOKUP(N4,Insc.!$A$1:$J$972,10,FALSE),"") -> 0 | X4: 619 | Y4: =IF(X4:X4>0,VLOOKUP(X4,Insc.!$A$1:$J$972,2,FALSE),"") -> TOMABECHI | Z4: =IF(X4:X4>0,VLOOKUP(X4,Insc.!$A$1:$J$972,3,FALSE),"") -> SADAO | AA4: =IF(X4:X4>0,VLOOKUP(X4,Insc.!$A$1:$J$972,4,FALSE),"") -> M | AB4: =IF(X4:X4>0,VLOOKUP(X4,Insc.!$A$1:$J$972,5,FALSE),"") -> 07. GSP | AC4: =IF(X4:X4>0,VLOOKUP(X4,Insc.!$A$1:$J$972,6,FALSE),"") -> 12932 | AD4: =IF(X4:X4>0,VLOOKUP(X4,Insc.!$A$1:$J$972,7,FALSE),"") -> 3 | AE4: =IF(X4:X4>0,VLOOKUP(X4,Insc.!$A$1:$J$972,8,FALSE),"") -> EX-MR | AF4: =IF(X4:X4>0,VLOOKUP(X4,Insc.!$A$1:$J$972,9,FALSE),"") -> LIB2026i | AG4: =IF(X4:X4>0,VLOOKUP(X4,Insc.!$A$1:$J$972,10,FALSE),"") -> 0 | AH4: 473 | AI4: =IF(AH4:AH4>0,VLOOKUP(AH4,Insc.!$A$1:$J$972,2,FALSE),"") -> NAKANO | AJ4: =IF(AH4:AH4>0,VLOOKUP(AH4,Insc.!$A$1:$J$972,3,FALSE),"") -> RUBENS SHOZI | AK4: =IF(AH4:AH4>0,VLOOKUP(AH4,Insc.!$A$1:$J$972,4,FALSE),"") -> M | AL4: =IF(AH4:AH4>0,VLOOKUP(AH4,Insc.!$A$1:$J$972,5,FALSE),"") -> 11. NCC | AM4: =IF(AH4:AH4>0,VLOOKUP(AH4,Insc.!$A$1:$J$972,6,FALSE),"") -> 17547 | AN4: =IF(AH4:AH4>0,VLOOKUP(AH4,Insc.!$A$1:$J$972,7,FALSE),"") -> 6 | AO4: =IF(AH4:AH4>0,VLOOKUP(AH4,Insc.!$A$1:$J$972,8,FALSE),"") -> A-SR | AP4: =IF(AH4:AH4>0,VLOOKUP(AH4,Insc.!$A$1:$J$972,9,FALSE),"") -> LIB2026 | AQ4: =IF(AH4:AH4>0,VLOOKUP(AH4,Insc.!$A$1:$J$972,10,FALSE),"") -> 0
A5: 105 | B5: 1 | C5: 5 | D5: 626 | E5: =IF(D5:D5>0,VLOOKUP(D5,Insc.!$A$1:$J$972,2,FALSE),"") -> SHIMURA | F5: =IF(D5:D5>0,VLOOKUP(D5,Insc.!$A$1:$J$972,3,FALSE),"") -> ALICE MIWAKO | G5: =IF(D5:D5>0,VLOOKUP(D5,Insc.!$A$1:$J$972,4,FALSE),"") -> F | H5: =IF(D5:D5>0,VLOOKUP(D5,Insc.!$A$1:$J$972,5,FALSE),"") -> 07. GSP | I5: =IF(D5:D5>0,VLOOKUP(D5,Insc.!$A$1:$J$972,6,FALSE),"") -> 21468 | J5: =IF(D5:D5>0,VLOOKUP(D5,Insc.!$A$1:$J$972,7,FALSE),"") -> 2 | K5: =IF(D5:D5>0,VLOOKUP(D5,Insc.!$A$1:$J$972,8,FALSE),"") -> EX-NSR | L5: =IF(D5:D5>0,VLOOKUP(D5,Insc.!$A$1:$J$972,9,FALSE),"") -> LIB2026 | M5: =IF(D5:D5>0,VLOOKUP(D5,Insc.!$A$1:$J$972,10,FALSE),"") -> 0 | N5: 983 | O5: =IF(N5:N5>0,VLOOKUP(N5,Insc.!$A$1:$J$972,2,FALSE),"") -> OSAKO | P5: =IF(N5:N5>0,VLOOKUP(N5,Insc.!$A$1:$J$972,3,FALSE),"") -> SERGIO | Q5: =IF(N5:N5>0,VLOOKUP(N5,Insc.!$A$1:$J$972,4,FALSE),"") -> M | R5: =IF(N5:N5>0,VLOOKUP(N5,Insc.!$A$1:$J$972,5,FALSE),"") -> 18. SOR | S5: =IF(N5:N5>0,VLOOKUP(N5,Insc.!$A$1:$J$972,6,FALSE),"") -> 16304 | T5: =IF(N5:N5>0,VLOOKUP(N5,Insc.!$A$1:$J$972,7,FALSE),"") -> 3 | U5: =IF(N5:N5>0,VLOOKUP(N5,Insc.!$A$1:$J$972,8,FALSE),"") -> EX-SR | V5: =IF(N5:N5>0,VLOOKUP(N5,Insc.!$A$1:$J$972,9,FALSE),"") -> LIB2026 | W5: =IF(N5:N5>0,VLOOKUP(N5,Insc.!$A$1:$J$972,10,FALSE),"") -> 0 | X5: 320 | Y5: =IF(X5:X5>0,VLOOKUP(X5,Insc.!$A$1:$J$972,2,FALSE),"") -> WAKABAYASHI | Z5: =IF(X5:X5>0,VLOOKUP(X5,Insc.!$A$1:$J$972,3,FALSE),"") -> KOITI | AA5: =IF(X5:X5>0,VLOOKUP(X5,Insc.!$A$1:$J$972,4,FALSE),"") -> M | AB5: =IF(X5:X5>0,VLOOKUP(X5,Insc.!$A$1:$J$972,5,FALSE),"") -> 11. NCC | AC5: =IF(X5:X5>0,VLOOKUP(X5,Insc.!$A$1:$J$972,6,FALSE),"") -> 15516 | AD5: =IF(X5:X5>0,VLOOKUP(X5,Insc.!$A$1:$J$972,7,FALSE),"") -> 5 | AE5: =IF(X5:X5>0,VLOOKUP(X5,Insc.!$A$1:$J$972,8,FALSE),"") -> A-SR | AF5: =IF(X5:X5>0,VLOOKUP(X5,Insc.!$A$1:$J$972,9,FALSE),"") -> LIB2026 | AG5: =IF(X5:X5>0,VLOOKUP(X5,Insc.!$A$1:$J$972,10,FALSE),"") -> 0 | AH5: 670 | AI5: =IF(AH5:AH5>0,VLOOKUP(AH5,Insc.!$A$1:$J$972,2,FALSE),"") -> FUKUZAWA | AJ5: =IF(AH5:AH5>0,VLOOKUP(AH5,Insc.!$A$1:$J$972,3,FALSE),"") -> AKIRA | AK5: =IF(AH5:AH5>0,VLOOKUP(AH5,Insc.!$A$1:$J$972,4,FALSE),"") -> M | AL5: =IF(AH5:AH5>0,VLOOKUP(AH5,Insc.!$A$1:$J$972,5,FALSE),"") -> 06. KOK | AM5: =IF(AH5:AH5>0,VLOOKUP(AH5,Insc.!$A$1:$J$972,6,FALSE),"") -> 18276 | AN5: =IF(AH5:AH5>0,VLOOKUP(AH5,Insc.!$A$1:$J$972,7,FALSE),"") -> 6 | AO5: =IF(AH5:AH5>0,VLOOKUP(AH5,Insc.!$A$1:$J$972,8,FALSE),"") -> A-SR | AP5: =IF(AH5:AH5>0,VLOOKUP(AH5,Insc.!$A$1:$J$972,9,FALSE),"") -> LIB2026 | AQ5: =IF(AH5:AH5>0,VLOOKUP(AH5,Insc.!$A$1:$J$972,10,FALSE),"") -> 0
A6: 106 | B6: 1 | C6: 6 | D6: 878 | E6: =IF(D6:D6>0,VLOOKUP(D6,Insc.!$A$1:$J$972,2,FALSE),"") -> TANIGUTI | F6: =IF(D6:D6>0,VLOOKUP(D6,Insc.!$A$1:$J$972,3,FALSE),"") -> PAULO HIDEAKI | G6: =IF(D6:D6>0,VLOOKUP(D6,Insc.!$A$1:$J$972,4,FALSE),"") -> M | H6: =IF(D6:D6>0,VLOOKUP(D6,Insc.!$A$1:$J$972,5,FALSE),"") -> 16. SUM | I6: =IF(D6:D6>0,VLOOKUP(D6,Insc.!$A$1:$J$972,6,FALSE),"") -> 19749 | J6: =IF(D6:D6>0,VLOOKUP(D6,Insc.!$A$1:$J$972,7,FALSE),"") -> 1 | K6: =IF(D6:D6>0,VLOOKUP(D6,Insc.!$A$1:$J$972,8,FALSE),"") -> EX-NSR | L6: =IF(D6:D6>0,VLOOKUP(D6,Insc.!$A$1:$J$972,9,FALSE),"") -> LIB2026 | M6: =IF(D6:D6>0,VLOOKUP(D6,Insc.!$A$1:$J$972,10,FALSE),"") -> 0 | N6: 786 | O6: =IF(N6:N6>0,VLOOKUP(N6,Insc.!$A$1:$J$972,2,FALSE),"") -> KAMIMURA | P6: =IF(N6:N6>0,VLOOKUP(N6,Insc.!$A$1:$J$972,3,FALSE),"") -> PAULO Y. | Q6: =IF(N6:N6>0,VLOOKUP(N6,Insc.!$A$1:$J$972,4,FALSE),"") -> M | R6: =IF(N6:N6>0,VLOOKUP(N6,Insc.!$A$1:$J$972,5,FALSE),"") -> 11. NCC | S6: =IF(N6:N6>0,VLOOKUP(N6,Insc.!$A$1:$J$972,6,FALSE),"") -> 23165 | T6: =IF(N6:N6>0,VLOOKUP(N6,Insc.!$A$1:$J$972,7,FALSE),"") -> 2 | U6: =IF(N6:N6>0,VLOOKUP(N6,Insc.!$A$1:$J$972,8,FALSE),"") -> EX-NSR | V6: =IF(N6:N6>0,VLOOKUP(N6,Insc.!$A$1:$J$972,9,FALSE),"") -> LIB2026 | W6: =IF(N6:N6>0,VLOOKUP(N6,Insc.!$A$1:$J$972,10,FALSE),"") -> 0 | X6: 489 | Y6: =IF(X6:X6>0,VLOOKUP(X6,Insc.!$A$1:$J$972,2,FALSE),"") -> TOGO | Z6: =IF(X6:X6>0,VLOOKUP(X6,Insc.!$A$1:$J$972,3,FALSE),"") -> NARIKO | AA6: =IF(X6:X6>0,VLOOKUP(X6,Insc.!$A$1:$J$972,4,FALSE),"") -> F | AB6: =IF(X6:X6>0,VLOOKUP(X6,Insc.!$A$1:$J$972,5,FALSE),"") -> 07. GSP | AC6: =IF(X6:X6>0,VLOOKUP(X6,Insc.!$A$1:$J$972,6,FALSE),"") -> 18327 | AD6: =IF(X6:X6>0,VLOOKUP(X6,Insc.!$A$1:$J$972,7,FALSE),"") -> 4 | AE6: =IF(X6:X6>0,VLOOKUP(X6,Insc.!$A$1:$J$972,8,FALSE),"") -> A-SR | AF6: =IF(X6:X6>0,VLOOKUP(X6,Insc.!$A$1:$J$972,9,FALSE),"") -> LIB2026 | AG6: =IF(X6:X6>0,VLOOKUP(X6,Insc.!$A$1:$J$972,10,FALSE),"") -> 0 | AH6: 472 | AI6: =IF(AH6:AH6>0,VLOOKUP(AH6,Insc.!$A$1:$J$972,2,FALSE),"") -> NAKANO | AJ6: =IF(AH6:AH6>0,VLOOKUP(AH6,Insc.!$A$1:$J$972,3,FALSE),"") -> MARIA LUCIA | AK6: =IF(AH6:AH6>0,VLOOKUP(AH6,Insc.!$A$1:$J$972,4,FALSE),"") -> F | AL6: =IF(AH6:AH6>0,VLOOKUP(AH6,Insc.!$A$1:$J$972,5,FALSE),"") -> 11. NCC | AM6: =IF(AH6:AH6>0,VLOOKUP(AH6,Insc.!$A$1:$J$972,6,FALSE),"") -> 18638 | AN6: =IF(AH6:AH6>0,VLOOKUP(AH6,Insc.!$A$1:$J$972,7,FALSE),"") -> 6 | AO6: =IF(AH6:AH6>0,VLOOKUP(AH6,Insc.!$A$1:$J$972,8,FALSE),"") -> A-SR | AP6: =IF(AH6:AH6>0,VLOOKUP(AH6,Insc.!$A$1:$J$972,9,FALSE),"") -> LIB2026 | AQ6: =IF(AH6:AH6>0,VLOOKUP(AH6,Insc.!$A$1:$J$972,10,FALSE),"") -> 0
