Workbook

Sheet Fed.
A2: 131 | B2: IBUSUKI | C2: FUMIYOSHI | D2: M | E2: 01. PIE | F2: 24985 | G2: 4 | H2: A-NSR | I2: LIB2026 | L2: =A2=W2 -> TRUE | M2: =B2=X2 -> TRUE | N2: =C2=Y2 -> TRUE | O2: =D2=Z2 -> TRUE | P2: =E2=AA2 -> TRUE | Q2: =F2=AB2 -> TRUE | R2: =G2=AC2 -> FALSE | S2: =H2=AD2 -> FALSE | ... U2: =J2=AF2 -> TRUE | W2: 131 | X2: IBUSUKI | Y2: FUMIYOSHI | Z2: M | AA2: 01. PIE | AB2: 24985 | AC2: A-NSR | AD2: LIB2026
A3: 168 | B3: INUTSUKA | C3: TIYOKO | D3: F | E3: 01. PIE | F3: 15534 | G3: 9 | H3: B-SR | I3: LIB2026 | L3: =A3=W3 -> TRUE | M3: =B3=X3 -> TRUE | N3: =C3=Y3 -> TRUE | O3: =D3=Z3 -> TRUE | P3: =E3=AA3 -> TRUE | Q3: =F3=AB3 -> TRUE | R3: =G3=AC3 -> FALSE | S3: =H3=AD3 -> FALSE | ... U3: =J3=AF3 -> TRUE | W3: 168 | X3: INUTSUKA | Y3: TIYOKO | Z3: F | AA3: 01. PIE | AB3: 15534 | AC3: B-SR | AD3: LIB2026
A4: 178 | B4: KAWAKAMI | C4: TETSUSHI | D4: M | E4: 01. PIE | F4: 14323 | G4: 6 | H4: A-MR | I4: LIB2026 | L4: =A4=W4 -> TRUE | M4: =B4=X4 -> TRUE | N4: =C4=Y4 -> TRUE | O4: =D4=Z4 -> TRUE | P4: =E4=AA4 -> TRUE | Q4: =F4=AB4 -> TRUE | R4: =G4=AC4 -> FALSE | S4: =H4=AD4 -> FALSE | ... U4: =J4=AF4 -> TRUE | W4: 178 | X4: KAWAKAMI | Y4: TETSUSHI | Z4: M | AA4: 01. PIE | AB4: 14323 | AC4: A-MR | AD4: LIB2026
A5: 201 | B5: MASUDA | C5: TERUO | D5: M | E5: 01. PIE | F5: 15336 | G5: 3 | H5: EX-MR | I5: LIB2026 | L5: =A5=W5 -> TRUE | M5: =B5=X5 -> TRUE | N5: =C5=Y5 -> TRUE | O5: =D5=Z5 -> TRUE | P5: =E5=AA5 -> TRUE | Q5: =F5=AB5 -> TRUE | R5: =G5=AC5 -> FALSE | S5: =H5=AD5 -> FALSE | ... U5: =J5=AF5 -> TRUE | W5: 201 | X5: MASUDA | Y5: TERUO | Z5: M | AA5: 01. PIE | AB5: 15336 | AC5: EX-MR | AD5: LIB2026
A6: 203 | B6: NAKAMURA | C6: EDSON | D6: M | E6: 01. PIE | F6: 21525 | G6: 4 | H6: A-NSR | I6: LIB2026 | L6: =A6=W6 -> TRUE | M6: =B6=X6 -> TRUE | N6: =C6=Y6 -> TRUE | O6: =D6=Z6 -> TRUE | P6: =E6=AA6 -> TRUE | Q6: =F6=AB6 -> TRUE | R6: =G6=AC6 -> FALSE | S6: =H6=AD6 -> FALSE | ... U6: =J6=AF6 -> TRUE | W6: 203 | X6: NAKAMURA | Y6: EDSON | Z6: M | AA6: 01. PIE | AB6: 21525 | AC6: A-NSR | AD6: LIB2026
A7: 248 | B7: NISHIMURA | C7: KESAO | D7: M | E7: 01. PIE | F7: 15479 | G7: 9 | H7: B-SR | I7: LIB2026 | L7: =A7=W7 -> TRUE | M7: =B7=X7 -> TRUE | N7: =C7=Y7 -> TRUE | O7: =D7=Z7 -> TRUE | P7: =E7=AA7 -> TRUE | Q7: =F7=AB7 -> TRUE | R7: =G7=AC7 -> FALSE | S7: =H7=AD7 -> FALSE | ... U7: =J7=AF7 -> TRUE | W7: 248 | X7: NISHIMURA | Y7: KESAO | Z7: M | AA7: 01. PIE | AB7: 15479 | AC7: B-SR | AD7: LIB2026
A8: 249 | B8: NISHIMURA | C8: MITIKO | D8: F | E8: 01. PIE | F8: 15668 | G8: 9 | H8: B-SR | I8: LIB2026 | L8: =A8=W8 -> TRUE | M8: =B8=X8 -> TRUE | N8: =C8=Y8 -> TRUE | O8: =D8=Z8 -> TRUE | P8: =E8=AA8 -> TRUE | Q8: =F8=AB8 -> TRUE | R8: =G8=AC8 -> FALSE | S8: =H8=AD8 -> FALSE | ... U8: =J8=AF8 -> TRUE | W8: 249 | X8: NISHIMURA | Y8: MITIKO | Z8: F | AA8: 01. PIE | AB8: 15668 | AC8: B-SR | AD8: LIB2026
A9: 266 | B9: TOYODA | C9: MATOMU | D9: M | E9: 01. PIE | F9: 13051 | G9: 12 | H9: C-MR | I9: LIB2026i | L9: =A9=W9 -> TRUE | M9: =B9=X9 -> TRUE | N9: =C9=Y9 -> TRUE | O9: =D9=Z9 -> TRUE | P9: =E9=AA9 -> TRUE | Q9: =F9=AB9 -> TRUE | R9: =G9=AC9 -> FALSE | S9: =H9=AD9 -> FALSE | ... U9: =J9=AF9 -> TRUE | W9: 266 | X9: TOYODA | Y9: MATOMU | Z9: M | AA9: 01. PIE | AB9: 13051 | AC9: C-MR | AD9: LIB2026i
A10: 267 | B10: UEYAMA | C10: MARIA KIYOKO | D10: F | E10: 01. PIE | F10: 14975 | G10: 9 | H10: B-MR | I10: LIB2026 | L10: =A10=W10 -> TRUE | M10: =B10=X10 -> TRUE | N10: =C10=Y10 -> TRUE | O10: =D10=Z10 -> TRUE | P10: =E10=AA10 -> TRUE | Q10: =F10=AB10 -> TRUE | R10: =G10=AC10 -> FALSE | S10: =H10=AD10 -> FALSE | ... U10: =J10=AF10 -> TRUE | W10: 267 | X10: UEYAMA | Y10: MARIA KIYOKO | Z10: F | AA10: 01. PIE | AB10: 14975 | AC10: B-MR | AD10: LIB2026
A11: 268 | B11: UEYAMA | C11: TAKINORI | D11: M | E11: 01. PIE | F11: 13234 | G11: 8 | H11: B-MR | I11: LIB2026i | L11: =A11=W11 -> TRUE | M11: =B11=X11 -> TRUE | N11: =C11=Y11 -> TRUE | O11: =D11=Z11 -> TRUE | P11: =E11=AA11 -> TRUE | Q11: =F11=AB11 -> TRUE | R11: =G11=AC11 -> FALSE | S11: =H11=AD11 -> FALSE | ... U11: =J11=AF11 -> TRUE | W11: 268 | X11: UEYAMA | Y11: TAKINORI | Z11: M | AA11: 01. PIE | AB11: 13234 | AC11: B-MR | AD11: LIB2026i
A12: 347 | B12: MASUDA | C12: TIZUKO | D12: F | E12: 01. PIE | F12: 15977 | G12: 5 | H12: A-SR | I12: LIB2026 | L12: =A12=W12 -> TRUE | M12: =B12=X12 -> TRUE | N12: =C12=Y12 -> TRUE | O12: =D12=Z12 -> TRUE | P12: =E12=AA12 -> TRUE | Q12: =F12=AB12 -> TRUE | R12: =G12=AC12 -> FALSE | S12: =H12=AD12 -> FALSE | ... U12: =J12=AF12 -> TRUE | W12: 347 | X12: MASUDA | Y12: TIZUKO | Z12: F | AA12: 01. PIE | AB12: 15977 | AC12: A-SR | AD12: LIB2026
A13: 397 | B13: NAKAZATO | C13: JORGE SHITOMI | D13: M | E13: 01. PIE | F13: 16003 | G13: 12 | H13: C-SR | I13: LIB2026 | L13: =A13=W13 -> TRUE | M13: =B13=X13 -> TRUE | N13: =C13=Y13 -> TRUE | O13: =D13=Z13 -> TRUE | P13: =E13=AA13 -> TRUE | Q13: =F13=AB13 -> TRUE | R13: =G13=AC13 -> FALSE | S13: =H13=AD13 -> FALSE | ... U13: =J13=AF13 -> TRUE | W13: 397 | X13: NAKAZATO | Y13: JORGE SHITOMI | Z13: M | AA13: 01. PIE | AB13: 16003 | AC13: C-SR | AD13: LIB2026
... A18: 402 | B18: ISHIHARA | C18: MARCIO EIDI | D18: M | E18: 01. PIE | F18: 27323 | G18: 12 | H18: C-NSR | I18: LIB2026 | L18: =A18=W18 -> TRUE | M18: =B18=X18 -> TRUE | N18: =C18=Y18 -> TRUE | O18: =D18=Z18 -> TRUE | P18: =E18=AA18 -> TRUE | Q18: =F18=AB18 -> TRUE | R18: =G18=AC18 -> FALSE | S18: =H18=AD18 -> FALSE | ... U18: =J18=AF18 -> TRUE | W18: 402 | X18: ISHIHARA | Y18: MARCIO EIDI | Z18: M | AA18: 01. PIE | AB18: 27323 | AC18: C-NSR | AD18: LIB2026
A19: 434 | B19: KATO | C19: MASSAKAZU | D19: M | E19: 01. PIE | F19: 15/07/1960 | G19: 4 | H19: A-NSR | I19: LIB2026 | L19: =A19=W19 -> TRUE | M19: =B19=X19 -> TRUE | N19: =C19=Y19 -> TRUE | O19: =D19=Z19 -> TRUE | P19: =E19=AA19 -> TRUE | Q19: =F19=AB19 -> TRUE | R19: =G19=AC19 -> FALSE | S19: =H19=AD19 -> FALSE | ... U19: =J19=AF19 -> TRUE | W19: 434 | X19: KATO | Y19: MASSAKAZU | Z19: M | AA19: 01. PIE | AB19: 15/07/1960 | AC19: A-NSR | AD19: LIB2026
A20: 437 | B20: SACAMOTO | C20: MORIO | D20: M | E20: 01. PIE | F20: 23045 | G20: 5 | H20: A-NSR | I20: LIB2026 | L20: =A20=W20 -> TRUE | M20: =B20=X20 -> TRUE | N20: =C20=Y20 -> TRUE | O20: =D20=Z20 -> TRUE | P20: =E20=AA20 -> TRUE | Q20: =F20=AB20 -> TRUE | R20: =G20=AC20 -> FALSE | S20: =H20=AD20 -> FALSE | ... U20: =J20=AF20 -> TRUE | W20: 437 | X20: SACAMOTO | Y20: MORIO | Z20: M | AA20: 01. PIE | AB20: 23045 | AC20: A-NSR | AD20: LIB2026
A21: 442 | B21: ARIZAWA | C21: MARIKO | D21: F | E21: 01. PIE | F21: 17503 | G21: 6 | H21: A-SR | I21: LIB2026 | L21: =A21=W21 -> TRUE | M21: =B21=X21 -> TRUE | N21: =C21=Y21 -> TRUE | O21: =D21=Z21 -> TRUE | P21: =E21=AA21 -> TRUE | Q21: =F21=AB21 -> TRUE | R21: =G21=AC21 -> FALSE | S21: =H21=AD21 -> FALSE | ... U21: =J21=AF21 -> TRUE | W21: 442 | X21: ARIZAWA | Y21: MARIKO | Z21: F | AA21: 01. PIE | AB21: 17503 | AC21: A-SR | AD21: LIB2026
A22: 526 | B22: NAKAMURA | C22: EMI KAWAKAMI | D22: F | E22: 01. PIE | F22: 21828 | G22: 12 | H22: C-NSR | I22: LIB2026 | L22: =A22=W22 -> TRUE | M22: =B22=X22 -> TRUE | N22: =C22=Y22 -> TRUE | O22: =D22=Z22 -> TRUE | P22: =E22=AA22 -> TRUE | Q22: =F22=AB22 -> TRUE | R22: =G22=AC22 -> FALSE | S22: =H22=AD22 -> FALSE | ... U22: =J22=AF22 -> TRUE | W22: 526 | X22: NAKAMURA | Y22: EMI KAWAKAMI | Z22: F | AA22: 01. PIE | AB22: 21828 | AC22: C-NSR | AD22: LIB2026
A23: 617 | B23: DOKAN | C23: CARLOS EIITI | D23: M | E23: 01. PIE | F23: 22800 | G23: 4 | H23: A-NSR | I23: LIB2026 | L23: =A23=W23 -> TRUE | M23: =B23=X23 -> TRUE | N23: =C23=Y23 -> TRUE | O23: =D23=Z23 -> TRUE | P23: =E23=AA23 -> TRUE | Q23: =F23=AB23 -> TRUE | R23: =G23=AC23 -> FALSE | S23: =H23=AD23 -> FALSE | ... U23: =J23=AF23 -> TRUE | W23: 617 | X23: DOKAN | Y23: CARLOS EIITI | Z23: M | AA23: 01. PIE | AB23: 22800 | AC23: A-NSR | AD23: LIB2026
A24: 653 | B24: TAKAMUNE | C24: ATSUSHI | D24: M | E24: 01. PIE | F24: 16893 | G24: 8 | H24: B-SR | I24: LIB2026 | L24: =A24=W24 -> TRUE | M24: =B24=X24 -> TRUE | N24: =C24=Y24 -> TRUE | O24: =D24=Z24 -> TRUE | P24: =E24=AA24 -> TRUE | Q24: =F24=AB24 -> TRUE | R24: =G24=AC24 -> FALSE | S24: =H24=AD24 -> FALSE | ... U24: =J24=AF24 -> TRUE | W24: 653 | X24: TAKAMUNE | Y24: ATSUSHI | Z24: M | AA24: 01. PIE | AB24: 16893 | AC24: B-SR | AD24: LIB2026
A25: 694 | B25: MISHIMA | C25: JUNITI | D25: M | E25: 01. PIE | F25: 18652 | G25: 12 | H25: C-SR | I25: LIB2026 | L25: =A25=W25 -> TRUE | M25: =B25=X25 -> TRUE | N25: =C25=Y25 -> TRUE | O25: =D25=Z25 -> TRUE | P25: =E25=AA25 -> TRUE | Q25: =F25=AB25 -> TRUE | R25: =G25=AC25 -> FALSE | S25: =H25=AD25 -> FALSE | ... U25: =J25=AF25 -> TRUE | W25: 694 | X25: MISHIMA | Y25: JUNITI | Z25: M | AA25: 01. PIE | AB25: 18652 | AC25: C-SR | AD25: LIB2026
A26: 699 | B26: MISOBUSHI | C26: ARMANDO KOMI | D26: M | E26: 01. PIE | F26: 21065 | G26: 11 | H26: C-NSR | I26: LIB2026 | L26: =A26=W26 -> TRUE | M26: =B26=X26 -> TRUE | N26: =C26=Y26 -> TRUE | O26: =D26=Z26 -> TRUE | P26: =E26=AA26 -> TRUE | Q26: =F26=AB26 -> TRUE | R26: =G26=AC26 -> FALSE | S26: =H26=AD26 -> FALSE | ... U26: =J26=AF26 -> TRUE | W26: 699 | X26: MISOBUSHI | Y26: ARMANDO KOMI | Z26: M | AA26: 01. PIE | AB26: 21065 | AC26: C-NSR | AD26: LIB2026
A27: 700 | B27: TAKAMUNE MISOBUSHI | C27: JURACI HIROKO | D27: F | E27: 01. PIE | F27: 21779 | G27: 12 | H27: C-NSR | I27: LIB2026 | L27: =A27=W27 -> TRUE | M27: =B27=X27 -> TRUE | N27: =C27=Y27 -> TRUE | O27: =D27=Z27 -> TRUE | P27: =E27=AA27 -> TRUE | Q27: =F27=AB27 -> TRUE | R27: =G27=AC27 -> FALSE | S27: =H27=AD27 -> FALSE | ... U27: =J27=AF27 -> TRUE | W27: 700 | X27: TAKAMUNE MISOBUSHI | Y27: JURACI HIROKO | Z27: F | AA27: 01. PIE | AB27: 21779 | AC27: C-NSR | AD27: LIB2026
A28: 744 | B28: UEMURA | C28: JORGE | D28: M | E28: 01. PIE | F28: 29247 | G28: 9 | H28: B-NSR | I28: LIB2026 | L28: =A28=W28 -> TRUE | M28: =B28=X28 -> TRUE | N28: =C28=Y28 -> TRUE | O28: =D28=Z28 -> TRUE | P28: =E28=AA28 -> TRUE | Q28: =F28=AB28 -> TRUE | R28: =G28=AC28 -> FALSE | S28: =H28=AD28 -> FALSE | ... U28: =J28=AF28 -> TRUE | W28: 744 | X28: UEMURA | Y28: JORGE | Z28: M | AA28: 01. PIE | AB28: 29247 | AC28: B-NSR | AD28: LIB2026
A29: 763 | B29: ANTAL MASUDA | C29: RODRIGO YUJI | D29: M | E29: 01. PIE | F29: 41082 | G29: 12 | H29: C-NSR | I29: LIB2026 | L29: =A29=W29 -> TRUE | M29: =B29=X29 -> TRUE | N29: =C29=Y29 -> TRUE | O29: =D29=Z29 -> TRUE | P29: =E29=AA29 -> TRUE | Q29: =F29=AB29 -> TRUE | R29: =G29=AC29 -> FALSE | S29: =H29=AD29 -> FALSE | ... U29: =J29=AF29 -> TRUE | W29: 763 | X29: ANTAL MASUDA | Y29: RODRIGO YUJI | Z29: M | AA29: 01. PIE | AB29: 41082 | AC29: C-NSR | AD29: LIB2026
A30: 764 | B30: ISHIHARA | C30: HILTON HARUAKI | D30: M | E30: 01. PIE | F30: 41116 | G30: 12 | H30: C-NSR | I30: LIB2026 | L30: =A30=W30 -> TRUE | M30: =B30=X30 -> TRUE | N30: =C30=Y30 -> TRUE | O30: =D30=Z30 -> TRUE | P30: =E30=AA30 -> TRUE | Q30: =F30=AB30 -> TRUE | R30: =G30=AC30 -> FALSE | S30: =H30=AD30 -> FALSE | ... U30: =J30=AF30 -> TRUE | W30: 764 | X30: ISHIHARA | Y30: HILTON HARUAKI | Z30: M | AA30: 01. PIE | AB30: 41116 | AC30: C-NSR | AD30: LIB2026
A31: 866 | B31: SAKAGUTI | C31: MARIO | D31: M | E31: 01. PIE | F31: 28572 | G31: 5 | H31: A-NSR | I31: LIB2026 | L31: =A31=W31 -> TRUE | M31: =B31=X31 -> TRUE | N31: =C31=Y31 -> TRUE | O31: =D31=Z31 -> TRUE | P31: =E31=AA31 -> TRUE | Q31: =F31=AB31 -> TRUE | R31: =G31=AC31 -> FALSE | S31: =H31=AD31 -> FALSE | ... U31: =J31=AF31 -> TRUE | W31: 866 | X31: SAKAGUTI | Y31: MARIO | Z31: M | AA31: 01. PIE | AB31: 28572 | AC31: A-NSR | AD31: LIB2026
A32: 876 | B32: DE MELO DE JESUS | C32: BRUNO | D32: M | E32: 01. PIE | F32: 34349 | G32: 4 | H32: A-NSR | I32: LIB2026 | L32: =A32=W32 -> TRUE | M32: =B32=X32 -> TRUE | N32: =C32=Y32 -> TRUE | O32: =D32=Z32 -> TRUE | P32: =E32=AA32 -> TRUE | Q32: =F32=AB32 -> TRUE | R32: =G32=AC32 -> FALSE | S32: =H32=AD32 -> FALSE | ... U32: =J32=AF32 -> TRUE | W32: 876 | X32: DE MELO DE JESUS | Y32: BRUNO | Z32: M | AA32: 01. PIE | AB32: 34349 | AC32: A-NSR | AD32: LIB2026
A33: 917 | B33: SAKAGUTI KAWANAKA | C33: YOUKO | D33: F | E33: 01. PIE | F33: 18970 | G33: 12 | H33: C-SR | I33: LIB2026 | L33: =A33=W33 -> TRUE | M33: =B33=X33 -> TRUE | N33: =C33=Y33 -> TRUE | O33: =D33=Z33 -> TRUE | P33: =E33=AA33 -> TRUE | Q33: =F33=AB33 -> TRUE | R33: =G33=AC33 -> FALSE | S33: =H33=AD33 -> FALSE | ... U33: =J33=AF33 -> TRUE | W33: 917 | X33: SAKAGUTI KAWANAKA | Y33: YOUKO | Z33: F | AA33: 01. PIE | AB33: 18970 | AC33: C-SR | AD33: LIB2026
A34: 958 | B34: NUNES | C34: MARIA HELENA | D34: F | E34: 01. PIE | F34: 16884 | G34: 12 | H34: C-SR | I34: LIB2026 | L34: =A34=W34 -> TRUE | M34: =B34=X34 -> TRUE | N34: =C34=Y34 -> TRUE | O34: =D34=Z34 -> TRUE | P34: =E34=AA34 -> TRUE | Q34: =F34=AB34 -> TRUE | R34: =G34=AC34 -> FALSE | S34: =H34=AD34 -> FALSE | ... U34: =J34=AF34 -> TRUE | W34: 958 | X34: NUNES | Y34: MARIA HELENA | Z34: F | AA34: 01. PIE | AB34: 16884 | AC34: C-SR | AD34: LIB2026
A35: 976 | B35: MORI | C35: SADAO | D35: M | E35: 01. PIE | F35: 19729 | G35: 8 | H35: B-NSR | I35: LIB2026 | L35: =A35=W35 -> TRUE | M35: =B35=X35 -> TRUE | N35: =C35=Y35 -> TRUE | O35: =D35=Z35 -> TRUE | P35: =E35=AA35 -> TRUE | Q35: =F35=AB35 -> TRUE | R35: =G35=AC35 -> FALSE | S35: =H35=AD35 -> FALSE | ... U35: =J35=AF35 -> TRUE | W35: 976 | X35: MORI | Y35: SADAO | Z35: M | AA35: 01. PIE | AB35: 19729 | AC35: B-NSR | AD35: LIB2026
A36: 991 | B36: KANAI | C36: MICHIO | D36: M | E36: 01. PIE | F36: 19641 | G36: 1 | H36: EX-NSR | I36: LIB2026 | L36: =A36=W36 -> TRUE | M36: =B36=X36 -> TRUE | N36: =C36=Y36 -> TRUE | O36: =D36=Z36 -> TRUE | P36: =E36=AA36 -> TRUE | Q36: =F36=AB36 -> TRUE | R36: =G36=AC36 -> FALSE | S36: =H36=AD36 -> FALSE | ... U36: =J36=AF36 -> TRUE | W36: 991 | X36: KANAI | Y36: MICHIO | Z36: M | AA36: 01. PIE | AB36: 19641 | AC36: EX-NSR | AD36: LIB2026
A37: 001 | B37: SAITO | C37: ISSAO | D37: M | E37: 03. IBI | F37: 14862 | G37: 12 | H37: C-MR | I37: LIB2026 | L37: =A37=W37 -> TRUE | M37: =B37=X37 -> TRUE | N37: =C37=Y37 -> TRUE | O37: =D37=Z37 -> TRUE | P37: =E37=AA37 -> TRUE | Q37: =F37=AB37 -> TRUE | R37: =G37=AC37 -> FALSE | S37: =H37=AD37 -> FALSE | ... U37: =J37=AF37 -> TRUE | W37: 001 | X37: SAITO | Y37: ISSAO | Z37: M | AA37: 03. IBI | AB37: 14862 | AC37: C-MR | AD37: LIB2026
... A39: 010 | B39: FURUYA | C39: ISAO | D39: M | E39: 03. IBI | F39: 14983 | G39: 3 | H39: EX-MR | I39: LIB2026 | L39: =A39=W39 -> TRUE | M39: =B39=X39 -> TRUE | N39: =C39=Y39 -> TRUE | O39: =D39=Z39 -> TRUE | P39: =E39=AA39 -> TRUE | Q39: =F39=AB39 -> TRUE | R39: =G39=AC39 -> FALSE | S39: =H39=AD39 -> FALSE | ... U39: =J39=AF39 -> TRUE | W39: 010 | X39: FURUYA | Y39: ISAO | Z39: M | AA39: 03. IBI | AB39: 14983 | AC39: EX-MR | AD39: LIB2026
A40: 11 | B40: FURUYA | C40: AYAKO | D40: F | E40: 03. IBI | F40: 17976 | G40: 7 | H40: B-SR | I40: LIB2026 | L40: =A40=W40 -> TRUE | M40: =B40=X40 -> TRUE | N40: =C40=Y40 -> TRUE | O40: =D40=Z40 -> TRUE | P40: =E40=AA40 -> TRUE | Q40: =F40=AB40 -> TRUE | R40: =G40=AC40 -> FALSE | S40: =H40=AD40 -> FALSE | ... U40: =J40=AF40 -> TRUE | W40: 11 | X40: FURUYA | Y40: AYAKO | Z40: F | AA40: 03. IBI | AB40: 17976 | AC40: B-SR | AD40: LIB2026
A41: 012 | B41: SHIMIZU | C41: HIDEO | D41: M | E41: 03. IBI | F41: 15076 | G41: 9 | H41: B-MR | I41: LIB2026 | L41: =A41=W41 -> TRUE | M41: =B41=X41 -> TRUE | N41: =C41=Y41 -> TRUE | O41: =D41=Z41 -> TRUE | P41: =E41=AA41 -> TRUE | Q41: =F41=AB41 -> TRUE | R41: =G41=AC41 -> FALSE | S41: =H41=AD41 -> FALSE | ... U41: =J41=AF41 -> TRUE | W41: 012 | X41: SHIMIZU | Y41: HIDEO | Z41: M | AA41: 03. IBI | AB41: 15076 | AC41: B-MR | AD41: LIB2026
A42: 017 | B42: SHIMOYAMA | C42: KAZUKO | D42: F | E42: 03. IBI | F42: 14507 | G42: 8 | H42: B-MR | I42: LIB2026 | L42: =A42=W42 -> TRUE | M42: =B42=X42 -> TRUE | N42: =C42=Y42 -> TRUE | O42: =D42=Z42 -> TRUE | P42: =E42=AA42 -> TRUE | Q42: =F42=AB42 -> TRUE | R42: =G42=AC42 -> FALSE | S42: =H42=AD42 -> FALSE | ... U42: =J42=AF42 -> TRUE | W42: 017 | X42: SHIMOYAMA | Y42: KAZUKO | Z42: F | AA42: 03. IBI | AB42: 14507 | AC42: B-MR | AD42: LIB2026
A43: 019 | B43: YOSHIZUMI | C43: MASARU | D43: M | E43: 03. IBI | F43: 11650 | G43: 7 | H43: B-MR | I43: LIB2026i | L43: =A43=W43 -> TRUE | M43: =B43=X43 -> TRUE | N43: =C43=Y43 -> TRUE | O43: =D43=Z43 -> TRUE | P43: =E43=AA43 -> TRUE | Q43: =F43=AB43 -> TRUE | R43: =G43=AC43 -> FALSE | S43: =H43=AD43 -> FALSE | ... U43: =J43=AF43 -> TRUE | W43: 019 | X43: YOSHIZUMI | Y43: MASARU | Z43: M | AA43: 03. IBI | AB43: 11650 | AC43: B-MR | AD43: LIB2026i
A44: 022 | B44: MIYAJI | C44: SETSUKO | D44: F | E44: 03. IBI | F44: 16538 | G44: 12 | H44: C-SR | I44: LIB2026 | L44: =A44=W44 -> TRUE | M44: =B44=X44 -> TRUE | N44: =C44=Y44 -> TRUE | O44: =D44=Z44 -> TRUE | P44: =E44=AA44 -> TRUE | Q44: =F44=AB44 -> TRUE | R44: =G44=AC44 -> FALSE | S44: =H44=AD44 -> FALSE | ... U44: =J44=AF44 -> TRUE | W44: 022 | X44: MIYAJI | Y44: SETSUKO | Z44: F | AA44: 03. IBI | AB44: 16538 | AC44: C-SR | AD44: LIB2026
A45: 037 | B45: UCHIMURA | C45: HISAO | D45: M | E45: 03. IBI | F45: 10971 | G45: 6 | H45: A-MR | I45: LIB2026i | L45: =A45=W45 -> TRUE | M45: =B45=X45 -> TRUE | N45: =C45=Y45 -> TRUE | O45: =D45=Z45 -> TRUE | P45: =E45=AA45 -> TRUE | Q45: =F45=AB45 -> TRUE | R45: =G45=AC45 -> FALSE | S45: =H45=AD45 -> FALSE | ... U45: =J45=AF45 -> TRUE | W45: 037 | X45: UCHIMURA | Y45: HISAO | Z45: M | AA45: 03. IBI | AB45: 10971 | AC45: A-MR | AD45: LIB2026i
A46: 055 | B46: OZAKI | C46: MIE | D46: F | E46: 03. IBI | F46: 15211 | G46: 5 | H46: A-MR | I46: LIB2026 | L46: =A46=W46 -> TRUE | M46: =B46=X46 -> TRUE | N46: =C46=Y46 -> TRUE | O46: =D46=Z46 -> TRUE | P46: =E46=AA46 -> TRUE | Q46: =F46=AB46 -> TRUE | R46: =G46=AC46 -> FALSE | S46: =H46=AD46 -> FALSE | ... U46: =J46=AF46 -> TRUE | W46: 055 | X46: OZAKI | Y46: MIE | Z46: F | AA46: 03. IBI | AB46: 15211 | AC46: A-MR | AD46: LIB2026
A47: 068 | B47: OZAKI | C47: TOMIKO | D47: F | E47: 03. IBI | F47: 16167 | G47: 9 | H47: B-SR | I47: LIB2026 | L47: =A47=W47 -> TRUE | M47: =B47=X47 -> TRUE | N47: =C47=Y47 -> TRUE | O47: =D47=Z47 -> TRUE | P47: =E47=AA47 -> TRUE | Q47: =F47=AB47 -> TRUE | R47: =G47=AC47 -> FALSE | S47: =H47=AD47 -> FALSE | ... U47: =J47=AF47 -> TRUE | W47: 068 | X47: OZAKI | Y47: TOMIKO | Z47: F | AA47: 03. IBI | AB47: 16167 | AC47: B-SR | AD47: LIB2026
A48: 073 | B48: TAKANO | C48: YASUO | D48: M | E48: 03. IBI | F48: 16369 | G48: 6 | H48: A-SR | I48: LIB2026 | L48: =A48=W48 -> TRUE | M48: =B48=X48 -> TRUE | N48: =C48=Y48 -> TRUE | O48: =D48=Z48 -> TRUE | P48: =E48=AA48 -> TRUE | Q48: =F48=AB48 -> TRUE | R48: =G48=AC48 -> FALSE | S48: =H48=AD48 -> FALSE | ... U48: =J48=AF48 -> TRUE | W48: 073 | X48: TAKANO | Y48: YASUO | Z48: M | AA48: 03. IBI | AB48: 16369 | AC48: A-SR | AD48: LIB2026
A49: 084 | B49: YAMASHITA | C49: KAZUO | D49: M | E49: 03. IBI | F49: 14666 | G49: 8 | H49: B-MR | I49: LIB2026 | L49: =A49=W49 -> TRUE | M49: =B49=X49 -> TRUE | N49: =C49=Y49 -> TRUE | O49: =D49=Z49 -> TRUE | P49: =E49=AA49 -> TRUE | Q49: =F49=AB49 -> TRUE | R49: =G49=AC49 -> FALSE | S49: =H49=AD49 -> FALSE | ... U49: =J49=AF49 -> TRUE | W49: 084 | X49: YAMASHITA | Y49: KAZUO | Z49: M | AA49: 03. IBI | AB49: 14666 | AC49: B-MR | AD49: LIB2026
A50: 091 | B50: YAMANOUCHI | C50: HIROKO | D50: F | E50: 03. IBI | F50: 13448 | G50: 12 | H50: C-MR | I50: LIB2026i | L50: =A50=W50 -> TRUE | M50: =B50=X50 -> TRUE | N50: =C50=Y50 -> TRUE | O50: =D50=Z50 -> TRUE | P50: =E50=AA50 -> TRUE | Q50: =F50=AB50 -> TRUE | R50: =G50=AC50 -> FALSE | S50: =H50=AD50 -> FALSE | ... U50: =J50=AF50 -> TRUE | W50: 091 | X50: YAMANOUCHI | Y50: HIROKO | Z50: F | AA50: 03. IBI | AB50: 13448 | AC50: C-MR | AD50: LIB2026i
A51: 097 | B51: MUKAYAMA | C51: AMELIA | D51: F | E51: 03. IBI | F51: 19188 | G51: 7 | H51: B-NSR | I51: LIB2026 | L51: =A51=W51 -> TRUE | M51: =B51=X51 -> TRUE | N51: =C51=Y51 -> TRUE | O51: =D51=Z51 -> TRUE | P51: =E51=AA51 -> TRUE | Q51: =F51=AB51 -> TRUE | R51: =G51=AC51 -> FALSE | S51: =H51=AD51 -> FALSE | ... U51: =J51=AF51 -> TRUE | W51: 097 | X51: MUKAYAMA | Y51: AMELIA | Z51: F | AA51: 03. IBI | AB51: 19188 | AC51: B-NSR | AD51: LIB2026
A52: 108 | B52: KAWANO | C52: KIYOKO | D52: F | E52: 03. IBI | F52: 16772 | G52: 7 | H52: B-SR | I52: LIB2026 | L52: =A52=W52 -> TRUE | M52: =B52=X52 -> TRUE | N52: =C52=Y52 -> TRUE | O52: =D52=Z52 -> TRUE | P52: =E52=AA52 -> TRUE | Q52: =F52=AB52 -> TRUE | R52: =G52=AC52 -> FALSE | S52: =H52=AD52 -> FALSE | ... U52: =J52=AF52 -> TRUE | W52: 108 | X52: KAWANO | Y52: KIYOKO | Z52: F | AA52: 03. IBI | AB52: 16772 | AC52: B-SR | AD52: LIB2026
... A64: 782 | B64: MATSUMOTO | C64: KAZUKO | D64: F | E64: 03. IBI | F64: 13623 | G64: 9 | H64: B-MR | I64: LIB2026 | L64: =A64=W64 -> TRUE | M64: =B64=X64 -> TRUE | N64: =C64=Y64 -> TRUE | O64: =D64=Z64 -> TRUE | P64: =E64=AA64 -> TRUE | Q64: =F64=AB64 -> TRUE | R64: =G64=AC64 -> FALSE | S64: =H64=AD64 -> FALSE | ... U64: =J64=AF64 -> TRUE | W64: 782 | X64: MATSUMOTO | Y64: KAZUKO | Z64: F | AA64: 03. IBI | AB64: 13623 | AC64: B-MR | AD64: LIB2026
A65: 800 | B65: FIUZA DE OLIVEIRA | C65: IVAN | D65: M | E65: 03. IBI | F65: 29849 | G65: 2 | H65: EX-NSR | I65: LIB2026 | L65: =A65=W65 -> FALSE | M65: =B65=X65 -> TRUE | N65: =C65=Y65 -> TRUE | O65: =D65=Z65 -> TRUE | P65: =E65=AA65 -> TRUE | Q65: =F65=AB65 -> TRUE | R65: =G65=AC65 -> FALSE | S65: =H65=AD65 -> FALSE | ... U65: =J65=AF65 -> TRUE | W65: 800 | X65: FIUZA DE OLIVEIRA | Y65: IVAN | Z65: M | AA65: 03. IBI | AB65: 29849 | AC65: EX-NSR | AD65: LIB2026
A66: 825 | B66: TAKANO | C66: NOBUKI | D66: M | E66: 03. IBI | F66: 17060 | G66: 4 | H66: A-SR | I66: LIB2026 | L66: =A66=W66 -> TRUE | M66: =B66=X66 -> TRUE | N66: =C66=Y66 -> TRUE | O66: =D66=Z66 -> TRUE | P66: =E66=AA66 -> TRUE | Q66: =F66=AB66 -> TRUE | R66: =G66=AC66 -> FALSE | S66: =H66=AD66 -> FALSE | ... U66: =J66=AF66 -> TRUE | W66: 825 | X66: TAKANO | Y66: NOBUKI | Z66: M | AA66: 03. IBI | AB66: 17060 | AC66: A-SR | AD66: LIB2026
A67: 834 | B67: YAMANO | C67: PAULO | D67: M | E67: 03. IBI | F67: 17828 | G67: 6 | H67: A-SR | I67: LIB2026 | L67: =A67=W67 -> TRUE | M67: =B67=X67 -> TRUE | N67: =C67=Y67 -> TRUE | O67: =D67=Z67 -> TRUE | P67: =E67=AA67 -> TRUE | Q67: =F67=AB67 -> TRUE | R67: =G67=AC67 -> FALSE | S67: =H67=AD67 -> FALSE | ... U67: =J67=AF67 -> TRUE | W67: 834 | X67: YAMANO | Y67: PAULO | Z67: M | AA67: 03. IBI | AB67: 17828 | AC67: A-SR | AD67: LIB2026
A68: 835 | B68: YAMANO | C68: ROSA | D68: F | E68: 03. IBI | F68: 20212 | G68: 8 | H68: B-NSR | I68: LIB2026 | L68: =A68=W68 -> TRUE | M68: =B68=X68 -> TRUE | N68: =C68=Y68 -> TRUE | O68: =D68=Z68 -> TRUE | P68: =E68=AA68 -> TRUE | Q68: =F68=AB68 -> TRUE | R68: =G68=AC68 -> FALSE | S68: =H68=AD68 -> FALSE | ... U68: =J68=AF68 -> TRUE | W68: 835 | X68: YAMANO | Y68: ROSA | Z68: F | AA68: 03. IBI | AB68: 20212 | AC68: B-NSR | AD68: LIB2026
A69: 855 | B69: YAMANO | C69: MASSAKATSU | D69: M | E69: 03. IBI | F69: 16365 | G69: 5 | H69: A-SR | I69: LIB2026 | L69: =A69=W69 -> TRUE | M69: =B69=X69 -> TRUE | N69: =C69=Y69 -> TRUE | O69: =D69=Z69 -> TRUE | P69: =E69=AA69 -> TRUE | Q69: =F69=AB69 -> TRUE | R69: =G69=AC69 -> FALSE | S69: =H69=AD69 -> FALSE | ... U69: =J69=AF69 -> TRUE | W69: 855 | X69: YAMANO | Y69: MASSAKATSU | Z69: M | AA69: 03. IBI | AB69: 16365 | AC69: A-SR | AD69: LIB2026
A70: 856 | B70: YAMANO | C70: ISABEL TIYOKO | D70: F | E70: 03. IBI | F70: 18926 | G70: 9 | H70: B-SR | I70: LIB2026 | L70: =A70=W70 -> TRUE | M70: =B70=X70 -> TRUE | N70: =C70=Y70 -> TRUE | O70: =D70=Z70 -> TRUE | P70: =E70=AA70 -> TRUE | Q70: =F70=AB70 -> TRUE | R70: =G70=AC70 -> FALSE | S70: =H70=AD70 -> FALSE | ... U70: =J70=AF70 -> TRUE | W70: 856 | X70: YAMANO | Y70: ISABEL TIYOKO | Z70: F | AA70: 03. IBI | AB70: 18926 | AC70: B-SR | AD70: LIB2026
A71: 141 | B71: HASHIZUME | C71: AKIO | D71: M | E71: 06. KOK | F71: 16851 | G71: 6 | H71: A-SR | I71: LIB2026 | L71: =A71=W71 -> TRUE | M71: =B71=X71 -> TRUE | N71: =C71=Y71 -> TRUE | O71: =D71=Z71 -> TRUE | P71: =E71=AA71 -> TRUE | Q71: =F71=AB71 -> TRUE | R71: =G71=AC71 -> FALSE | S71: =H71=AD71 -> FALSE | ... U71: =J71=AF71 -> TRUE | W71: 141 | X71: HASHIZUME | Y71: AKIO | Z71: M | AA71: 06. KOK | AB71: 16851 | AC71: A-SR | AD71: LIB2026
A72: 143 | B72: KUROKI | C72: MISAKO | D72: F | E72: 06. KOK | F72: 14045 | G72: 9 | H72: B-MR | I72: LIB2026 | L72: =A72=W72 -> TRUE | M72: =B72=X72 -> TRUE | N72: =C72=Y72 -> TRUE | O72: =D72=Z72 -> TRUE | P72: =E72=AA72 -> TRUE | Q72: =F72=AB72 -> TRUE | R72: =G72=AC72 -> FALSE | S72: =H72=AD72 -> FALSE | ... U72: =J72=AF72 -> TRUE | W72: 143 | X72: KUROKI | Y72: MISAKO | Z72: F | AA72: 06. KOK | AB72: 14045 | AC72: B-MR | AD72: LIB2026
A73: 145 | B73: NISHIMURA | C73: CHISEKO | D73: F | E73: 06. KOK | F73: 17575 | G73: 9 | H73: B-SR | I73: LIB2026 | L73: =A73=W73 -> TRUE | M73: =B73=X73 -> TRUE | N73: =C73=Y73 -> TRUE | O73: =D73=Z73 -> TRUE | P73: =E73=AA73 -> TRUE | Q73: =F73=AB73 -> TRUE | R73: =G73=AC73 -> FALSE | S73: =H73=AD73 -> FALSE | ... U73: =J73=AF73 -> TRUE | W73: 145 | X73: NISHIMURA | Y73: CHISEKO | Z73: F | AA73: 06. KOK | AB73: 17575 | AC73: B-SR | AD73: LIB2026
A74: 146 | B74: YAMASHITA | C74: MISSAO | D74: F | E74: 06. KOK | F74: 15561 | G74: 12 | H74: C-SR | I74: LIB2026 | L74: =A74=W74 -> TRUE | M74: =B74=X74 -> TRUE | N74: =C74=Y74 -> TRUE | O74: =D74=Z74 -> TRUE | P74: =E74=AA74 -> TRUE | Q74: =F74=AB74 -> TRUE | R74: =G74=AC74 -> FALSE | S74: =H74=AD74 -> FALSE | ... U74: =J74=AF74 -> TRUE | W74: 146 | X74: YAMASHITA | Y74: MISSAO | Z74: F | AA74: 06. KOK | AB74: 15561 | AC74: C-SR | AD74: LIB2026
A75: 152 | B75: SHIRAHATA | C75: MAKOTO | D75: M | E75: 06. KOK | F75: 13189 | G75: 9 | H75: B-MR | I75: LIB2026i | L75: =A75=W75 -> TRUE | M75: =B75=X75 -> TRUE | N75: =C75=Y75 -> TRUE | O75: =D75=Z75 -> TRUE | P75: =E75=AA75 -> TRUE | Q75: =F75=AB75 -> TRUE | R75: =G75=AC75 -> FALSE | S75: =H75=AD75 -> FALSE | ... U75: =J75=AF75 -> TRUE | W75: 152 | X75: SHIRAHATA | Y75: MAKOTO | Z75: M | AA75: 06. KOK | AB75: 13189 | AC75: B-MR | AD75: LIB2026i
A76: 153 | B76: FURUKAWA | C76: FUMIKO | D76: F | E76: 06. KOK | F76: 13386 | G76: 12 | H76: C-MR | I76: LIB2026i | L76: =A76=W76 -> TRUE | M76: =B76=X76 -> TRUE | N76: =C76=Y76 -> TRUE | O76: =D76=Z76 -> TRUE | P76: =E76=AA76 -> TRUE | Q76: =F76=AB76 -> TRUE | R76: =G76=AC76 -> FALSE | S76: =H76=AD76 -> FALSE | ... U76: =J76=AF76 -> TRUE | W76: 153 | X76: FURUKAWA | Y76: FUMIKO | Z76: F | AA76: 06. KOK | AB76: 13386 | AC76: C-MR | AD76: LIB2026i
A77: 155 | B77: HASHIZUME | C77: AKIKO | D77: F | E77: 06. KOK | F77: 18684 | G77: 6 | H77: A-SR | I77: LIB2026 | L77: =A77=W77 -> TRUE | M77: =B77=X77 -> TRUE | N77: =C77=Y77 -> TRUE | O77: =D77=Z77 -> TRUE | P77: =E77=AA77 -> TRUE | Q77: =F77=AB77 -> TRUE | R77: =G77=AC77 -> FALSE | S77: =H77=AD77 -> FALSE | ... U77: =J77=AF77 -> TRUE | W77: 155 | X77: HASHIZUME | Y77: AKIKO | Z77: F | AA77: 06. KOK | AB77: 18684 | AC77: A-SR | AD77: LIB2026
A78: 167 | B78: NOZAWA | C78: YURIKO | D78: F | E78: 06. KOK | F78: 13844 | G78: 12 | H78: C-MR | I78: LIB2026 | L78: =A78=W78 -> TRUE | M78: =B78=X78 -> TRUE | N78: =C78=Y78 -> TRUE | O78: =D78=Z78 -> TRUE | P78: =E78=AA78 -> TRUE | Q78: =F78=AB78 -> TRUE | R78: =G78=AC78 -> FALSE | S78: =H78=AD78 -> FALSE | ... U78: =J78=AF78 -> TRUE | W78: 167 | X78: NOZAWA | Y78: YURIKO | Z78: F | AA78: 06. KOK | AB78: 13844 | AC78: C-MR | AD78: LIB2026
A79: 169 | B79: SILVA | C79: MANOEL | D79: M | E79: 06. KOK | F79: 20205 | G79: 9 | H79: B-NSR | I79: LIB2026 | L79: =A79=W79 -> TRUE | M79: =B79=X79 -> TRUE | N79: =C79=Y79 -> TRUE | O79: =D79=Z79 -> TRUE | P79: =E79=AA79 -> TRUE | Q79: =F79=AB79 -> TRUE | R79: =G79=AC79 -> FALSE | S79: =H79=AD79 -> FALSE | ... U79: =J79=AF79 -> TRUE | W79: 169 | X79: SILVA | Y79: MANOEL | Z79: M | AA79: 06. KOK | AB79: 20205 | AC79: B-NSR | AD79: LIB2026
A80: 176 | B80: SHAKUDA | C80: MIYOKO | D80: F | E80: 06. KOK | F80: 15849 | G80: 12 | H80: C-SR | I80: LIB2026 | L80: =A80=W80 -> TRUE | M80: =B80=X80 -> TRUE | N80: =C80=Y80 -> TRUE | O80: =D80=Z80 -> TRUE | P80: =E80=AA80 -> TRUE | Q80: =F80=AB80 -> TRUE | R80: =G80=AC80 -> FALSE | S80: =H80=AD80 -> FALSE | ... U80: =J80=AF80 -> TRUE | W80: 176 | X80: SHAKUDA | Y80: MIYOKO | Z80: F | AA80: 06. KOK | AB80: 15849 | AC80: C-SR | AD80: LIB2026
A81: 184 | B81: UTSUMI | C81: CHIOMI | D81: F | E81: 06. KOK | F81: 14740 | G81: 12 | H81: C-MR | I81: LIB2026 | L81: =A81=W81 -> TRUE | M81: =B81=X81 -> TRUE | N81: =C81=Y81 -> TRUE | O81: =D81=Z81 -> TRUE | P81: =E81=AA81 -> TRUE | Q81: =F81=AB81 -> TRUE | R81: =G81=AC81 -> FALSE | S81: =H81=AD81 -> FALSE | ... U81: =J81=AF81 -> TRUE | W81: 184 | X81: UTSUMI | Y81: CHIOMI | Z81: F | AA81: 06. KOK | AB81: 14740 | AC81: C-MR | AD81: LIB2026
A82: 182 | B82: NISHIDA | C82: UTAKO | D82: F | E82: 06. KOK | F82: 15498 | G82: 9 | H82: B-SR | I82: LIB2027 | L82: =A82=W82 -> TRUE | M82: =B82=X82 -> TRUE | N82: =C82=Y82 -> TRUE | O82: =D82=Z82 -> TRUE | P82: =E82=AA82 -> TRUE | Q82: =F82=AB82 -> TRUE | R82: =G82=AC82 -> FALSE | S82: =H82=AD82 -> FALSE | ... U82: =J82=AF82 -> TRUE | W82: 182 | X82: NISHIDA | Y82: UTAKO | Z82: F | AA82: 06. KOK | AB82: 15498 | AC82: B-SR | AD82: LIB2027
A83: 197 | B83: OZAKI | C83: TOSHIO | D83: M | E83: 06. KOK | F83: 18013 | G83: 3 | H83: EX-SR | I83: LIB2026 | L83: =A83=W83 -> TRUE | M83: =B83=X83 -> TRUE | N83: =C83=Y83 -> TRUE | O83: =D83=Z83 -> TRUE | P83: =E83=AA83 -> TRUE | Q83: =F83=AB83 -> TRUE | R83: =G83=AC83 -> FALSE | S83: =H83=AD83 -> FALSE | ... U83: =J83=AF83 -> TRUE | W83: 197 | X83: OZAKI | Y83: TOSHIO | Z83: M | AA83: 06. KOK | AB83: 18013 | AC83: EX-SR | AD83: LIB2026
A84: 261 | B84: KUROKI | C84: KEI | D84: M | E84: 06. KOK | F84: 12721 | G84: 6 | H84: A-MR | I84: LIB2026i | L84: =A84=W84 -> TRUE | M84: =B84=X84 -> TRUE | N84: =C84=Y84 -> TRUE | O84: =D84=Z84 -> TRUE | P84: =E84=AA84 -> TRUE | Q84: =F84=AB84 -> TRUE | R84: =G84=AC84 -> FALSE | S84: =H84=AD84 -> FALSE | ... U84: =J84=AF84 -> TRUE | W84: 261 | X84: KUROKI | Y84: KEI | Z84: M | AA84: 06. KOK | AB84: 12721 | AC84: A-MR | AD84: LIB2026i
A85: 270 | B85: NOZAWA | C85: ASSAMI | D85: F | E85: 06. KOK | F85: 23351 | G85: 12 | H85: C-NSR | I85: LIB2026 | L85: =A85=W85 -> TRUE | M85: =B85=X85 -> TRUE | N85: =C85=Y85 -> TRUE | O85: =D85=Z85 -> TRUE | P85: =E85=AA85 -> TRUE | Q85: =F85=AB85 -> TRUE | R85: =G85=AC85 -> FALSE | S85: =H85=AD85 -> FALSE | ... U85: =J85=AF85 -> TRUE | W85: 270 | X85: NOZAWA | Y85: ASSAMI | Z85: F | AA85: 06. KOK | AB85: 23351 | AC85: C-NSR | AD85: LIB2026
... A102: 635 | B102: BABATA | C102: JORGE TOSHIO | D102: M | E102: 06. KOK | F102: 21124 | G102: 3 | H102: EX-NSR | I102: LIB2026 | L102: =A102=W102 -> TRUE | M102: =B102=X102 -> TRUE | N102: =C102=Y102 -> TRUE | O102: =D102=Z102 -> TRUE | P102: =E102=AA102 -> TRUE | Q102: =F102=AB102 -> TRUE | R102: =G102=AC102 -> FALSE | S102: =H102=AD102 -> FALSE | ... U102: =J102=AF102 -> TRUE | W102: 635 | X102: BABATA | Y102: JORGE TOSHIO | Z102: M | AA102: 06. KOK | AB102: 21124 | AC102: EX-NSR | AD102: LIB2026
A103: 661 | B103: FURUKAWA | C103: KOITI | D103: M | E103: 06. KOK | F103: 16653 | G103: 9 | H103: B-SR | I103: LIB2026 | L103: =A103=W103 -> FALSE | M103: =B103=X103 -> TRUE | N103: =C103=Y103 -> TRUE | O103: =D103=Z103 -> TRUE | P103: =E103=AA103 -> TRUE | Q103: =F103=AB103 -> TRUE | R103: =G103=AC103 -> FALSE | S103: =H103=AD103 -> FALSE | ... U103: =J103=AF103 -> TRUE | W103: 661 | X103: FURUKAWA | Y103: KOITI | Z103: M | AA103: 06. KOK | AB103: 16653 | AC103: B-SR | AD103: LIB2026
A104: 670 | B104: FUKUZAWA | C104: AKIRA | D104: M | E104: 06. KOK | F104: 18276 | G104: 6 | H104: A-SR | I104: LIB2026 | L104: =A104=W104 -> TRUE | M104: =B104=X104 -> TRUE | N104: =C104=Y104 -> TRUE | O104: =D104=Z104 -> TRUE | P104: =E104=AA104 -> TRUE | Q104: =F104=AB104 -> TRUE | R104: =G104=AC104 -> FALSE | S104: =H104=AD104 -> FALSE | ... U104: =J104=AF104 -> TRUE | W104: 670 | X104: FUKUZAWA | Y104: AKIRA | Z104: M | AA104: 06. KOK | AB104: 18276 | AC104: A-SR | AD104: LIB2026
A105: 672 | B105: FUKUZAWA | C105: ISAURA | D105: F | E105: 06. KOK | F105: 19670 | G105: 8 | H105: B-NSR | I105: LIB2026 | L105: =A105=W105 -> TRUE | M105: =B105=X105 -> TRUE | N105: =C105=Y105 -> TRUE | O105: =D105=Z105 -> TRUE | P105: =E105=AA105 -> TRUE | Q105: =F105=AB105 -> TRUE | R105: =G105=AC105 -> FALSE | S105: =H105=AD105 -> FALSE | ... U105: =J105=AF105 -> TRUE | W105: 672 | X105: FUKUZAWA | Y105: ISAURA | Z105: F | AA105: 06. KOK | AB105: 19670 | AC105: B-NSR | AD105: LIB2026
A106: 673 | B106: KADOWAKI | C106: SUELY | D106: F | E106: 06. KOK | F106: 20147 | G106: 12 | H106: C-NSR | I106: LIB2026 | L106: =A106=W106 -> TRUE | M106: =B106=X106 -> TRUE | N106: =C106=Y106 -> TRUE | O106: =D106=Z106 -> TRUE | P106: =E106=AA106 -> TRUE | Q106: =F106=AB106 -> TRUE | R106: =G106=AC106 -> FALSE | S106: =H106=AD106 -> FALSE | ... U106: =J106=AF106 -> TRUE | W106: 673 | X106: KADOWAKI | Y106: SUELY | Z106: F | AA106: 06. KOK | AB106: 20147 | AC106: C-NSR | AD106: LIB2026
A107: 691 | B107: HIRATA | C107: IRINEU YASSAYUKI | D107: M | E107: 06. KOK | F107: 24162 | G107: 8 | H107: B-NSR | I107: LIB2026 | L107: =A107=W107 -> FALSE | M107: =B107=X107 -> TRUE | N107: =C107=Y107 -> TRUE | O107: =D107=Z107 -> TRUE | P107: =E107=AA107 -> TRUE | Q107: =F107=AB107 -> TRUE | R107: =G107=AC107 -> FALSE | S107: =H107=AD107 -> FALSE | ... U107: =J107=AF107 -> TRUE | W107: 691 | X107: HIRATA | Y107: IRINEU YASSAYUKI | Z107: M | AA107: 06. KOK | AB107: 24162 | AC107: B-NSR | AD107: LIB2026
A108: 703 | B108: MORIOKA | C108: HIROMICHI | D108: M | E108: 06. KOK | F108: 17997 | G108: 3 | H108: EX-SR | I108: LIB2026 | L108: =A108=W108 -> TRUE | M108: =B108=X108 -> TRUE | N108: =C108=Y108 -> TRUE | O108: =D108=Z108 -> TRUE | P108: =E108=AA108 -> TRUE | Q108: =F108=AB108 -> TRUE | R108: =G108=AC108 -> FALSE | S108: =H108=AD108 -> FALSE | ... U108: =J108=AF108 -> TRUE | W108: 703 | X108: MORIOKA | Y108: HIROMICHI | Z108: M | AA108: 06. KOK | AB108: 17997 | AC108: EX-SR | AD108: LIB2026
A109: 704 | B109: MAEDA | C109: KAUSSEI | D109: M | E109: 06. KOK | F109: 18515 | G109: 12 | H109: C-SR | I109: LIB2026 | L109: =A109=W109 -> TRUE | M109: =B109=X109 -> TRUE | N109: =C109=Y109 -> TRUE | O109: =D109=Z109 -> TRUE | P109: =E109=AA109 -> TRUE | Q109: =F109=AB109 -> TRUE | R109: =G109=AC109 -> FALSE | S109: =H109=AD109 -> FALSE | ... U109: =J109=AF109 -> TRUE | W109: 704 | X109: MAEDA | Y109: KAUSSEI | Z109: M | AA109: 06. KOK | AB109: 18515 | AC109: C-SR | AD109: LIB2026
A110: 705 | B110: IWAMOTO MAEDA | C110: IOSHIMI | D110: F | E110: 06. KOK | F110: 20443 | G110: 12 | H110: C-NSR | I110: LIB2026 | L110: =A110=W110 -> TRUE | M110: =B110=X110 -> TRUE | N110: =C110=Y110 -> TRUE | O110: =D110=Z110 -> TRUE | P110: =E110=AA110 -> TRUE | Q110: =F110=AB110 -> TRUE | R110: =G110=AC110 -> FALSE | S110: =H110=AD110 -> FALSE | ... U110: =J110=AF110 -> TRUE | W110: 705 | X110: IWAMOTO MAEDA | Y110: IOSHIMI | Z110: F | AA110: 06. KOK | AB110: 20443 | AC110: C-NSR | AD110: LIB2026
A111: 706 | B111: HIRAKAWA | C111: ISAO | D111: M | E111: 06. KOK | F111: 17410 | G111: 12 | H111: C-SR | I111: LIB2026 | L111: =A111=W111 -> TRUE | M111: =B111=X111 -> TRUE | N111: =C111=Y111 -> TRUE | O111: =D111=Z111 -> TRUE | P111: =E111=AA111 -> TRUE | Q111: =F111=AB111 -> TRUE | R111: =G111=AC111 -> FALSE | S111: =H111=AD111 -> FALSE | ... U111: =J111=AF111 -> TRUE | W111: 706 | X111: HIRAKAWA | Y111: ISAO | Z111: M | AA111: 06. KOK | AB111: 17410 | AC111: C-SR | AD111: LIB2026
A112: 707 | B112: IWAMOTO HIRAKAWA | C112: NORIE | D112: F | E112: 06. KOK | F112: 19766 | G112: 12 | H112: C-NSR | I112: LIB2026 | L112: =A112=W112 -> TRUE | M112: =B112=X112 -> TRUE | N112: =C112=Y112 -> TRUE | O112: =D112=Z112 -> TRUE | P112: =E112=AA112 -> TRUE | Q112: =F112=AB112 -> TRUE | R112: =G112=AC112 -> FALSE | S112: =H112=AD112 -> FALSE | ... U112: =J112=AF112 -> TRUE | W112: 707 | X112: IWAMOTO HIRAKAWA | Y112: NORIE | Z112: F | AA112: 06. KOK | AB112: 19766 | AC112: C-NSR | AD112: LIB2026
A113: 709 | B113: MADUREIRA | C113: CESAR AUGUSTO | D113: M | E113: 06. KOK | F113: 19956 | G113: 12 | H113: C-NSR | I113: LIB2026 | L113: =A113=W113 -> FALSE | M113: =B113=X113 -> TRUE | N113: =C113=Y113 -> TRUE | O113: =D113=Z113 -> TRUE | P113: =E113=AA113 -> TRUE | Q113: =F113=AB113 -> TRUE | R113: =G113=AC113 -> FALSE | S113: =H113=AD113 -> FALSE | ... U113: =J113=AF113 -> TRUE | W113: 709 | X113: MADUREIRA | Y113: CESAR AUGUSTO | Z113: M | AA113: 06. KOK | AB113: 19956 | AC113: C-NSR | AD113: LIB2026
A114: 714 | B114: MARTINS DE MELLO | C114: VANESSA | D114: F | E114: 06. KOK | F114: 28169 | G114: 12 | H114: C-NSR | I114: LIB2026 | L114: =A114=W114 -> TRUE | M114: =B114=X114 -> TRUE | N114: =C114=Y114 -> TRUE | O114: =D114=Z114 -> TRUE | P114: =E114=AA114 -> TRUE | Q114: =F114=AB114 -> TRUE | R114: =G114=AC114 -> FALSE | S114: =H114=AD114 -> FALSE | ... U114: =J114=AF114 -> TRUE | W114: 714 | X114: MARTINS DE MELLO | Y114: VANESSA | Z114: F | AA114: 06. KOK | AB114: 28169 | AC114: C-NSR | AD114: LIB2026
A115: 746 | B115: MORIOKA | C115: SAIOKO KOTAMA | D115: F | E115: 06. KOK | F115: 19066 | G115: 9 | H115: B-NSR | I115: LIB2026 | L115: =A115=W115 -> TRUE | M115: =B115=X115 -> TRUE | N115: =C115=Y115 -> TRUE | O115: =D115=Z115 -> TRUE | P115: =E115=AA115 -> TRUE | Q115: =F115=AB115 -> TRUE | R115: =G115=AC115 -> FALSE | S115: =H115=AD115 -> FALSE | ... U115: =J115=AF115 -> TRUE | W115: 746 | X115: MORIOKA | Y115: SAIOKO KOTAMA | Z115: F | AA115: 06. KOK | AB115: 19066 | AC115: B-NSR | AD115: LIB2026
A116: 757 | B116: VIDAL BARRETO | C116: MARIA VALDICE | D116: F | E116: 06. KOK | F116: 20185 | G116: 12 | H116: C-NSR | I116: LIB2026 | L116: =A116=W116 -> TRUE | M116: =B116=X116 -> TRUE | N116: =C116=Y116 -> TRUE | O116: =D116=Z116 -> TRUE | P116: =E116=AA116 -> TRUE | Q116: =F116=AB116 -> TRUE | R116: =G116=AC116 -> FALSE | S116: =H116=AD116 -> FALSE | ... U116: =J116=AF116 -> TRUE | W116: 757 | X116: VIDAL BARRETO | Y116: MARIA VALDICE | Z116: F | AA116: 06. KOK | AB116: 20185 | AC116: C-NSR | AD116: LIB2026
A117: 767 | B117: FURUKAWA | C117: HIROSHI | D117: M | E117: 06. KOK | F117: 14567 | G117: 6 | H117: A-MR | I117: LIB2026 | L117: =A117=W117 -> TRUE | M117: =B117=X117 -> TRUE | N117: =C117=Y117 -> TRUE | O117: =D117=Z117 -> TRUE | P117: =E117=AA117 -> TRUE | Q117: =F117=AB117 -> TRUE | R117: =G117=AC117 -> FALSE | S117: =H117=AD117 -> FALSE | ... U117: =J117=AF117 -> TRUE | W117: 767 | X117: FURUKAWA | Y117: HIROSHI | Z117: M | AA117: 06. KOK | AB117: 14567 | AC117: A-MR | AD117: LIB2026
A118: 768 | B118: SATO | C118: NOBUO | D118: M | E118: 06. KOK | F118: 16524 | G118: 9 | H118: B-SR | I118: LIB2026 | L118: =A118=W118 -> TRUE | M118: =B118=X118 -> TRUE | N118: =C118=Y118 -> TRUE | O118: =D118=Z118 -> TRUE | P118: =E118=AA118 -> TRUE | Q118: =F118=AB118 -> TRUE | R118: =G118=AC118 -> FALSE | S118: =H118=AD118 -> FALSE | ... U118: =J118=AF118 -> TRUE | W118: 768 | X118: SATO | Y118: NOBUO | Z118: M | AA118: 06. KOK | AB118: 16524 | AC118: B-SR | AD118: LIB2026
A119: 771 | B119: YAMAMOTO YAMAZAKI | C119: CECILIA TOSHIE | D119: F | E119: 06. KOK | F119: 23302 | G119: 12 | H119: C-NSR | I119: LIB2026 | L119: =A119=W119 -> TRUE | M119: =B119=X119 -> TRUE | N119: =C119=Y119 -> TRUE | O119: =D119=Z119 -> TRUE | P119: =E119=AA119 -> TRUE | Q119: =F119=AB119 -> TRUE | R119: =G119=AC119 -> FALSE | S119: =H119=AD119 -> FALSE | ... U119: =J119=AF119 -> TRUE | W119: 771 | X119: YAMAMOTO YAMAZAKI | Y119: CECILIA TOSHIE | Z119: F | AA119: 06. KOK | AB119: 23302 | AC119: C-NSR | AD119: LIB2026
A120: 779 | B120: WATANABE | C120: MARIO HIROSHI | D120: M | E120: 06. KOK | F120: 17176 | G120: 9 | H120: B-SR | I120: LIB2026 | L120: =A120=W120 -> TRUE | M120: =B120=X120 -> TRUE | N120: =C120=Y120 -> TRUE | O120: =D120=Z120 -> TRUE | P120: =E120=AA120 -> TRUE | Q120: =F120=AB120 -> TRUE | R120: =G120=AC120 -> FALSE | S120: =H120=AD120 -> FALSE | ... U120: =J120=AF120 -> TRUE | W120: 779 | X120: WATANABE | Y120: MARIO HIROSHI | Z120: M | AA120: 06. KOK | AB120: 17176 | AC120: B-SR | AD120: LIB2026
A121: 817 | B121: KAWASAKI | C121: TOSHIO | D121: M | E121: 06. KOK | F121: 14865 | G121: 9 | H121: B-MR | I121: LIB2026 | L121: =A121=W121 -> TRUE | M121: =B121=X121 -> TRUE | N121: =C121=Y121 -> TRUE | O121: =D121=Z121 -> TRUE | P121: =E121=AA121 -> TRUE | Q121: =F121=AB121 -> TRUE | R121: =G121=AC121 -> FALSE | S121: =H121=AD121 -> FALSE | ... U121: =J121=AF121 -> TRUE | W121: 817 | X121: KAWASAKI | Y121: TOSHIO | Z121: M | AA121: 06. KOK | AB121: 14865 | AC121: B-MR | AD121: LIB2026
A122: 827 | B122: HANAI | C122: MASSAHITO | D122: M | E122: 06. KOK | F122: 16122 | G122: 9 | H122: B-SR | I122: LIB2026 | L122: =A122=W122 -> TRUE | M122: =B122=X122 -> TRUE | N122: =C122=Y122 -> TRUE | O122: =D122=Z122 -> TRUE | P122: =E122=AA122 -> TRUE | Q122: =F122=AB122 -> TRUE | R122: =G122=AC122 -> FALSE | S122: =H122=AD122 -> FALSE | ... U122: =J122=AF122 -> TRUE | W122: 827 | X122: HANAI | Y122: MASSAHITO | Z122: M | AA122: 06. KOK | AB122: 16122 | AC122: B-SR | AD122: LIB2026
A123: 828 | B123: HANAI | C123: TSUGUIKO | D123: F | E123: 06. KOK | F123: 20434 | G123: 8 | H123: B-NSR | I123: LIB2026 | L123: =A123=W123 -> TRUE | M123: =B123=X123 -> TRUE | N123: =C123=Y123 -> TRUE | O123: =D123=Z123 -> TRUE | P123: =E123=AA123 -> TRUE | Q123: =F123=AB123 -> TRUE | R123: =G123=AC123 -> FALSE | S123: =H123=AD123 -> FALSE | ... U123: =J123=AF123 -> TRUE | W123: 828 | X123: HANAI | Y123: TSUGUIKO | Z123: F | AA123: 06. KOK | AB123: 20434 | AC123: B-NSR | AD123: LIB2026
A124: 831 | B124: YAMATO | C124: EDUARDO HIROSHI | D124: M | E124: 06. KOK | F124: 18271 | G124: 9 | H124: B-SR | I124: LIB2026 | L124: =A124=W124 -> TRUE | M124: =B124=X124 -> TRUE | N124: =C124=Y124 -> TRUE | O124: =D124=Z124 -> TRUE | P124: =E124=AA124 -> TRUE | Q124: =F124=AB124 -> TRUE | R124: =G124=AC124 -> FALSE | S124: =H124=AD124 -> FALSE | ... U124: =J124=AF124 -> TRUE | W124: 831 | X124: YAMATO | Y124: EDUARDO HIROSHI | Z124: M | AA124: 06. KOK | AB124: 18271 | AC124: B-SR | AD124: LIB2026
A125: 840 | B125: MAEDA | C125: EDUARDO KIYOSHI | D125: M | E125: 06. KOK | F125: 16578 | G125: 9 | H125: B-SR | I125: LIB2026 | L125: =A125=W125 -> TRUE | M125: =B125=X125 -> TRUE | N125: =C125=Y125 -> TRUE | O125: =D125=Z125 -> TRUE | P125: =E125=AA125 -> TRUE | Q125: =F125=AB125 -> TRUE | R125: =G125=AC125 -> FALSE | S125: =H125=AD125 -> FALSE | ... U125: =J125=AF125 -> TRUE | W125: 840 | X125: MAEDA | Y125: EDUARDO KIYOSHI | Z125: M | AA125: 06. KOK | AB125: 16578 | AC125: B-SR | AD125: LIB2026
A126: 848 | B126: NOZAWA | C126: CARLOS MASAYUKI | D126: M | E126: 06. KOK | F126: 24027 | G126: 9 | H126: B-NSR | I126: LIB2026 | L126: =A126=W126 -> TRUE | M126: =B126=X126 -> TRUE | N126: =C126=Y126 -> TRUE | O126: =D126=Z126 -> TRUE | P126: =E126=AA126 -> TRUE | Q126: =F126=AB126 -> TRUE | R126: =G126=AC126 -> FALSE | S126: =H126=AD126 -> FALSE | ... U126: =J126=AF126 -> TRUE | W126: 848 | X126: NOZAWA | Y126: CARLOS MASAYUKI | Z126: M | AA126: 06. KOK | AB126: 24027 | AC126: B-NSR | AD126: LIB2026
A127: 941 | B127: OKUYAMA | C127: NOBORU | D127: M | E127: 06. KOK | F127: 17489 | G127: 12 | H127: C-SR | I127: LIB2026 | L127: =A127=W127 -> TRUE | M127: =B127=X127 -> TRUE | N127: =C127=Y127 -> TRUE | O127: =D127=Z127 -> TRUE | P127: =E127=AA127 -> TRUE | Q127: =F127=AB127 -> TRUE | R127: =G127=AC127 -> FALSE | S127: =H127=AD127 -> FALSE | ... U127: =J127=AF127 -> TRUE | W127: 941 | X127: OKUYAMA | Y127: NOBORU | Z127: M | AA127: 06. KOK | AB127: 17489 | AC127: C-SR | AD127: LIB2026
A128: 256 | B128: UEMURA | C128: YASUGI | D128: M | E128: 07. GSP | F128: 15220 | G128: 3 | H128: EX-MR | I128: LIB2026 | L128: =A128=W128 -> TRUE | M128: =B128=X128 -> TRUE | N128: =C128=Y128 -> TRUE | O128: =D128=Z128 -> TRUE | P128: =E128=AA128 -> TRUE | Q128: =F128=AB128 -> TRUE | R128: =G128=AC128 -> FALSE | S128: =H128=AD128 -> FALSE | ... U128: =J128=AF128 -> TRUE | W128: 256 | X128: UEMURA | Y128: YASUGI | Z128: M | AA128: 07. GSP | AB128: 15220 | AC128: EX-MR | AD128: LIB2026
A129: 395 | B129: UEMURA | C129: LUCIA | D129: F | E129: 07. GSP | F129: 17241 | G129: 6 | H129: A-SR | I129: LIB2026 | L129: =A129=W129 -> TRUE | M129: =B129=X129 -> TRUE | N129: =C129=Y129 -> TRUE | O129: =D129=Z129 -> TRUE | P129: =E129=AA129 -> TRUE | Q129: =F129=AB129 -> TRUE | R129: =G129=AC129 -> FALSE | S129: =H129=AD129 -> FALSE | ... U129: =J129=AF129 -> TRUE | W129: 395 | X129: UEMURA | Y129: LUCIA | Z129: F | AA129: 07. GSP | AB129: 17241 | AC129: A-SR | AD129: LIB2026
A130: 461 | B130: YOKOTA | C130: HIROMI | D130: M | E130: 07. GSP | F130: 19675 | G130: 5 | H130: A-NSR | I130: LIB2026 | L130: =A130=W130 -> TRUE | M130: =B130=X130 -> TRUE | N130: =C130=Y130 -> TRUE | O130: =D130=Z130 -> TRUE | P130: =E130=AA130 -> TRUE | Q130: =F130=AB130 -> TRUE | R130: =G130=AC130 -> FALSE | S130: =H130=AD130 -> FALSE | ... U130: =J130=AF130 -> TRUE | W130: 461 | X130: YOKOTA | Y130: HIROMI | Z130: M | AA130: 07. GSP | AB130: 19675 | AC130: A-NSR | AD130: LIB2026
A131: 462 | B131: KAWASOME | C131: MASAHARU | D131: M | E131: 07. GSP | F131: 14634 | G131: 12 | H131: C-MR | I131: LIB2026 | L131: =A131=W131 -> TRUE | M131: =B131=X131 -> TRUE | N131: =C131=Y131 -> TRUE | O131: =D131=Z131 -> TRUE | P131: =E131=AA131 -> TRUE | Q131: =F131=AB131 -> TRUE | R131: =G131=AC131 -> FALSE | S131: =H131=AD131 -> FALSE | ... U131: =J131=AF131 -> TRUE | W131: 462 | X131: KAWASOME | Y131: MASAHARU | Z131: M | AA131: 07. GSP | AB131: 14634 | AC131: C-MR | AD131: LIB2026
A132: 489 | B132: TOGO | C132: NARIKO | D132: F | E132: 07. GSP | F132: 18327 | G132: 4 | H132: A-SR | I132: LIB2026 | L132: =A132=W132 -> TRUE | M132: =B132=X132 -> TRUE | N132: =C132=Y132 -> TRUE | O132: =D132=Z132 -> TRUE | P132: =E132=AA132 -> TRUE | Q132: =F132=AB132 -> TRUE | R132: =G132=AC132 -> FALSE | S132: =H132=AD132 -> FALSE | ... U132: =J132=AF132 -> TRUE | W132: 489 | X132: TOGO | Y132: NARIKO | Z132: F | AA132: 07. GSP | AB132: 18327 | AC132: A-SR | AD132: LIB2026
A133: 513 | B133: TIZUKA | C133: SACHIKO | D133: F | E133: 07. GSP | F133: 19170 | G133: 4 | H133: A-NSR | I133: LIB2026 | L133: =A133=W133 -> TRUE | M133: =B133=X133 -> TRUE | N133: =C133=Y133 -> TRUE | O133: =D133=Z133 -> TRUE | P133: =E133=AA133 -> TRUE | Q133: =F133=AB133 -> TRUE | R133: =G133=AC133 -> FALSE | S133: =H133=AD133 -> FALSE | ... U133: =J133=AF133 -> TRUE | W133: 513 | X133: TIZUKA | Y133: SACHIKO | Z133: F | AA133: 07. GSP | AB133: 19170 | AC133: A-NSR | AD133: LIB2026
...

Sheet Insc.
A1: 900 | B1: =IF(A1:A1>0,VLOOKUP(A1,Fed.!$A$2:$J$1973,2,FALSE)," ") -> OGATA | C1: =IF(A1:A1>0,VLOOKUP(A1,Fed.!$A$2:$J$1973,3,FALSE)," ") -> MITIKO | D1: =IF(A1:A1>0,VLOOKUP(A1,Fed.!$A$2:$J$1973,4,FALSE)," ") -> F | E1: =IF(A1:A1>0,VLOOKUP(A1,Fed.!$A$2:$J$1973,5,FALSE)," ") -> 12. COO | F1: =IF(A1:A1>0,VLOOKUP(A1,Fed.!$A$2:$J$1973,6,FALSE)," ") -> 20316 | G1: =IF(A1:A1>0,VLOOKUP(A1,Fed.!$A$2:$J$1973,7,FALSE)," ") -> 9 | H1: =IF(A1:A1>0,VLOOKUP(A1,Fed.!$A$2:$J$1973,8,FALSE)," ") -> B-NSR | I1: =IF(A1:A1>0,VLOOKUP(A1,Fed.!$A$2:$J$1973,9,FALSE)," ") -> LIB2026 | J1: =IF(A1:A1>0,VLOOKUP(A1,Fed.!$A$2:$J$1973,10,FALSE)," ") -> 0
A2: 899 | B2: =IF(A2:A2>0,VLOOKUP(A2,Fed.!$A$2:$J$1973,2,FALSE)," ") -> OGATA | C2: =IF(A2:A2>0,VLOOKUP(A2,Fed.!$A$2:$J$1973,3,FALSE)," ") -> YOSHITAKA | D2: =IF(A2:A2>0,VLOOKUP(A2,Fed.!$A$2:$J$1973,4,FALSE)," ") -> M | E2: =IF(A2:A2>0,VLOOKUP(A2,Fed.!$A$2:$J$1973,5,FALSE)," ") -> 12. COO | F2: =IF(A2:A2>0,VLOOKUP(A2,Fed.!$A$2:$J$1973,6,FALSE)," ") -> 16971 | G2: =IF(A2:A2>0,VLOOKUP(A2,Fed.!$A$2:$J$1973,7,FALSE)," ") -> 7 | H2: =IF(A2:A2>0,VLOOKUP(A2,Fed.!$A$2:$J$1973,8,FALSE)," ") -> B-SR | I2: =IF(A2:A2>0,VLOOKUP(A2,Fed.!$A$2:$J$1973,9,FALSE)," ") -> LIB2026 | J2: =IF(A2:A2>0,VLOOKUP(A2,Fed.!$A$2:$J$1973,10,FALSE)," ") -> 0
A3: 527 | B3: =IF(A3:A3>0,VLOOKUP(A3,Fed.!$A$2:$J$1973,2,FALSE)," ") -> KONDO | C3: =IF(A3:A3>0,VLOOKUP(A3,Fed.!$A$2:$J$1973,3,FALSE)," ") -> JORGE | D3: =IF(A3:A3>0,VLOOKUP(A3,Fed.!$A$2:$J$1973,4,FALSE)," ") -> M | E3: =IF(A3:A3>0,VLOOKUP(A3,Fed.!$A$2:$J$1973,5,FALSE)," ") -> 12. COO | F3: =IF(A3:A3>0,VLOOKUP(A3,Fed.!$A$2:$J$1973,6,FALSE)," ") -> 16542 | G3: =IF(A3:A3>0,VLOOKUP(A3,Fed.!$A$2:$J$1973,7,FALSE)," ") -> 3 | H3: =IF(A3:A3>0,VLOOKUP(A3,Fed.!$A$2:$J$1973,8,FALSE)," ") -> EX-SR | I3: =IF(A3:A3>0,VLOOKUP(A3,Fed.!$A$2:$J$1973,9,FALSE)," ") -> LIB2026 | J3: =IF(A3:A3>0,VLOOKUP(A3,Fed.!$A$2:$J$1973,10,FALSE)," ") -> 0
A4: 642 | B4: =IF(A4:A4>0,VLOOKUP(A4,Fed.!$A$2:$J$1973,2,FALSE)," ") -> TAKAHASHI | C4: =IF(A4:A4>0,VLOOKUP(A4,Fed.!$A$2:$J$1973,3,FALSE)," ") -> KATUMI | D4: =IF(A4:A4>0,VLOOKUP(A4,Fed.!$A$2:$J$1973,4,FALSE)," ") -> F | E4: =IF(A4:A4>0,VLOOKUP(A4,Fed.!$A$2:$J$1973,5,FALSE)," ") -> 12. COO | F4: =IF(A4:A4>0,VLOOKUP(A4,Fed.!$A$2:$J$1973,6,FALSE)," ") -> 16757 | G4: =IF(A4:A4>0,VLOOKUP(A4,Fed.!$A$2:$J$1973,7,FALSE)," ") -> 9 | H4: =IF(A4:A4>0,VLOOKUP(A4,Fed.!$A$2:$J$1973,8,FALSE)," ") -> B-SR | I4: =IF(A4:A4>0,VLOOKUP(A4,Fed.!$A$2:$J$1973,9,FALSE)," ") -> LIB2026 | J4: =IF(A4:A4>0,VLOOKUP(A4,Fed.!$A$2:$J$1973,10,FALSE)," ") -> 0
A5: 884 | B5: =IF(A5:A5>0,VLOOKUP(A5,Fed.!$A$2:$J$1973,2,FALSE)," ") -> KODA | C5: =IF(A5:A5>0,VLOOKUP(A5,Fed.!$A$2:$J$1973,3,FALSE)," ") -> MASAO | D5: =IF(A5:A5>0,VLOOKUP(A5,Fed.!$A$2:$J$1973,4,FALSE)," ") -> M | E5: =IF(A5:A5>0,VLOOKUP(A5,Fed.!$A$2:$J$1973,5,FALSE)," ") -> 12. COO | F5: =IF(A5:A5>0,VLOOKUP(A5,Fed.!$A$2:$J$1973,6,FALSE)," ") -> 16228 | G5: =IF(A5:A5>0,VLOOKUP(A5,Fed.!$A$2:$J$1973,7,FALSE)," ") -> 7 | H5: =IF(A5:A5>0,VLOOKUP(A5,Fed.!$A$2:$J$1973,8,FALSE)," ") -> B-SR | I5: =IF(A5:A5>0,VLOOKUP(A5,Fed.!$A$2:$J$1973,9,FALSE)," ") -> LIB2026 | J5: =IF(A5:A5>0,VLOOKUP(A5,Fed.!$A$2:$J$1973,10,FALSE)," ") -> 0
A6: 495 | B6: =IF(A6:A6>0,VLOOKUP(A6,Fed.!$A$2:$J$1973,2,FALSE)," ") -> SHIMANOE | C6: =IF(A6:A6>0,VLOOKUP(A6,Fed.!$A$2:$J$1973,3,FALSE)," ") -> PAULO MASSATO | D6: =IF(A6:A6>0,VLOOKUP(A6,Fed.!$A$2:$J$1973,4,FALSE)," ") -> M | E6: =IF(A6:A6>0,VLOOKUP(A6,Fed.!$A$2:$J$1973,5,FALSE)," ") -> 12. COO | F6: =IF(A6:A6>0,VLOOKUP(A6,Fed.!$A$2:$J$1973,6,FALSE)," ") -> 18911 | G6: =IF(A6:A6>0,VLOOKUP(A6,Fed.!$A$2:$J$1973,7,FALSE)," ") -> 9 | H6: =IF(A6:A6>0,VLOOKUP(A6,Fed.!$A$2:$J$1973,8,FALSE)," ") -> B-SR | I6: =IF(A6:A6>0,VLOOKUP(A6,Fed.!$A$2:$J$1973,9,FALSE)," ") -> LIB2026 | J6: =IF(A6:A6>0,VLOOKUP(A6,Fed.!$A$2:$J$1973,10,FALSE)," ") -> 0
A7: 815 | B7: =IF(A7:A7>0,VLOOKUP(A7,Fed.!$A$2:$J$1973,2,FALSE)," ") -> KUADA | C7: =IF(A7:A7>0,VLOOKUP(A7,Fed.!$A$2:$J$1973,3,FALSE)," ") -> TEREZINHA ARICO | D7: =IF(A7:A7>0,VLOOKUP(A7,Fed.!$A$2:$J$1973,4,FALSE)," ") -> F | E7: =IF(A7:A7>0,VLOOKUP(A7,Fed.!$A$2:$J$1973,5,FALSE)," ") -> 12. COO | F7: =IF(A7:A7>0,VLOOKUP(A7,Fed.!$A$2:$J$1973,6,FALSE)," ") -> 19916 | G7: =IF(A7:A7>0,VLOOKUP(A7,Fed.!$A$2:$J$1973,7,FALSE)," ") -> 9 | H7: =IF(A7:A7>0,VLOOKUP(A7,Fed.!$A$2:$J$1973,8,FALSE)," ") -> B-NSR | I7: =IF(A7:A7>0,VLOOKUP(A7,Fed.!$A$2:$J$1973,9,FALSE)," ") -> LIB2026 | J7: =IF(A7:A7>0,VLOOKUP(A7,Fed.!$A$2:$J$1973,10,FALSE)," ") -> 0
A8: 903 | B8: =IF(A8:A8>0,VLOOKUP(A8,Fed.!$A$2:$J$1973,2,FALSE)," ") -> NAGATA | C8: =IF(A8:A8>0,VLOOKUP(A8,Fed.!$A$2:$J$1973,3,FALSE)," ") -> AROLDO KOJI | D8: =IF(A8:A8>0,VLOOKUP(A8,Fed.!$A$2:$J$1973,4,FALSE)," ") -> M | E8: =IF(A8:A8>0,VLOOKUP(A8,Fed.!$A$2:$J$1973,5,FALSE)," ") -> 12. COO | F8: =IF(A8:A8>0,VLOOKUP(A8,Fed.!$A$2:$J$1973,6,FALSE)," ") -> 27807 | G8: =IF(A8:A8>0,VLOOKUP(A8,Fed.!$A$2:$J$1973,7,FALSE)," ") -> 5 | H8: =IF(A8:A8>0,VLOOKUP(A8,Fed.!$A$2:$J$1973,8,FALSE)," ") -> A-NSR | I8: =IF(A8:A8>0,VLOOKUP(A8,Fed.!$A$2:$J$1973,9,FALSE)," ") -> LIB2026 | J8: =IF(A8:A8>0,VLOOKUP(A8,Fed.!$A$2:$J$1973,10,FALSE)," ") -> 0
A9: 446 | B9: =IF(A9:A9>0,VLOOKUP(A9,Fed.!$A$2:$J$1973,2,FALSE)," ") -> NAGATA | C9: =IF(A9:A9>0,VLOOKUP(A9,Fed.!$A$2:$J$1973,3,FALSE)," ") -> MASARU | D9: =IF(A9:A9>0,VLOOKUP(A9,Fed.!$A$2:$J$1973,4,FALSE)," ") -> M | E9: =IF(A9:A9>0,VLOOKUP(A9,Fed.!$A$2:$J$1973,5,FALSE)," ") -> 12. COO | F9: =IF(A9:A9>0,VLOOKUP(A9,Fed.!$A$2:$J$1973,6,FALSE)," ") -> 14590 | G9: =IF(A9:A9>0,VLOOKUP(A9,Fed.!$A$2:$J$1973,7,FALSE)," ") -> 9 | H9: =IF(A9:A9>0,VLOOKUP(A9,Fed.!$A$2:$J$1973,8,FALSE)," ") -> B-MR | I9: =IF(A9:A9>0,VLOOKUP(A9,Fed.!$A$2:$J$1973,9,FALSE)," ") -> LIB2026 | J9: =IF(A9:A9>0,VLOOKUP(A9,Fed.!$A$2:$J$1973,10,FALSE)," ") -> 0
A10: 870 | B10: =IF(A10:A10>0,VLOOKUP(A10,Fed.!$A$2:$J$1973,2,FALSE)," ") -> SAKAE HAMADA | C10: =IF(A10:A10>0,VLOOKUP(A10,Fed.!$A$2:$J$1973,3,FALSE)," ") -> FLORINDA G. | D10: =IF(A10:A10>0,VLOOKUP(A10,Fed.!$A$2:$J$1973,4,FALSE)," ") -> F | E10: =IF(A10:A10>0,VLOOKUP(A10,Fed.!$A$2:$J$1973,5,FALSE)," ") -> 12. COO | F10: =IF(A10:A10>0,VLOOKUP(A10,Fed.!$A$2:$J$1973,6,FALSE)," ") -> 17286 | G10: =IF(A10:A10>0,VLOOKUP(A10,Fed.!$A$2:$J$1973,7,FALSE)," ") -> 12 | H10: =IF(A10:A10>0,VLOOKUP(A10,Fed.!$A$2:$J$1973,8,FALSE)," ") -> C-SR | I10: =IF(A10:A10>0,VLOOKUP(A10,Fed.!$A$2:$J$1973,9,FALSE)," ") -> LIB2026 | J10: =IF(A10:A10>0,VLOOKUP(A10,Fed.!$A$2:$J$1973,10,FALSE)," ") -> 0
A11: 871 | B11: =IF(A11:A11>0,VLOOKUP(A11,Fed.!$A$2:$J$1973,2,FALSE)," ") -> YASSUDA | C11: =IF(A11:A11>0,VLOOKUP(A11,Fed.!$A$2:$J$1973,3,FALSE)," ") -> LENITA NOBUKO | D11: =IF(A11:A11>0,VLOOKUP(A11,Fed.!$A$2:$J$1973,4,FALSE)," ") -> F | E11: =IF(A11:A11>0,VLOOKUP(A11,Fed.!$A$2:$J$1973,5,FALSE)," ") -> 12. COO | F11: =IF(A11:A11>0,VLOOKUP(A11,Fed.!$A$2:$J$1973,6,FALSE)," ") -> 16949 | G11: =IF(A11:A11>0,VLOOKUP(A11,Fed.!$A$2:$J$1973,7,FALSE)," ") -> 12 | H11: =IF(A11:A11>0,VLOOKUP(A11,Fed.!$A$2:$J$1973,8,FALSE)," ") -> C-SR | I11: =IF(A11:A11>0,VLOOKUP(A11,Fed.!$A$2:$J$1973,9,FALSE)," ") -> LIB2026 | J11: =IF(A11:A11>0,VLOOKUP(A11,Fed.!$A$2:$J$1973,10,FALSE)," ") -> 0
A12: 540 | B12: =IF(A12:A12>0,VLOOKUP(A12,Fed.!$A$2:$J$1973,2,FALSE)," ") -> ANZAI | C12: =IF(A12:A12>0,VLOOKUP(A12,Fed.!$A$2:$J$1973,3,FALSE)," ") -> YOSHIO | D12: =IF(A12:A12>0,VLOOKUP(A12,Fed.!$A$2:$J$1973,4,FALSE)," ") -> M | E12: =IF(A12:A12>0,VLOOKUP(A12,Fed.!$A$2:$J$1973,5,FALSE)," ") -> 12. COO | F12: =IF(A12:A12>0,VLOOKUP(A12,Fed.!$A$2:$J$1973,6,FALSE)," ") -> 17424 | G12: =IF(A12:A12>0,VLOOKUP(A12,Fed.!$A$2:$J$1973,7,FALSE)," ") -> 12 | H12: =IF(A12:A12>0,VLOOKUP(A12,Fed.!$A$2:$J$1973,8,FALSE)," ") -> C-SR | I12: =IF(A12:A12>0,VLOOKUP(A12,Fed.!$A$2:$J$1973,9,FALSE)," ") -> LIB2026 | J12: =IF(A12:A12>0,VLOOKUP(A12,Fed.!$A$2:$J$1973,10,FALSE)," ") -> 0
A13: 769 | B13: =IF(A13:A13>0,VLOOKUP(A13,Fed.!$A$2:$J$1973,2,FALSE)," ") -> SOTOTUKA | C13: =IF(A13:A13>0,VLOOKUP(A13,Fed.!$A$2:$J$1973,3,FALSE)," ") -> MASSAHIKO | D13: =IF(A13:A13>0,VLOOKUP(A13,Fed.!$A$2:$J$1973,4,FALSE)," ") -> M | E13: =IF(A13:A13>0,VLOOKUP(A13,Fed.!$A$2:$J$1973,5,FALSE)," ") -> 12. COO | F13: =IF(A13:A13>0,VLOOKUP(A13,Fed.!$A$2:$J$1973,6,FALSE)," ") -> 17868 | G13: =IF(A13:A13>0,VLOOKUP(A13,Fed.!$A$2:$J$1973,7,FALSE)," ") -> 9 | H13: =IF(A13:A13>0,VLOOKUP(A13,Fed.!$A$2:$J$1973,8,FALSE)," ") -> B-SR | I13: =IF(A13:A13>0,VLOOKUP(A13,Fed.!$A$2:$J$1973,9,FALSE)," ") -> LIB2026 | J13: =IF(A13:A13>0,VLOOKUP(A13,Fed.!$A$2:$J$1973,10,FALSE)," ") -> 0
... A19: 270 | B19: =IF(A19:A19>0,VLOOKUP(A19,Fed.!$A$2:$J$1973,2,FALSE)," ") -> NOZAWA | C19: =IF(A19:A19>0,VLOOKUP(A19,Fed.!$A$2:$J$1973,3,FALSE)," ") -> ASSAMI | D19: =IF(A19:A19>0,VLOOKUP(A19,Fed.!$A$2:$J$1973,4,FALSE)," ") -> F | E19: =IF(A19:A19>0,VLOOKUP(A19,Fed.!$A$2:$J$1973,5,FALSE)," ") -> 06. KOK | F19: =IF(A19:A19>0,VLOOKUP(A19,Fed.!$A$2:$J$1973,6,FALSE)," ") -> 23351 | G19: =IF(A19:A19>0,VLOOKUP(A19,Fed.!$A$2:$J$1973,7,FALSE)," ") -> 12 | H19: =IF(A19:A19>0,VLOOKUP(A19,Fed.!$A$2:$J$1973,8,FALSE)," ") -> C-NSR | I19: =IF(A19:A19>0,VLOOKUP(A19,Fed.!$A$2:$J$1973,9,FALSE)," ") -> LIB2026 | J19: =IF(A19:A19>0,VLOOKUP(A19,Fed.!$A$2:$J$1973,10,FALSE)," ") -> 0
A20: 709 | B20: =IF(A20:A20>0,VLOOKUP(A20,Fed.!$A$2:$J$1973,2,FALSE)," ") -> MADUREIRA | C20: =IF(A20:A20>0,VLOOKUP(A20,Fed.!$A$2:$J$1973,3,FALSE)," ") -> CESAR AUGUSTO | D20: =IF(A20:A20>0,VLOOKUP(A20,Fed.!$A$2:$J$1973,4,FALSE)," ") -> M | E20: =IF(A20:A20>0,VLOOKUP(A20,Fed.!$A$2:$J$1973,5,FALSE)," ") -> 06. KOK | F20: =IF(A20:A20>0,VLOOKUP(A20,Fed.!$A$2:$J$1973,6,FALSE)," ") -> 19956 | G20: =IF(A20:A20>0,VLOOKUP(A20,Fed.!$A$2:$J$1973,7,FALSE)," ") -> 12 | H20: =IF(A20:A20>0,VLOOKUP(A20,Fed.!$A$2:$J$1973,8,FALSE)," ") -> C-NSR | I20: =IF(A20:A20>0,VLOOKUP(A20,Fed.!$A$2:$J$1973,9,FALSE)," ") -> LIB2026 | J20: =IF(A20:A20>0,VLOOKUP(A20,Fed.!$A$2:$J$1973,10,FALSE)," ") -> 0
A21: 673 | B21: =IF(A21:A21>0,VLOOKUP(A21,Fed.!$A$2:$J$1973,2,FALSE)," ") -> KADOWAKI | C21: =IF(A21:A21>0,VLOOKUP(A21,Fed.!$A$2:$J$1973,3,FALSE)," ") -> SUELY | D21: =IF(A21:A21>0,VLOOKUP(A21,Fed.!$A$2:$J$1973,4,FALSE)," ") -> F | E21: =IF(A21:A21>0,VLOOKUP(A21,Fed.!$A$2:$J$1973,5,FALSE)," ") -> 06. KOK | F21: =IF(A21:A21>0,VLOOKUP(A21,Fed.!$A$2:$J$1973,6,FALSE)," ") -> 20147 | G21: =IF(A21:A21>0,VLOOKUP(A21,Fed.!$A$2:$J$1973,7,FALSE)," ") -> 12 | H21: =IF(A21:A21>0,VLOOKUP(A21,Fed.!$A$2:$J$1973,8,FALSE)," ") -> C-NSR | I21: =IF(A21:A21>0,VLOOKUP(A21,Fed.!$A$2:$J$1973,9,FALSE)," ") -> LIB2026 | J21: =IF(A21:A21>0,VLOOKUP(A21,Fed.!$A$2:$J$1973,10,FALSE)," ") -> 0
A22: 672 | B22: =IF(A22:A22>0,VLOOKUP(A22,Fed.!$A$2:$J$1973,2,FALSE)," ") -> FUKUZAWA | C22: =IF(A22:A22>0,VLOOKUP(A22,Fed.!$A$2:$J$1973,3,FALSE)," ") -> ISAURA | D22: =IF(A22:A22>0,VLOOKUP(A22,Fed.!$A$2:$J$1973,4,FALSE)," ") -> F | E22: =IF(A22:A22>0,VLOOKUP(A22,Fed.!$A$2:$J$1973,5,FALSE)," ") -> 06. KOK | F22: =IF(A22:A22>0,VLOOKUP(A22,Fed.!$A$2:$J$1973,6,FALSE)," ") -> 19670 | G22: =IF(A22:A22>0,VLOOKUP(A22,Fed.!$A$2:$J$1973,7,FALSE)," ") -> 8 | H22: =IF(A22:A22>0,VLOOKUP(A22,Fed.!$A$2:$J$1973,8,FALSE)," ") -> B-NSR | I22: =IF(A22:A22>0,VLOOKUP(A22,Fed.!$A$2:$J$1973,9,FALSE)," ") -> LIB2026 | J22: =IF(A22:A22>0,VLOOKUP(A22,Fed.!$A$2:$J$1973,10,FALSE)," ") -> 0
A23: 670 | B23: =IF(A23:A23>0,VLOOKUP(A23,Fed.!$A$2:$J$1973,2,FALSE)," ") -> FUKUZAWA | C23: =IF(A23:A23>0,VLOOKUP(A23,Fed.!$A$2:$J$1973,3,FALSE)," ") -> AKIRA | D23: =IF(A23:A23>0,VLOOKUP(A23,Fed.!$A$2:$J$1973,4,FALSE)," ") -> M | E23: =IF(A23:A23>0,VLOOKUP(A23,Fed.!$A$2:$J$1973,5,FALSE)," ") -> 06. KOK | F23: =IF(A23:A23>0,VLOOKUP(A23,Fed.!$A$2:$J$1973,6,FALSE)," ") -> 18276 | G23: =IF(A23:A23>0,VLOOKUP(A23,Fed.!$A$2:$J$1973,7,FALSE)," ") -> 6 | H23: =IF(A23:A23>0,VLOOKUP(A23,Fed.!$A$2:$J$1973,8,FALSE)," ") -> A-SR | I23: =IF(A23:A23>0,VLOOKUP(A23,Fed.!$A$2:$J$1973,9,FALSE)," ") -> LIB2026 | J23: =IF(A23:A23>0,VLOOKUP(A23,Fed.!$A$2:$J$1973,10,FALSE)," ") -> 0
A24: 609 | B24: =IF(A24:A24>0,VLOOKUP(A24,Fed.!$A$2:$J$1973,2,FALSE)," ") -> NAKASHIMA | C24: =IF(A24:A24>0,VLOOKUP(A24,Fed.!$A$2:$J$1973,3,FALSE)," ") -> MITSUKO | D24: =IF(A24:A24>0,VLOOKUP(A24,Fed.!$A$2:$J$1973,4,FALSE)," ") -> F | E24: =IF(A24:A24>0,VLOOKUP(A24,Fed.!$A$2:$J$1973,5,FALSE)," ") -> 06. KOK | F24: =IF(A24:A24>0,VLOOKUP(A24,Fed.!$A$2:$J$1973,6,FALSE)," ") -> 19177 | G24: =IF(A24:A24>0,VLOOKUP(A24,Fed.!$A$2:$J$1973,7,FALSE)," ") -> 9 | H24: =IF(A24:A24>0,VLOOKUP(A24,Fed.!$A$2:$J$1973,8,FALSE)," ") -> B-NSR | I24: =IF(A24:A24>0,VLOOKUP(A24,Fed.!$A$2:$J$1973,9,FALSE)," ") -> LIB2026 | J24: =IF(A24:A24>0,VLOOKUP(A24,Fed.!$A$2:$J$1973,10,FALSE)," ") -> 0
A25: 276 | B25: =IF(A25:A25>0,VLOOKUP(A25,Fed.!$A$2:$J$1973,2,FALSE)," ") -> KUDO | C25: =IF(A25:A25>0,VLOOKUP(A25,Fed.!$A$2:$J$1973,3,FALSE)," ") -> SHOJI | D25: =IF(A25:A25>0,VLOOKUP(A25,Fed.!$A$2:$J$1973,4,FALSE)," ") -> M | E25: =IF(A25:A25>0,VLOOKUP(A25,Fed.!$A$2:$J$1973,5,FALSE)," ") -> 06. KOK | F25: =IF(A25:A25>0,VLOOKUP(A25,Fed.!$A$2:$J$1973,6,FALSE)," ") -> 13665 | G25: =IF(A25:A25>0,VLOOKUP(A25,Fed.!$A$2:$J$1973,7,FALSE)," ") -> 6 | H25: =IF(A25:A25>0,VLOOKUP(A25,Fed.!$A$2:$J$1973,8,FALSE)," ") -> A-MR | I25: =IF(A25:A25>0,VLOOKUP(A25,Fed.!$A$2:$J$1973,9,FALSE)," ") -> LIB2026 | J25: =IF(A25:A25>0,VLOOKUP(A25,Fed.!$A$2:$J$1973,10,FALSE)," ") -> 0
A26: 278 | B26: =IF(A26:A26>0,VLOOKUP(A26,Fed.!$A$2:$J$1973,2,FALSE)," ") -> KUDO | C26: =IF(A26:A26>0,VLOOKUP(A26,Fed.!$A$2:$J$1973,3,FALSE)," ") -> AKIKO | D26: =IF(A26:A26>0,VLOOKUP(A26,Fed.!$A$2:$J$1973,4,FALSE)," ") -> F | E26: =IF(A26:A26>0,VLOOKUP(A26,Fed.!$A$2:$J$1973,5,FALSE)," ") -> 06. KOK | F26: =IF(A26:A26>0,VLOOKUP(A26,Fed.!$A$2:$J$1973,6,FALSE)," ") -> 15656 | G26: =IF(A26:A26>0,VLOOKUP(A26,Fed.!$A$2:$J$1973,7,FALSE)," ") -> 7 | H26: =IF(A26:A26>0,VLOOKUP(A26,Fed.!$A$2:$J$1973,8,FALSE)," ") -> B-SR | I26: =IF(A26:A26>0,VLOOKUP(A26,Fed.!$A$2:$J$1973,9,FALSE)," ") -> LIB2026 | J26: =IF(A26:A26>0,VLOOKUP(A26,Fed.!$A$2:$J$1973,10,FALSE)," ") -> 0
A27: 141 | B27: =IF(A27:A27>0,VLOOKUP(A27,Fed.!$A$2:$J$1973,2,FALSE)," ") -> HASHIZUME | C27: =IF(A27:A27>0,VLOOKUP(A27,Fed.!$A$2:$J$1973,3,FALSE)," ") -> AKIO | D27: =IF(A27:A27>0,VLOOKUP(A27,Fed.!$A$2:$J$1973,4,FALSE)," ") -> M | E27: =IF(A27:A27>0,VLOOKUP(A27,Fed.!$A$2:$J$1973,5,FALSE)," ") -> 06. KOK | F27: =IF(A27:A27>0,VLOOKUP(A27,Fed.!$A$2:$J$1973,6,FALSE)," ") -> 16851 | G27: =IF(A27:A27>0,VLOOKUP(A27,Fed.!$A$2:$J$1973,7,FALSE)," ") -> 6 | H27: =IF(A27:A27>0,VLOOKUP(A27,Fed.!$A$2:$J$1973,8,FALSE)," ") -> A-SR | I27: =IF(A27:A27>0,VLOOKUP(A27,Fed.!$A$2:$J$1973,9,FALSE)," ") -> LIB2026 | J27: =IF(A27:A27>0,VLOOKUP(A27,Fed.!$A$2:$J$1973,10,FALSE)," ") -> 0
A28: 155 | B28: =IF(A28:A28>0,VLOOKUP(A28,Fed.!$A$2:$J$1973,2,FALSE)," ") -> HASHIZUME | C28: =IF(A28:A28>0,VLOOKUP(A28,Fed.!$A$2:$J$1973,3,FALSE)," ") -> AKIKO | D28: =IF(A28:A28>0,VLOOKUP(A28,Fed.!$A$2:$J$1973,4,FALSE)," ") -> F | E28: =IF(A28:A28>0,VLOOKUP(A28,Fed.!$A$2:$J$1973,5,FALSE)," ") -> 06. KOK | F28: =IF(A28:A28>0,VLOOKUP(A28,Fed.!$A$2:$J$1973,6,FALSE)," ") -> 18684 | G28: =IF(A28:A28>0,VLOOKUP(A28,Fed.!$A$2:$J$1973,7,FALSE)," ") -> 6 | H28: =IF(A28:A28>0,VLOOKUP(A28,Fed.!$A$2:$J$1973,8,FALSE)," ") -> A-SR | I28: =IF(A28:A28>0,VLOOKUP(A28,Fed.!$A$2:$J$1973,9,FALSE)," ") -> LIB2026 | J28: =IF(A28:A28>0,VLOOKUP(A28,Fed.!$A$2:$J$1973,10,FALSE)," ") -> 0
A29: 768 | B29: =IF(A29:A29>0,VLOOKUP(A29,Fed.!$A$2:$J$1973,2,FALSE)," ") -> SATO | C29: =IF(A29:A29>0,VLOOKUP(A29,Fed.!$A$2:$J$1973,3,FALSE)," ") -> NOBUO | D29: =IF(A29:A29>0,VLOOKUP(A29,Fed.!$A$2:$J$1973,4,FALSE)," ") -> M | E29: =IF(A29:A29>0,VLOOKUP(A29,Fed.!$A$2:$J$1973,5,FALSE)," ") -> 06. KOK | F29: =IF(A29:A29>0,VLOOKUP(A29,Fed.!$A$2:$J$1973,6,FALSE)," ") -> 16524 | G29: =IF(A29:A29>0,VLOOKUP(A29,Fed.!$A$2:$J$1973,7,FALSE)," ") -> 9 | H29: =IF(A29:A29>0,VLOOKUP(A29,Fed.!$A$2:$J$1973,8,FALSE)," ") -> B-SR | I29: =IF(A29:A29>0,VLOOKUP(A29,Fed.!$A$2:$J$1973,9,FALSE)," ") -> LIB2026 | J29: =IF(A29:A29>0,VLOOKUP(A29,Fed.!$A$2:$J$1973,10,FALSE)," ") -> 0
A30: 941 | B30: =IF(A30:A30>0,VLOOKUP(A30,Fed.!$A$2:$J$1973,2,FALSE)," ") -> OKUYAMA | C30: =IF(A30:A30>0,VLOOKUP(A30,Fed.!$A$2:$J$1973,3,FALSE)," ") -> NOBORU | D30: =IF(A30:A30>0,VLOOKUP(A30,Fed.!$A$2:$J$1973,4,FALSE)," ") -> M | E30: =IF(A30:A30>0,VLOOKUP(A30,Fed.!$A$2:$J$1973,5,FALSE)," ") -> 06. KOK | F30: =IF(A30:A30>0,VLOOKUP(A30,Fed.!$A$2:$J$1973,6,FALSE)," ") -> 17489 | G30: =IF(A30:A30>0,VLOOKUP(A30,Fed.!$A$2:$J$1973,7,FALSE)," ") -> 12 | H30: =IF(A30:A30>0,VLOOKUP(A30,Fed.!$A$2:$J$1973,8,FALSE)," ") -> C-SR | I30: =IF(A30:A30>0,VLOOKUP(A30,Fed.!$A$2:$J$1973,9,FALSE)," ") -> LIB2026 | J30: =IF(A30:A30>0,VLOOKUP(A30,Fed.!$A$2:$J$1973,10,FALSE)," ") -> 0
A31: 408 | B31: =IF(A31:A31>0,VLOOKUP(A31,Fed.!$A$2:$J$1973,2,FALSE)," ") -> YOKOTA | C31: =IF(A31:A31>0,VLOOKUP(A31,Fed.!$A$2:$J$1973,3,FALSE)," ") -> NELSON AKIRA | D31: =IF(A31:A31>0,VLOOKUP(A31,Fed.!$A$2:$J$1973,4,FALSE)," ") -> M | E31: =IF(A31:A31>0,VLOOKUP(A31,Fed.!$A$2:$J$1973,5,FALSE)," ") -> 06. KOK | F31: =IF(A31:A31>0,VLOOKUP(A31,Fed.!$A$2:$J$1973,6,FALSE)," ") -> 20468 | G31: =IF(A31:A31>0,VLOOKUP(A31,Fed.!$A$2:$J$1973,7,FALSE)," ") -> 12 | H31: =IF(A31:A31>0,VLOOKUP(A31,Fed.!$A$2:$J$1973,8,FALSE)," ") -> C-NSR | I31: =IF(A31:A31>0,VLOOKUP(A31,Fed.!$A$2:$J$1973,9,FALSE)," ") -> LIB2026 | J31: =IF(A31:A31>0,VLOOKUP(A31,Fed.!$A$2:$J$1973,10,FALSE)," ") -> 0
A32: 407 | B32: =IF(A32:A32>0,VLOOKUP(A32,Fed.!$A$2:$J$1973,2,FALSE)," ") -> HIROSE YOKOTA | C32: =IF(A32:A32>0,VLOOKUP(A32,Fed.!$A$2:$J$1973,3,FALSE)," ") -> HAYDEE HARUMI | D32: =IF(A32:A32>0,VLOOKUP(A32,Fed.!$A$2:$J$1973,4,FALSE)," ") -> F | E32: =IF(A32:A32>0,VLOOKUP(A32,Fed.!$A$2:$J$1973,5,FALSE)," ") -> 06. KOK | F32: =IF(A32:A32>0,VLOOKUP(A32,Fed.!$A$2:$J$1973,6,FALSE)," ") -> 22444 | G32: =IF(A32:A32>0,VLOOKUP(A32,Fed.!$A$2:$J$1973,7,FALSE)," ") -> 12 | H32: =IF(A32:A32>0,VLOOKUP(A32,Fed.!$A$2:$J$1973,8,FALSE)," ") -> C-NSR | I32: =IF(A32:A32>0,VLOOKUP(A32,Fed.!$A$2:$J$1973,9,FALSE)," ") -> LIB2026 | J32: =IF(A32:A32>0,VLOOKUP(A32,Fed.!$A$2:$J$1973,10,FALSE)," ") -> 0
... A37: 184 | B37: =IF(A37:A37>0,VLOOKUP(A37,Fed.!$A$2:$J$1973,2,FALSE)," ") -> UTSUMI | C37: =IF(A37:A37>0,VLOOKUP(A37,Fed.!$A$2:$J$1973,3,FALSE)," ") -> CHIOMI | D37: =IF(A37:A37>0,VLOOKUP(A37,Fed.!$A$2:$J$1973,4,FALSE)," ") -> F | E37: =IF(A37:A37>0,VLOOKUP(A37,Fed.!$A$2:$J$1973,5,FALSE)," ") -> 06. KOK | F37: =IF(A37:A37>0,VLOOKUP(A37,Fed.!$A$2:$J$1973,6,FALSE)," ") -> 14740 | G37: =IF(A37:A37>0,VLOOKUP(A37,Fed.!$A$2:$J$1973,7,FALSE)," ") -> 12 | H37: =IF(A37:A37>0,VLOOKUP(A37,Fed.!$A$2:$J$1973,8,FALSE)," ") -> C-MR | I37: =IF(A37:A37>0,VLOOKUP(A37,Fed.!$A$2:$J$1973,9,FALSE)," ") -> LIB2026 | J37: =IF(A37:A37>0,VLOOKUP(A37,Fed.!$A$2:$J$1973,10,FALSE)," ") -> 0
A38: 691 | B38: =IF(A38:A38>0,VLOOKUP(A38,Fed.!$A$2:$J$1973,2,FALSE)," ") -> HIRATA | C38: =IF(A38:A38>0,VLOOKUP(A38,Fed.!$A$2:$J$1973,3,FALSE)," ") -> IRINEU YASSAYUKI | D38: =IF(A38:A38>0,VLOOKUP(A38,Fed.!$A$2:$J$1973,4,FALSE)," ") -> M | E38: =IF(A38:A38>0,VLOOKUP(A38,Fed.!$A$2:$J$1973,5,FALSE)," ") -> 06. KOK | F38: =IF(A38:A38>0,VLOOKUP(A38,Fed.!$A$2:$J$1973,6,FALSE)," ") -> 24162 | G38: =IF(A38:A38>0,VLOOKUP(A38,Fed.!$A$2:$J$1973,7,FALSE)," ") -> 8 | H38: =IF(A38:A38>0,VLOOKUP(A38,Fed.!$A$2:$J$1973,8,FALSE)," ") -> B-NSR | I38: =IF(A38:A38>0,VLOOKUP(A38,Fed.!$A$2:$J$1973,9,FALSE)," ") -> LIB2026 | J38: =IF(A38:A38>0,VLOOKUP(A38,Fed.!$A$2:$J$1973,10,FALSE)," ") -> 0
A39: 714 | B39: =IF(A39:A39>0,VLOOKUP(A39,Fed.!$A$2:$J$1973,2,FALSE)," ") -> MARTINS DE MELLO | C39: =IF(A39:A39>0,VLOOKUP(A39,Fed.!$A$2:$J$1973,3,FALSE)," ") -> VANESSA | D39: =IF(A39:A39>0,VLOOKUP(A39,Fed.!$A$2:$J$1973,4,FALSE)," ") -> F | E39: =IF(A39:A39>0,VLOOKUP(A39,Fed.!$A$2:$J$1973,5,FALSE)," ") -> 06. KOK | F39: =IF(A39:A39>0,VLOOKUP(A39,Fed.!$A$2:$J$1973,6,FALSE)," ") -> 28169 | G39: =IF(A39:A39>0,VLOOKUP(A39,Fed.!$A$2:$J$1973,7,FALSE)," ") -> 12 | H39: =IF(A39:A39>0,VLOOKUP(A39,Fed.!$A$2:$J$1973,8,FALSE)," ") -> C-NSR | I39: =IF(A39:A39>0,VLOOKUP(A39,Fed.!$A$2:$J$1973,9,FALSE)," ") -> LIB2026 | J39: =IF(A39:A39>0,VLOOKUP(A39,Fed.!$A$2:$J$1973,10,FALSE)," ") -> 0
A40: 635 | B40: =IF(A40:A40>0,VLOOKUP(A40,Fed.!$A$2:$J$1973,2,FALSE)," ") -> BABATA | C40: =IF(A40:A40>0,VLOOKUP(A40,Fed.!$A$2:$J$1973,3,FALSE)," ") -> JORGE TOSHIO | D40: =IF(A40:A40>0,VLOOKUP(A40,Fed.!$A$2:$J$1973,4,FALSE)," ") -> M | E40: =IF(A40:A40>0,VLOOKUP(A40,Fed.!$A$2:$J$1973,5,FALSE)," ") -> 06. KOK | F40: =IF(A40:A40>0,VLOOKUP(A40,Fed.!$A$2:$J$1973,6,FALSE)," ") -> 21124 | G40: =IF(A40:A40>0,VLOOKUP(A40,Fed.!$A$2:$J$1973,7,FALSE)," ") -> 3 | H40: =IF(A40:A40>0,VLOOKUP(A40,Fed.!$A$2:$J$1973,8,FALSE)," ") -> EX-NSR | I40: =IF(A40:A40>0,VLOOKUP(A40,Fed.!$A$2:$J$1973,9,FALSE)," ") -> LIB2026 | J40: =IF(A40:A40>0,VLOOKUP(A40,Fed.!$A$2:$J$1973,10,FALSE)," ") -> 0
A41: 705 | B41: =IF(A41:A41>0,VLOOKUP(A41,Fed.!$A$2:$J$1973,2,FALSE)," ") -> IWAMOTO MAEDA | C41: =IF(A41:A41>0,VLOOKUP(A41,Fed.!$A$2:$J$1973,3,FALSE)," ") -> IOSHIMI | D41: =IF(A41:A41>0,VLOOKUP(A41,Fed.!$A$2:$J$1973,4,FALSE)," ") -> F | E41: =IF(A41:A41>0,VLOOKUP(A41,Fed.!$A$2:$J$1973,5,FALSE)," ") -> 06. KOK | F41: =IF(A41:A41>0,VLOOKUP(A41,Fed.!$A$2:$J$1973,6,FALSE)," ") -> 20443 | G41: =IF(A41:A41>0,VLOOKUP(A41,Fed.!$A$2:$J$1973,7,FALSE)," ") -> 12 | H41: =IF(A41:A41>0,VLOOKUP(A41,Fed.!$A$2:$J$1973,8,FALSE)," ") -> C-NSR | I41: =IF(A41:A41>0,VLOOKUP(A41,Fed.!$A$2:$J$1973,9,FALSE)," ") -> LIB2026 | J41: =IF(A41:A41>0,VLOOKUP(A41,Fed.!$A$2:$J$1973,10,FALSE)," ") -> 0
A42: 704 | B42: =IF(A42:A42>0,VLOOKUP(A42,Fed.!$A$2:$J$1973,2,FALSE)," ") -> MAEDA | C42: =IF(A42:A42>0,VLOOKUP(A42,Fed.!$A$2:$J$1973,3,FALSE)," ") -> KAUSSEI | D42: =IF(A42:A42>0,VLOOKUP(A42,Fed.!$A$2:$J$1973,4,FALSE)," ") -> M | E42: =IF(A42:A42>0,VLOOKUP(A42,Fed.!$A$2:$J$1973,5,FALSE)," ") -> 06. KOK | F42: =IF(A42:A42>0,VLOOKUP(A42,Fed.!$A$2:$J$1973,6,FALSE)," ") -> 18515 | G42: =IF(A42:A42>0,VLOOKUP(A42,Fed.!$A$2:$J$1973,7,FALSE)," ") -> 12 | H42: =IF(A42:A42>0,VLOOKUP(A42,Fed.!$A$2:$J$1973,8,FALSE)," ") -> C-SR | I42: =IF(A42:A42>0,VLOOKUP(A42,Fed.!$A$2:$J$1973,9,FALSE)," ") -> LIB2026 | J42: =IF(A42:A42>0,VLOOKUP(A42,Fed.!$A$2:$J$1973,10,FALSE)," ") -> 0
A43: 605 | B43: =IF(A43:A43>0,VLOOKUP(A43,Fed.!$A$2:$J$1973,2,FALSE)," ") -> ABE | C43: =IF(A43:A43>0,VLOOKUP(A43,Fed.!$A$2:$J$1973,3,FALSE)," ") -> TETSUO | D43: =IF(A43:A43>0,VLOOKUP(A43,Fed.!$A$2:$J$1973,4,FALSE)," ") -> M | E43: =IF(A43:A43>0,VLOOKUP(A43,Fed.!$A$2:$J$1973,5,FALSE)," ") -> 06. KOK | F43: =IF(A43:A43>0,VLOOKUP(A43,Fed.!$A$2:$J$1973,6,FALSE)," ") -> 12082 | G43: =IF(A43:A43>0,VLOOKUP(A43,Fed.!$A$2:$J$1973,7,FALSE)," ") -> 8 | H43: =IF(A43:A43>0,VLOOKUP(A43,Fed.!$A$2:$J$1973,8,FALSE)," ") -> B-MR | I43: =IF(A43:A43>0,VLOOKUP(A43,Fed.!$A$2:$J$1973,9,FALSE)," ") -> LIB2026i | J43: =IF(A43:A43>0,VLOOKUP(A43,Fed.!$A$2:$J$1973,10,FALSE)," ") -> 0
A44: 607 | B44: =IF(A44:A44>0,VLOOKUP(A44,Fed.!$A$2:$J$1973,2,FALSE)," ") -> ABE | C44: =IF(A44:A44>0,VLOOKUP(A44,Fed.!$A$2:$J$1973,3,FALSE)," ") -> KAZUKO | D44: =IF(A44:A44>0,VLOOKUP(A44,Fed.!$A$2:$J$1973,4,FALSE)," ") -> F | E44: =IF(A44:A44>0,VLOOKUP(A44,Fed.!$A$2:$J$1973,5,FALSE)," ") -> 06. KOK | F44: =IF(A44:A44>0,VLOOKUP(A44,Fed.!$A$2:$J$1973,6,FALSE)," ") -> 18129 | G44: =IF(A44:A44>0,VLOOKUP(A44,Fed.!$A$2:$J$1973,7,FALSE)," ") -> 9 | H44: =IF(A44:A44>0,VLOOKUP(A44,Fed.!$A$2:$J$1973,8,FALSE)," ") -> B-SR | I44: =IF(A44:A44>0,VLOOKUP(A44,Fed.!$A$2:$J$1973,9,FALSE)," ") -> LIB2026 | J44: =IF(A44:A44>0,VLOOKUP(A44,Fed.!$A$2:$J$1973,10,FALSE)," ") -> 0
A45: 152 | B45: =IF(A45:A45>0,VLOOKUP(A45,Fed.!$A$2:$J$1973,2,FALSE)," ") -> SHIRAHATA | C45: =IF(A45:A45>0,VLOOKUP(A45,Fed.!$A$2:$J$1973,3,FALSE)," ") -> MAKOTO | D45: =IF(A45:A45>0,VLOOKUP(A45,Fed.!$A$2:$J$1973,4,FALSE)," ") -> M | E45: =IF(A45:A45>0,VLOOKUP(A45,Fed.!$A$2:$J$1973,5,FALSE)," ") -> 06. KOK | F45: =IF(A45:A45>0,VLOOKUP(A45,Fed.!$A$2:$J$1973,6,FALSE)," ") -> 13189 | G45: =IF(A45:A45>0,VLOOKUP(A45,Fed.!$A$2:$J$1973,7,FALSE)," ") -> 9 | H45: =IF(A45:A45>0,VLOOKUP(A45,Fed.!$A$2:$J$1973,8,FALSE)," ") -> B-MR | I45: =IF(A45:A45>0,VLOOKUP(A45,Fed.!$A$2:$J$1973,9,FALSE)," ") -> LIB2026i | J45: =IF(A45:A45>0,VLOOKUP(A45,Fed.!$A$2:$J$1973,10,FALSE)," ") -> 0
A46: 630 | B46: =IF(A46:A46>0,VLOOKUP(A46,Fed.!$A$2:$J$1973,2,FALSE)," ") -> YAMAZAKI | C46: =IF(A46:A46>0,VLOOKUP(A46,Fed.!$A$2:$J$1973,3,FALSE)," ") -> TERUYUKI | D46: =IF(A46:A46>0,VLOOKUP(A46,Fed.!$A$2:$J$1973,4,FALSE)," ") -> M | E46: =IF(A46:A46>0,VLOOKUP(A46,Fed.!$A$2:$J$1973,5,FALSE)," ") -> 06. KOK | F46: =IF(A46:A46>0,VLOOKUP(A46,Fed.!$A$2:$J$1973,6,FALSE)," ") -> 17919 | G46: =IF(A46:A46>0,VLOOKUP(A46,Fed.!$A$2:$J$1973,7,FALSE)," ") -> 9 | H46: =IF(A46:A46>0,VLOOKUP(A46,Fed.!$A$2:$J$1973,8,FALSE)," ") -> B-SR | I46: =IF(A46:A46>0,VLOOKUP(A46,Fed.!$A$2:$J$1973,9,FALSE)," ") -> LIB2026 | J46: =IF(A46:A46>0,VLOOKUP(A46,Fed.!$A$2:$J$1973,10,FALSE)," ") -> 0
A47: 771 | B47: =IF(A47:A47>0,VLOOKUP(A47,Fed.!$A$2:$J$1973,2,FALSE)," ") -> YAMAMOTO YAMAZAKI | C47: =IF(A47:A47>0,VLOOKUP(A47,Fed.!$A$2:$J$1973,3,FALSE)," ") -> CECILIA TOSHIE | D47: =IF(A47:A47>0,VLOOKUP(A47,Fed.!$A$2:$J$1973,4,FALSE)," ") -> F | E47: =IF(A47:A47>0,VLOOKUP(A47,Fed.!$A$2:$J$1973,5,FALSE)," ") -> 06. KOK | F47: =IF(A47:A47>0,VLOOKUP(A47,Fed.!$A$2:$J$1973,6,FALSE)," ") -> 23302 | G47: =IF(A47:A47>0,VLOOKUP(A47,Fed.!$A$2:$J$1973,7,FALSE)," ") -> 12 | H47: =IF(A47:A47>0,VLOOKUP(A47,Fed.!$A$2:$J$1973,8,FALSE)," ") -> C-NSR | I47: =IF(A47:A47>0,VLOOKUP(A47,Fed.!$A$2:$J$1973,9,FALSE)," ") -> LIB2026 | J47: =IF(A47:A47>0,VLOOKUP(A47,Fed.!$A$2:$J$1973,10,FALSE)," ") -> 0
A48: 153 | B48: =IF(A48:A48>0,VLOOKUP(A48,Fed.!$A$2:$J$1973,2,FALSE)," ") -> FURUKAWA | C48: =IF(A48:A48>0,VLOOKUP(A48,Fed.!$A$2:$J$1973,3,FALSE)," ") -> FUMIKO | D48: =IF(A48:A48>0,VLOOKUP(A48,Fed.!$A$2:$J$1973,4,FALSE)," ") -> F | E48: =IF(A48:A48>0,VLOOKUP(A48,Fed.!$A$2:$J$1973,5,FALSE)," ") -> 06. KOK | F48: =IF(A48:A48>0,VLOOKUP(A48,Fed.!$A$2:$J$1973,6,FALSE)," ") -> 13386 | G48: =IF(A48:A48>0,VLOOKUP(A48,Fed.!$A$2:$J$1973,7,FALSE)," ") -> 12 | H48: =IF(A48:A48>0,VLOOKUP(A48,Fed.!$A$2:$J$1973,8,FALSE)," ") -> C-MR | I48: =IF(A48:A48>0,VLOOKUP(A48,Fed.!$A$2:$J$1973,9,FALSE)," ") -> LIB2026i | J48: =IF(A48:A48>0,VLOOKUP(A48,Fed.!$A$2:$J$1973,10,FALSE)," ") -> 0
A49: 182 | B49: =IF(A49:A49>0,VLOOKUP(A49,Fed.!$A$2:$J$1973,2,FALSE)," ") -> NISHIDA | C49: =IF(A49:A49>0,VLOOKUP(A49,Fed.!$A$2:$J$1973,3,FALSE)," ") -> UTAKO | D49: =IF(A49:A49>0,VLOOKUP(A49,Fed.!$A$2:$J$1973,4,FALSE)," ") -> F | E49: =IF(A49:A49>0,VLOOKUP(A49,Fed.!$A$2:$J$1973,5,FALSE)," ") -> 06. KOK | F49: =IF(A49:A49>0,VLOOKUP(A49,Fed.!$A$2:$J$1973,6,FALSE)," ") -> 15498 | G49: =IF(A49:A49>0,VLOOKUP(A49,Fed.!$A$2:$J$1973,7,FALSE)," ") -> 9 | H49: =IF(A49:A49>0,VLOOKUP(A49,Fed.!$A$2:$J$1973,8,FALSE)," ") -> B-SR | I49: =IF(A49:A49>0,VLOOKUP(A49,Fed.!$A$2:$J$1973,9,FALSE)," ") -> LIB2027 | J49: =IF(A49:A49>0,VLOOKUP(A49,Fed.!$A$2:$J$1973,10,FALSE)," ") -> 0
A50: 767 | B50: =IF(A50:A50>0,VLOOKUP(A50,Fed.!$A$2:$J$1973,2,FALSE)," ") -> FURUKAWA | C50: =IF(A50:A50>0,VLOOKUP(A50,Fed.!$A$2:$J$1973,3,FALSE)," ") -> HIROSHI | D50: =IF(A50:A50>0,VLOOKUP(A50,Fed.!$A$2:$J$1973,4,FALSE)," ") -> M | E50: =IF(A50:A50>0,VLOOKUP(A50,Fed.!$A$2:$J$1973,5,FALSE)," ") -> 06. KOK | F50: =IF(A50:A50>0,VLOOKUP(A50,Fed.!$A$2:$J$1973,6,FALSE)," ") -> 14567 | G50: =IF(A50:A50>0,VLOOKUP(A50,Fed.!$A$2:$J$1973,7,FALSE)," ") -> 6 | H50: =IF(A50:A50>0,VLOOKUP(A50,Fed.!$A$2:$J$1973,8,FALSE)," ") -> A-MR | I50: =IF(A50:A50>0,VLOOKUP(A50,Fed.!$A$2:$J$1973,9,FALSE)," ") -> LIB2026 | J50: =IF(A50:A50>0,VLOOKUP(A50,Fed.!$A$2:$J$1973,10,FALSE)," ") -> 0
... A54: 463 | B54: =IF(A54:A54>0,VLOOKUP(A54,Fed.!$A$2:$J$1973,2,FALSE)," ") -> ISHII | C54: =IF(A54:A54>0,VLOOKUP(A54,Fed.!$A$2:$J$1973,3,FALSE)," ") -> HISANOBU | D54: =IF(A54:A54>0,VLOOKUP(A54,Fed.!$A$2:$J$1973,4,FALSE)," ") -> M | E54: =IF(A54:A54>0,VLOOKUP(A54,Fed.!$A$2:$J$1973,5,FALSE)," ") -> 06. KOK | F54: =IF(A54:A54>0,VLOOKUP(A54,Fed.!$A$2:$J$1973,6,FALSE)," ") -> 14088 | G54: =IF(A54:A54>0,VLOOKUP(A54,Fed.!$A$2:$J$1973,7,FALSE)," ") -> 9 | H54: =IF(A54:A54>0,VLOOKUP(A54,Fed.!$A$2:$J$1973,8,FALSE)," ") -> B-MR | I54: =IF(A54:A54>0,VLOOKUP(A54,Fed.!$A$2:$J$1973,9,FALSE)," ") -> LIB2026 | J54: =IF(A54:A54>0,VLOOKUP(A54,Fed.!$A$2:$J$1973,10,FALSE)," ") -> 0
A55: 661 | B55: =IF(A55:A55>0,VLOOKUP(A55,Fed.!$A$2:$J$1973,2,FALSE)," ") -> FURUKAWA | C55: =IF(A55:A55>0,VLOOKUP(A55,Fed.!$A$2:$J$1973,3,FALSE)," ") -> KOITI | D55: =IF(A55:A55>0,VLOOKUP(A55,Fed.!$A$2:$J$1973,4,FALSE)," ") -> M | E55: =IF(A55:A55>0,VLOOKUP(A55,Fed.!$A$2:$J$1973,5,FALSE)," ") -> 06. KOK | F55: =IF(A55:A55>0,VLOOKUP(A55,Fed.!$A$2:$J$1973,6,FALSE)," ") -> 16653 | G55: =IF(A55:A55>0,VLOOKUP(A55,Fed.!$A$2:$J$1973,7,FALSE)," ") -> 9 | H55: =IF(A55:A55>0,VLOOKUP(A55,Fed.!$A$2:$J$1973,8,FALSE)," ") -> B-SR | I55: =IF(A55:A55>0,VLOOKUP(A55,Fed.!$A$2:$J$1973,9,FALSE)," ") -> LIB2026 | J55: =IF(A55:A55>0,VLOOKUP(A55,Fed.!$A$2:$J$1973,10,FALSE)," ") -> 0
A56: 404 | B56: =IF(A56:A56>0,VLOOKUP(A56,Fed.!$A$2:$J$1973,2,FALSE)," ") -> 0ZAKI | C56: =IF(A56:A56>0,VLOOKUP(A56,Fed.!$A$2:$J$1973,3,FALSE)," ") -> RAPHAEL M. | D56: =IF(A56:A56>0,VLOOKUP(A56,Fed.!$A$2:$J$1973,4,FALSE)," ") -> M | E56: =IF(A56:A56>0,VLOOKUP(A56,Fed.!$A$2:$J$1973,5,FALSE)," ") -> 06. KOK | F56: =IF(A56:A56>0,VLOOKUP(A56,Fed.!$A$2:$J$1973,6,FALSE)," ") -> 32446 | G56: =IF(A56:A56>0,VLOOKUP(A56,Fed.!$A$2:$J$1973,7,FALSE)," ") -> 12 | H56: =IF(A56:A56>0,VLOOKUP(A56,Fed.!$A$2:$J$1973,8,FALSE)," ") -> C-NSR | I56: =IF(A56:A56>0,VLOOKUP(A56,Fed.!$A$2:$J$1973,9,FALSE)," ") -> LIB2026 | J56: =IF(A56:A56>0,VLOOKUP(A56,Fed.!$A$2:$J$1973,10,FALSE)," ") -> 0
A57: 840 | B57: =IF(A57:A57>0,VLOOKUP(A57,Fed.!$A$2:$J$1973,2,FALSE)," ") -> MAEDA | C57: =IF(A57:A57>0,VLOOKUP(A57,Fed.!$A$2:$J$1973,3,FALSE)," ") -> EDUARDO KIYOSHI | D57: =IF(A57:A57>0,VLOOKUP(A57,Fed.!$A$2:$J$1973,4,FALSE)," ") -> M | E57: =IF(A57:A57>0,VLOOKUP(A57,Fed.!$A$2:$J$1973,5,FALSE)," ") -> 06. KOK | F57: =IF(A57:A57>0,VLOOKUP(A57,Fed.!$A$2:$J$1973,6,FALSE)," ") -> 16578 | G57: =IF(A57:A57>0,VLOOKUP(A57,Fed.!$A$2:$J$1973,7,FALSE)," ") -> 9 | H57: =IF(A57:A57>0,VLOOKUP(A57,Fed.!$A$2:$J$1973,8,FALSE)," ") -> B-SR | I57: =IF(A57:A57>0,VLOOKUP(A57,Fed.!$A$2:$J$1973,9,FALSE)," ") -> LIB2026 | J57: =IF(A57:A57>0,VLOOKUP(A57,Fed.!$A$2:$J$1973,10,FALSE)," ") -> 0
A58: 129 | B58: =IF(A58:A58>0,VLOOKUP(A58,Fed.!$A$2:$J$1973,2,FALSE)," ") -> YAMAKAWA | C58: =IF(A58:A58>0,VLOOKUP(A58,Fed.!$A$2:$J$1973,3,FALSE)," ") -> TAKAO | D58: =IF(A58:A58>0,VLOOKUP(A58,Fed.!$A$2:$J$1973,4,FALSE)," ") -> M | E58: =IF(A58:A58>0,VLOOKUP(A58,Fed.!$A$2:$J$1973,5,FALSE)," ") -> 11. NCC | F58: =IF(A58:A58>0,VLOOKUP(A58,Fed.!$A$2:$J$1973,6,FALSE)," ") -> 16818 | G58: =IF(A58:A58>0,VLOOKUP(A58,Fed.!$A$2:$J$1973,7,FALSE)," ") -> 6 | H58: =IF(A58:A58>0,VLOOKUP(A58,Fed.!$A$2:$J$1973,8,FALSE)," ") -> A-SR | I58: =IF(A58:A58>0,VLOOKUP(A58,Fed.!$A$2:$J$1973,9,FALSE)," ") -> LIB2026 | J58: =IF(A58:A58>0,VLOOKUP(A58,Fed.!$A$2:$J$1973,10,FALSE)," ") -> 0
A59: 170 | B59: =IF(A59:A59>0,VLOOKUP(A59,Fed.!$A$2:$J$1973,2,FALSE)," ") -> YAMAKAWA | C59: =IF(A59:A59>0,VLOOKUP(A59,Fed.!$A$2:$J$1973,3,FALSE)," ") -> YOCHINOBU | D59: =IF(A59:A59>0,VLOOKUP(A59,Fed.!$A$2:$J$1973,4,FALSE)," ") -> M | E59: =IF(A59:A59>0,VLOOKUP(A59,Fed.!$A$2:$J$1973,5,FALSE)," ") -> 11. NCC | F59: =IF(A59:A59>0,VLOOKUP(A59,Fed.!$A$2:$J$1973,6,FALSE)," ") -> 17962 | G59: =IF(A59:A59>0,VLOOKUP(A59,Fed.!$A$2:$J$1973,7,FALSE)," ") -> 2 | H59: =IF(A59:A59>0,VLOOKUP(A59,Fed.!$A$2:$J$1973,8,FALSE)," ") -> EX-SR | I59: =IF(A59:A59>0,VLOOKUP(A59,Fed.!$A$2:$J$1973,9,FALSE)," ") -> LIB2026 | J59: =IF(A59:A59>0,VLOOKUP(A59,Fed.!$A$2:$J$1973,10,FALSE)," ") -> 0
A60: 292 | B60: =IF(A60:A60>0,VLOOKUP(A60,Fed.!$A$2:$J$1973,2,FALSE)," ") -> OKADA | C60: =IF(A60:A60>0,VLOOKUP(A60,Fed.!$A$2:$J$1973,3,FALSE)," ") -> OLIMPIO | D60: =IF(A60:A60>0,VLOOKUP(A60,Fed.!$A$2:$J$1973,4,FALSE)," ") -> M | E60: =IF(A60:A60>0,VLOOKUP(A60,Fed.!$A$2:$J$1973,5,FALSE)," ") -> 11. NCC | F60: =IF(A60:A60>0,VLOOKUP(A60,Fed.!$A$2:$J$1973,6,FALSE)," ") -> 19194 | G60: =IF(A60:A60>0,VLOOKUP(A60,Fed.!$A$2:$J$1973,7,FALSE)," ") -> 0 | H60: =IF(A60:A60>0,VLOOKUP(A60,Fed.!$A$2:$J$1973,8,FALSE)," ") -> EX-NSR | I60: =IF(A60:A60>0,VLOOKUP(A60,Fed.!$A$2:$J$1973,9,FALSE)," ") -> LIB2026 | J60: =IF(A60:A60>0,VLOOKUP(A60,Fed.!$A$2:$J$1973,10,FALSE)," ") -> 0
A61: 295 | B61: =IF(A61:A61>0,VLOOKUP(A61,Fed.!$A$2:$J$1973,2,FALSE)," ") -> UTSUNOMIYA | C61: =IF(A61:A61>0,VLOOKUP(A61,Fed.!$A$2:$J$1973,3,FALSE)," ") -> ZULEICA | D61: =IF(A61:A61>0,VLOOKUP(A61,Fed.!$A$2:$J$1973,4,FALSE)," ") -> F | E61: =IF(A61:A61>0,VLOOKUP(A61,Fed.!$A$2:$J$1973,5,FALSE)," ") -> 11. NCC | F61: =IF(A61:A61>0,VLOOKUP(A61,Fed.!$A$2:$J$1973,6,FALSE)," ") -> 18702 | G61: =IF(A61:A61>0,VLOOKUP(A61,Fed.!$A$2:$J$1973,7,FALSE)," ") -> 9 | H61: =IF(A61:A61>0,VLOOKUP(A61,Fed.!$A$2:$J$1973,8,FALSE)," ") -> B-SR | I61: =IF(A61:A61>0,VLOOKUP(A61,Fed.!$A$2:$J$1973,9,FALSE)," ") -> LIB2026 | J61: =IF(A61:A61>0,VLOOKUP(A61,Fed.!$A$2:$J$1973,10,FALSE)," ") -> 0
A62: 296 | B62: =IF(A62:A62>0,VLOOKUP(A62,Fed.!$A$2:$J$1973,2,FALSE)," ") -> UTSUNOMIYA | C62: =IF(A62:A62>0,VLOOKUP(A62,Fed.!$A$2:$J$1973,3,FALSE)," ") -> YUKIO | D62: =IF(A62:A62>0,VLOOKUP(A62,Fed.!$A$2:$J$1973,4,FALSE)," ") -> M | E62: =IF(A62:A62>0,VLOOKUP(A62,Fed.!$A$2:$J$1973,5,FALSE)," ") -> 11. NCC | F62: =IF(A62:A62>0,VLOOKUP(A62,Fed.!$A$2:$J$1973,6,FALSE)," ") -> 18980 | G62: =IF(A62:A62>0,VLOOKUP(A62,Fed.!$A$2:$J$1973,7,FALSE)," ") -> 9 | H62: =IF(A62:A62>0,VLOOKUP(A62,Fed.!$A$2:$J$1973,8,FALSE)," ") -> B-SR | I62: =IF(A62:A62>0,VLOOKUP(A62,Fed.!$A$2:$J$1973,9,FALSE)," ") -> LIB2026 | J62: =IF(A62:A62>0,VLOOKUP(A62,Fed.!$A$2:$J$1973,10,FALSE)," ") -> 0
A63: 308 | B63: =IF(A63:A63>0,VLOOKUP(A63,Fed.!$A$2:$J$1973,2,FALSE)," ") -> SATO | C63: =IF(A63:A63>0,VLOOKUP(A63,Fed.!$A$2:$J$1973,3,FALSE)," ") -> HIROYUKI | D63: =IF(A63:A63>0,VLOOKUP(A63,Fed.!$A$2:$J$1973,4,FALSE)," ") -> M | E63: =IF(A63:A63>0,VLOOKUP(A63,Fed.!$A$2:$J$1973,5,FALSE)," ") -> 11. NCC | F63: =IF(A63:A63>0,VLOOKUP(A63,Fed.!$A$2:$J$1973,6,FALSE)," ") -> 13814 | G63: =IF(A63:A63>0,VLOOKUP(A63,Fed.!$A$2:$J$1973,7,FALSE)," ") -> 9 | H63: =IF(A63:A63>0,VLOOKUP(A63,Fed.!$A$2:$J$1973,8,FALSE)," ") -> B-MR | I63: =IF(A63:A63>0,VLOOKUP(A63,Fed.!$A$2:$J$1973,9,FALSE)," ") -> LIB2026 | J63: =IF(A63:A63>0,VLOOKUP(A63,Fed.!$A$2:$J$1973,10,FALSE)," ") -> 0
A64: 320 | B64: =IF(A64:A64>0,VLOOKUP(A64,Fed.!$A$2:$J$1973,2,FALSE)," ") -> WAKABAYASHI | C64: =IF(A64:A64>0,VLOOKUP(A64,Fed.!$A$2:$J$1973,3,FALSE)," ") -> KOITI | D64: =IF(A64:A64>0,VLOOKUP(A64,Fed.!$A$2:$J$1973,4,FALSE)," ") -> M | E64: =IF(A64:A64>0,VLOOKUP(A64,Fed.!$A$2:$J$1973,5,FALSE)," ") -> 11. NCC | F64: =IF(A64:A64>0,VLOOKUP(A64,Fed.!$A$2:$J$1973,6,FALSE)," ") -> 15516 | G64: =IF(A64:A64>0,VLOOKUP(A64,Fed.!$A$2:$J$1973,7,FALSE)," ") -> 5 | H64: =IF(A64:A64>0,VLOOKUP(A64,Fed.!$A$2:$J$1973,8,FALSE)," ") -> A-SR | I64: =IF(A64:A64>0,VLOOKUP(A64,Fed.!$A$2:$J$1973,9,FALSE)," ") -> LIB2026 | J64: =IF(A64:A64>0,VLOOKUP(A64,Fed.!$A$2:$J$1973,10,FALSE)," ") -> 0
A65: 326 | B65: =IF(A65:A65>0,VLOOKUP(A65,Fed.!$A$2:$J$1973,2,FALSE)," ") -> ISHII | C65: =IF(A65:A65>0,VLOOKUP(A65,Fed.!$A$2:$J$1973,3,FALSE)," ") -> ROBERTO | D65: =IF(A65:A65>0,VLOOKUP(A65,Fed.!$A$2:$J$1973,4,FALSE)," ") -> M | E65: =IF(A65:A65>0,VLOOKUP(A65,Fed.!$A$2:$J$1973,5,FALSE)," ") -> 11. NCC | F65: =IF(A65:A65>0,VLOOKUP(A65,Fed.!$A$2:$J$1973,6,FALSE)," ") -> 19545 | G65: =IF(A65:A65>0,VLOOKUP(A65,Fed.!$A$2:$J$1973,7,FALSE)," ") -> 6 | H65: =IF(A65:A65>0,VLOOKUP(A65,Fed.!$A$2:$J$1973,8,FALSE)," ") -> A-NSR | I65: =IF(A65:A65>0,VLOOKUP(A65,Fed.!$A$2:$J$1973,9,FALSE)," ") -> LIB2026 | J65: =IF(A65:A65>0,VLOOKUP(A65,Fed.!$A$2:$J$1973,10,FALSE)," ") -> 0
A66: 335 | B66: =IF(A66:A66>0,VLOOKUP(A66,Fed.!$A$2:$J$1973,2,FALSE)," ") -> KITANO | C66: =IF(A66:A66>0,VLOOKUP(A66,Fed.!$A$2:$J$1973,3,FALSE)," ") -> KAZUO | D66: =IF(A66:A66>0,VLOOKUP(A66,Fed.!$A$2:$J$1973,4,FALSE)," ") -> M | E66: =IF(A66:A66>0,VLOOKUP(A66,Fed.!$A$2:$J$1973,5,FALSE)," ") -> 11. NCC | F66: =IF(A66:A66>0,VLOOKUP(A66,Fed.!$A$2:$J$1973,6,FALSE)," ") -> 19890 | G66: =IF(A66:A66>0,VLOOKUP(A66,Fed.!$A$2:$J$1973,7,FALSE)," ") -> 8 | H66: =IF(A66:A66>0,VLOOKUP(A66,Fed.!$A$2:$J$1973,8,FALSE)," ") -> B-NSR | I66: =IF(A66:A66>0,VLOOKUP(A66,Fed.!$A$2:$J$1973,9,FALSE)," ") -> LIB2026 | J66: =IF(A66:A66>0,VLOOKUP(A66,Fed.!$A$2:$J$1973,10,FALSE)," ") -> 0
A67: 366 | B67: =IF(A67:A67>0,VLOOKUP(A67,Fed.!$A$2:$J$1973,2,FALSE)," ") -> KOJA | C67: =IF(A67:A67>0,VLOOKUP(A67,Fed.!$A$2:$J$1973,3,FALSE)," ") -> T.EDISON | D67: =IF(A67:A67>0,VLOOKUP(A67,Fed.!$A$2:$J$1973,4,FALSE)," ") -> M | E67: =IF(A67:A67>0,VLOOKUP(A67,Fed.!$A$2:$J$1973,5,FALSE)," ") -> 11. NCC | F67: =IF(A67:A67>0,VLOOKUP(A67,Fed.!$A$2:$J$1973,6,FALSE)," ") -> 17495 | G67: =IF(A67:A67>0,VLOOKUP(A67,Fed.!$A$2:$J$1973,7,FALSE)," ") -> 4 | H67: =IF(A67:A67>0,VLOOKUP(A67,Fed.!$A$2:$J$1973,8,FALSE)," ") -> A-SR | I67: =IF(A67:A67>0,VLOOKUP(A67,Fed.!$A$2:$J$1973,9,FALSE)," ") -> LIB2026 | J67: =IF(A67:A67>0,VLOOKUP(A67,Fed.!$A$2:$J$1973,10,FALSE)," ") -> 0
... A74: 478 | B74: =IF(A74:A74>0,VLOOKUP(A74,Fed.!$A$2:$J$1973,2,FALSE)," ") -> HIGUCHI | C74: =IF(A74:A74>0,VLOOKUP(A74,Fed.!$A$2:$J$1973,3,FALSE)," ") -> ARTUR KEN | D74: =IF(A74:A74>0,VLOOKUP(A74,Fed.!$A$2:$J$1973,4,FALSE)," ") -> M | E74: =IF(A74:A74>0,VLOOKUP(A74,Fed.!$A$2:$J$1973,5,FALSE)," ") -> 11. NCC | F74: =IF(A74:A74>0,VLOOKUP(A74,Fed.!$A$2:$J$1973,6,FALSE)," ") -> 19959 | G74: =IF(A74:A74>0,VLOOKUP(A74,Fed.!$A$2:$J$1973,7,FALSE)," ") -> 3 | H74: =IF(A74:A74>0,VLOOKUP(A74,Fed.!$A$2:$J$1973,8,FALSE)," ") -> EX-NSR | I74: =IF(A74:A74>0,VLOOKUP(A74,Fed.!$A$2:$J$1973,9,FALSE)," ") -> LIB2026 | J74: =IF(A74:A74>0,VLOOKUP(A74,Fed.!$A$2:$J$1973,10,FALSE)," ") -> 0
A75: 479 | B75: =IF(A75:A75>0,VLOOKUP(A75,Fed.!$A$2:$J$1973,2,FALSE)," ") -> SATO | C75: =IF(A75:A75>0,VLOOKUP(A75,Fed.!$A$2:$J$1973,3,FALSE)," ") -> EDSON ATUSHI | D75: =IF(A75:A75>0,VLOOKUP(A75,Fed.!$A$2:$J$1973,4,FALSE)," ") -> M | E75: =IF(A75:A75>0,VLOOKUP(A75,Fed.!$A$2:$J$1973,5,FALSE)," ") -> 11. NCC | F75: =IF(A75:A75>0,VLOOKUP(A75,Fed.!$A$2:$J$1973,6,FALSE)," ") -> 15912 | G75: =IF(A75:A75>0,VLOOKUP(A75,Fed.!$A$2:$J$1973,7,FALSE)," ") -> 12 | H75: =IF(A75:A75>0,VLOOKUP(A75,Fed.!$A$2:$J$1973,8,FALSE)," ") -> C-SR | I75: =IF(A75:A75>0,VLOOKUP(A75,Fed.!$A$2:$J$1973,9,FALSE)," ") -> LIB2026 | J75: =IF(A75:A75>0,VLOOKUP(A75,Fed.!$A$2:$J$1973,10,FALSE)," ") -> 0
A76: 480 | B76: =IF(A76:A76>0,VLOOKUP(A76,Fed.!$A$2:$J$1973,2,FALSE)," ") -> SIGAKI HIGUCHI | C76: =IF(A76:A76>0,VLOOKUP(A76,Fed.!$A$2:$J$1973,3,FALSE)," ") -> LOURDES YASSUKO | D76: =IF(A76:A76>0,VLOOKUP(A76,Fed.!$A$2:$J$1973,4,FALSE)," ") -> F | E76: =IF(A76:A76>0,VLOOKUP(A76,Fed.!$A$2:$J$1973,5,FALSE)," ") -> 11. NCC | F76: =IF(A76:A76>0,VLOOKUP(A76,Fed.!$A$2:$J$1973,6,FALSE)," ") -> 20585 | G76: =IF(A76:A76>0,VLOOKUP(A76,Fed.!$A$2:$J$1973,7,FALSE)," ") -> 6 | H76: =IF(A76:A76>0,VLOOKUP(A76,Fed.!$A$2:$J$1973,8,FALSE)," ") -> A-NSR | I76: =IF(A76:A76>0,VLOOKUP(A76,Fed.!$A$2:$J$1973,9,FALSE)," ") -> LIB2026 | J76: =IF(A76:A76>0,VLOOKUP(A76,Fed.!$A$2:$J$1973,10,FALSE)," ") -> 0
A77: 487 | B77: =IF(A77:A77>0,VLOOKUP(A77,Fed.!$A$2:$J$1973,2,FALSE)," ") -> NAKANO | C77: =IF(A77:A77>0,VLOOKUP(A77,Fed.!$A$2:$J$1973,3,FALSE)," ") -> ELZA ONISHI | D77: =IF(A77:A77>0,VLOOKUP(A77,Fed.!$A$2:$J$1973,4,FALSE)," ") -> F | E77: =IF(A77:A77>0,VLOOKUP(A77,Fed.!$A$2:$J$1973,5,FALSE)," ") -> 11. NCC | F77: =IF(A77:A77>0,VLOOKUP(A77,Fed.!$A$2:$J$1973,6,FALSE)," ") -> 17947 | G77: =IF(A77:A77>0,VLOOKUP(A77,Fed.!$A$2:$J$1973,7,FALSE)," ") -> 12 | H77: =IF(A77:A77>0,VLOOKUP(A77,Fed.!$A$2:$J$1973,8,FALSE)," ") -> C-SR | I77: =IF(A77:A77>0,VLOOKUP(A77,Fed.!$A$2:$J$1973,9,FALSE)," ") -> LIB2026 | J77: =IF(A77:A77>0,VLOOKUP(A77,Fed.!$A$2:$J$1973,10,FALSE)," ") -> 0
A78: 506 | B78: =IF(A78:A78>0,VLOOKUP(A78,Fed.!$A$2:$J$1973,2,FALSE)," ") -> KIYOHARA | C78: =IF(A78:A78>0,VLOOKUP(A78,Fed.!$A$2:$J$1973,3,FALSE)," ") -> IKUO | D78: =IF(A78:A78>0,VLOOKUP(A78,Fed.!$A$2:$J$1973,4,FALSE)," ") -> M | E78: =IF(A78:A78>0,VLOOKUP(A78,Fed.!$A$2:$J$1973,5,FALSE)," ") -> 11. NCC | F78: =IF(A78:A78>0,VLOOKUP(A78,Fed.!$A$2:$J$1973,6,FALSE)," ") -> 14496 | G78: =IF(A78:A78>0,VLOOKUP(A78,Fed.!$A$2:$J$1973,7,FALSE)," ") -> 9 | H78: =IF(A78:A78>0,VLOOKUP(A78,Fed.!$A$2:$J$1973,8,FALSE)," ") -> B-MR | I78: =IF(A78:A78>0,VLOOKUP(A78,Fed.!$A$2:$J$1973,9,FALSE)," ") -> LIB2026 | J78: =IF(A78:A78>0,VLOOKUP(A78,Fed.!$A$2:$J$1973,10,FALSE)," ") -> 0
A79: 568 | B79: =IF(A79:A79>0,VLOOKUP(A79,Fed.!$A$2:$J$1973,2,FALSE)," ") -> FGE VENTURIM | C79: =IF(A79:A79>0,VLOOKUP(A79,Fed.!$A$2:$J$1973,3,FALSE)," ") -> ARISTEU | D79: =IF(A79:A79>0,VLOOKUP(A79,Fed.!$A$2:$J$1973,4,FALSE)," ") -> M | E79: =IF(A79:A79>0,VLOOKUP(A79,Fed.!$A$2:$J$1973,5,FALSE)," ") -> 11. NCC | F79: =IF(A79:A79>0,VLOOKUP(A79,Fed.!$A$2:$J$1973,6,FALSE)," ") -> 16190 | G79: =IF(A79:A79>0,VLOOKUP(A79,Fed.!$A$2:$J$1973,7,FALSE)," ") -> 9 | H79: =IF(A79:A79>0,VLOOKUP(A79,Fed.!$A$2:$J$1973,8,FALSE)," ") -> B-SR | I79: =IF(A79:A79>0,VLOOKUP(A79,Fed.!$A$2:$J$1973,9,FALSE)," ") -> LIB2026 | J79: =IF(A79:A79>0,VLOOKUP(A79,Fed.!$A$2:$J$1973,10,FALSE)," ") -> 0
A80: 669 | B80: =IF(A80:A80>0,VLOOKUP(A80,Fed.!$A$2:$J$1973,2,FALSE)," ") -> NISHIJIMA | C80: =IF(A80:A80>0,VLOOKUP(A80,Fed.!$A$2:$J$1973,3,FALSE)," ") -> KATSUYUKI | D80: =IF(A80:A80>0,VLOOKUP(A80,Fed.!$A$2:$J$1973,4,FALSE)," ") -> M | E80: =IF(A80:A80>0,VLOOKUP(A80,Fed.!$A$2:$J$1973,5,FALSE)," ") -> 11. NCC | F80: =IF(A80:A80>0,VLOOKUP(A80,Fed.!$A$2:$J$1973,6,FALSE)," ") -> 15321 | G80: =IF(A80:A80>0,VLOOKUP(A80,Fed.!$A$2:$J$1973,7,FALSE)," ") -> 6 | H80: =IF(A80:A80>0,VLOOKUP(A80,Fed.!$A$2:$J$1973,8,FALSE)," ") -> A-MR | I80: =IF(A80:A80>0,VLOOKUP(A80,Fed.!$A$2:$J$1973,9,FALSE)," ") -> LIB2026 | J80: =IF(A80:A80>0,VLOOKUP(A80,Fed.!$A$2:$J$1973,10,FALSE)," ") -> 0
A81: 675 | B81: =IF(A81:A81>0,VLOOKUP(A81,Fed.!$A$2:$J$1973,2,FALSE)," ") -> NISHIJIMA | C81: =IF(A81:A81>0,VLOOKUP(A81,Fed.!$A$2:$J$1973,3,FALSE)," ") -> KIMIKO | D81: =IF(A81:A81>0,VLOOKUP(A81,Fed.!$A$2:$J$1973,4,FALSE)," ") -> F | E81: =IF(A81:A81>0,VLOOKUP(A81,Fed.!$A$2:$J$1973,5,FALSE)," ") -> 11. NCC | F81: =IF(A81:A81>0,VLOOKUP(A81,Fed.!$A$2:$J$1973,6,FALSE)," ") -> 15141 | G81: =IF(A81:A81>0,VLOOKUP(A81,Fed.!$A$2:$J$1973,7,FALSE)," ") -> 9 | H81: =IF(A81:A81>0,VLOOKUP(A81,Fed.!$A$2:$J$1973,8,FALSE)," ") -> B-MR | I81: =IF(A81:A81>0,VLOOKUP(A81,Fed.!$A$2:$J$1973,9,FALSE)," ") -> LIB2026 | J81: =IF(A81:A81>0,VLOOKUP(A81,Fed.!$A$2:$J$1973,10,FALSE)," ") -> 0
A82: 690 | B82: =IF(A82:A82>0,VLOOKUP(A82,Fed.!$A$2:$J$1973,2,FALSE)," ") -> ITAGAKI | C82: =IF(A82:A82>0,VLOOKUP(A82,Fed.!$A$2:$J$1973,3,FALSE)," ") -> MILTON NOBUHIRO | D82: =IF(A82:A82>0,VLOOKUP(A82,Fed.!$A$2:$J$1973,4,FALSE)," ") -> M | E82: =IF(A82:A82>0,VLOOKUP(A82,Fed.!$A$2:$J$1973,5,FALSE)," ") -> 11. NCC | F82: =IF(A82:A82>0,VLOOKUP(A82,Fed.!$A$2:$J$1973,6,FALSE)," ") -> 22073 | G82: =IF(A82:A82>0,VLOOKUP(A82,Fed.!$A$2:$J$1973,7,FALSE)," ") -> 5 | H82: =IF(A82:A82>0,VLOOKUP(A82,Fed.!$A$2:$J$1973,8,FALSE)," ") -> A-NSR | I82: =IF(A82:A82>0,VLOOKUP(A82,Fed.!$A$2:$J$1973,9,FALSE)," ") -> LIB2026 | J82: =IF(A82:A82>0,VLOOKUP(A82,Fed.!$A$2:$J$1973,10,FALSE)," ") -> 0
A83: 719 | B83: =IF(A83:A83>0,VLOOKUP(A83,Fed.!$A$2:$J$1973,2,FALSE)," ") -> AZEVEDO | C83: =IF(A83:A83>0,VLOOKUP(A83,Fed.!$A$2:$J$1973,3,FALSE)," ") -> IDELSON | D83: =IF(A83:A83>0,VLOOKUP(A83,Fed.!$A$2:$J$1973,4,FALSE)," ") -> M | E83: =IF(A83:A83>0,VLOOKUP(A83,Fed.!$A$2:$J$1973,5,FALSE)," ") -> 11. NCC | F83: =IF(A83:A83>0,VLOOKUP(A83,Fed.!$A$2:$J$1973,6,FALSE)," ") -> 16509 | G83: =IF(A83:A83>0,VLOOKUP(A83,Fed.!$A$2:$J$1973,7,FALSE)," ") -> 8 | H83: =IF(A83:A83>0,VLOOKUP(A83,Fed.!$A$2:$J$1973,8,FALSE)," ") -> B-SR | I83: =IF(A83:A83>0,VLOOKUP(A83,Fed.!$A$2:$J$1973,9,FALSE)," ") -> LIB2026 | J83: =IF(A83:A83>0,VLOOKUP(A83,Fed.!$A$2:$J$1973,10,FALSE)," ") -> 0
A84: 733 | B84: =IF(A84:A84>0,VLOOKUP(A84,Fed.!$A$2:$J$1973,2,FALSE)," ") -> WATANABE | C84: =IF(A84:A84>0,VLOOKUP(A84,Fed.!$A$2:$J$1973,3,FALSE)," ") -> EMILIA | D84: =IF(A84:A84>0,VLOOKUP(A84,Fed.!$A$2:$J$1973,4,FALSE)," ") -> F | E84: =IF(A84:A84>0,VLOOKUP(A84,Fed.!$A$2:$J$1973,5,FALSE)," ") -> 11. NCC | F84: =IF(A84:A84>0,VLOOKUP(A84,Fed.!$A$2:$J$1973,6,FALSE)," ") -> 20589 | G84: =IF(A84:A84>0,VLOOKUP(A84,Fed.!$A$2:$J$1973,7,FALSE)," ") -> 3 | H84: =IF(A84:A84>0,VLOOKUP(A84,Fed.!$A$2:$J$1973,8,FALSE)," ") -> EX-NSR | I84: =IF(A84:A84>0,VLOOKUP(A84,Fed.!$A$2:$J$1973,9,FALSE)," ") -> LIB2026 | J84: =IF(A84:A84>0,VLOOKUP(A84,Fed.!$A$2:$J$1973,10,FALSE)," ") -> 0
A85: 734 | B85: =IF(A85:A85>0,VLOOKUP(A85,Fed.!$A$2:$J$1973,2,FALSE)," ") -> NAKANO | C85: =IF(A85:A85>0,VLOOKUP(A85,Fed.!$A$2:$J$1973,3,FALSE)," ") -> MARIO K. | D85: =IF(A85:A85>0,VLOOKUP(A85,Fed.!$A$2:$J$1973,4,FALSE)," ") -> M | E85: =IF(A85:A85>0,VLOOKUP(A85,Fed.!$A$2:$J$1973,5,FALSE)," ") -> 11. NCC | F85: =IF(A85:A85>0,VLOOKUP(A85,Fed.!$A$2:$J$1973,6,FALSE)," ") -> 18534 | G85: =IF(A85:A85>0,VLOOKUP(A85,Fed.!$A$2:$J$1973,7,FALSE)," ") -> 5 | H85: =IF(A85:A85>0,VLOOKUP(A85,Fed.!$A$2:$J$1973,8,FALSE)," ") -> A-SR | I85: =IF(A85:A85>0,VLOOKUP(A85,Fed.!$A$2:$J$1973,9,FALSE)," ") -> LIB2026 | J85: =IF(A85:A85>0,VLOOKUP(A85,Fed.!$A$2:$J$1973,10,FALSE)," ") -> 0
A86: 781 | B86: =IF(A86:A86>0,VLOOKUP(A86,Fed.!$A$2:$J$1973,2,FALSE)," ") -> KOJA | C86: =IF(A86:A86>0,VLOOKUP(A86,Fed.!$A$2:$J$1973,3,FALSE)," ") -> MARIO | D86: =IF(A86:A86>0,VLOOKUP(A86,Fed.!$A$2:$J$1973,4,FALSE)," ") -> M | E86: =IF(A86:A86>0,VLOOKUP(A86,Fed.!$A$2:$J$1973,5,FALSE)," ") -> 11. NCC | F86: =IF(A86:A86>0,VLOOKUP(A86,Fed.!$A$2:$J$1973,6,FALSE)," ") -> 18155 | G86: =IF(A86:A86>0,VLOOKUP(A86,Fed.!$A$2:$J$1973,7,FALSE)," ") -> 9 | H86: =IF(A86:A86>0,VLOOKUP(A86,Fed.!$A$2:$J$1973,8,FALSE)," ") -> B-SR | I86: =IF(A86:A86>0,VLOOKUP(A86,Fed.!$A$2:$J$1973,9,FALSE)," ") -> LIB2026 | J86: =IF(A86:A86>0,VLOOKUP(A86,Fed.!$A$2:$J$1973,10,FALSE)," ") -> 0
A87: 786 | B87: =IF(A87:A87>0,VLOOKUP(A87,Fed.!$A$2:$J$1973,2,FALSE)," ") -> KAMIMURA | C87: =IF(A87:A87>0,VLOOKUP(A87,Fed.!$A$2:$J$1973,3,FALSE)," ") -> PAULO Y. | D87: =IF(A87:A87>0,VLOOKUP(A87,Fed.!$A$2:$J$1973,4,FALSE)," ") -> M | E87: =IF(A87:A87>0,VLOOKUP(A87,Fed.!$A$2:$J$1973,5,FALSE)," ") -> 11. NCC | F87: =IF(A87:A87>0,VLOOKUP(A87,Fed.!$A$2:$J$1973,6,FALSE)," ") -> 23165 | G87: =IF(A87:A87>0,VLOOKUP(A87,Fed.!$A$2:$J$1973,7,FALSE)," ") -> 2 | H87: =IF(A87:A87>0,VLOOKUP(A87,Fed.!$A$2:$J$1973,8,FALSE)," ") -> EX-NSR | I87: =IF(A87:A87>0,VLOOKUP(A87,Fed.!$A$2:$J$1973,9,FALSE)," ") -> LIB2026 | J87: =IF(A87:A87>0,VLOOKUP(A87,Fed.!$A$2:$J$1973,10,FALSE)," ") -> 0
A88: 836 | B88: =IF(A88:A88>0,VLOOKUP(A88,Fed.!$A$2:$J$1973,2,FALSE)," ") -> UEMURA | C88: =IF(A88:A88>0,VLOOKUP(A88,Fed.!$A$2:$J$1973,3,FALSE)," ") -> YOSHIO | D88: =IF(A88:A88>0,VLOOKUP(A88,Fed.!$A$2:$J$1973,4,FALSE)," ") -> M | E88: =IF(A88:A88>0,VLOOKUP(A88,Fed.!$A$2:$J$1973,5,FALSE)," ") -> 11. NCC | F88: =IF(A88:A88>0,VLOOKUP(A88,Fed.!$A$2:$J$1973,6,FALSE)," ") -> 16850 | G88: =IF(A88:A88>0,VLOOKUP(A88,Fed.!$A$2:$J$1973,7,FALSE)," ") -> 9 | H88: =IF(A88:A88>0,VLOOKUP(A88,Fed.!$A$2:$J$1973,8,FALSE)," ") -> B-SR | I88: =IF(A88:A88>0,VLOOKUP(A88,Fed.!$A$2:$J$1973,9,FALSE)," ") -> LIB2026 | J88: =IF(A88:A88>0,VLOOKUP(A88,Fed.!$A$2:$J$1973,10,FALSE)," ") -> 0
A89: 842 | B89: =IF(A89:A89>0,VLOOKUP(A89,Fed.!$A$2:$J$1973,2,FALSE)," ") -> T. NISHIKAWA | C89: =IF(A89:A89>0,VLOOKUP(A89,Fed.!$A$2:$J$1973,3,FALSE)," ") -> RUI | D89: =IF(A89:A89>0,VLOOKUP(A89,Fed.!$A$2:$J$1973,4,FALSE)," ") -> M | E89: =IF(A89:A89>0,VLOOKUP(A89,Fed.!$A$2:$J$1973,5,FALSE)," ") -> 11. NCC | F89: =IF(A89:A89>0,VLOOKUP(A89,Fed.!$A$2:$J$1973,6,FALSE)," ") -> 21731 | G89: =IF(A89:A89>0,VLOOKUP(A89,Fed.!$A$2:$J$1973,7,FALSE)," ") -> 3 | H89: =IF(A89:A89>0,VLOOKUP(A89,Fed.!$A$2:$J$1973,8,FALSE)," ") -> EX-NSR | I89: =IF(A89:A89>0,VLOOKUP(A89,Fed.!$A$2:$J$1973,9,FALSE)," ") -> LIB2026 | J89: =IF(A89:A89>0,VLOOKUP(A89,Fed.!$A$2:$J$1973,10,FALSE)," ") -> 0
A90: 850 | B90: =IF(A90:A90>0,VLOOKUP(A90,Fed.!$A$2:$J$1973,2,FALSE)," ") -> OSHIRO | C90: =IF(A90:A90>0,VLOOKUP(A90,Fed.!$A$2:$J$1973,3,FALSE)," ") -> TSUTOMU | D90: =IF(A90:A90>0,VLOOKUP(A90,Fed.!$A$2:$J$1973,4,FALSE)," ") -> M | E90: =IF(A90:A90>0,VLOOKUP(A90,Fed.!$A$2:$J$1973,5,FALSE)," ") -> 11. NCC | F90: =IF(A90:A90>0,VLOOKUP(A90,Fed.!$A$2:$J$1973,6,FALSE)," ") -> 20900 | G90: =IF(A90:A90>0,VLOOKUP(A90,Fed.!$A$2:$J$1973,7,FALSE)," ") -> 6 | H90: =IF(A90:A90>0,VLOOKUP(A90,Fed.!$A$2:$J$1973,8,FALSE)," ") -> A-NSR | I90: =IF(A90:A90>0,VLOOKUP(A90,Fed.!$A$2:$J$1973,9,FALSE)," ") -> LIB2026 | J90: =IF(A90:A90>0,VLOOKUP(A90,Fed.!$A$2:$J$1973,10,FALSE)," ") -> 0
A91: 887 | B91: =IF(A91:A91>0,VLOOKUP(A91,Fed.!$A$2:$J$1973,2,FALSE)," ") -> A. GOMES | C91: =IF(A91:A91>0,VLOOKUP(A91,Fed.!$A$2:$J$1973,3,FALSE)," ") -> CLAUDEMIR | D91: =IF(A91:A91>0,VLOOKUP(A91,Fed.!$A$2:$J$1973,4,FALSE)," ") -> M | E91: =IF(A91:A91>0,VLOOKUP(A91,Fed.!$A$2:$J$1973,5,FALSE)," ") -> 11. NCC | F91: =IF(A91:A91>0,VLOOKUP(A91,Fed.!$A$2:$J$1973,6,FALSE)," ") -> 28815 | G91: =IF(A91:A91>0,VLOOKUP(A91,Fed.!$A$2:$J$1973,7,FALSE)," ") -> 8 | H91: =IF(A91:A91>0,VLOOKUP(A91,Fed.!$A$2:$J$1973,8,FALSE)," ") -> B-NSR | I91: =IF(A91:A91>0,VLOOKUP(A91,Fed.!$A$2:$J$1973,9,FALSE)," ") -> LIB2026 | J91: =IF(A91:A91>0,VLOOKUP(A91,Fed.!$A$2:$J$1973,10,FALSE)," ") -> 0
A92: 929 | B92: =IF(A92:A92>0,VLOOKUP(A92,Fed.!$A$2:$J$1973,2,FALSE)," ") -> MATSUMOTO | C92: =IF(A92:A92>0,VLOOKUP(A92,Fed.!$A$2:$J$1973,3,FALSE)," ") -> ALESSANDRA A. | D92: =IF(A92:A92>0,VLOOKUP(A92,Fed.!$A$2:$J$1973,4,FALSE)," ") -> F | E92: =IF(A92:A92>0,VLOOKUP(A92,Fed.!$A$2:$J$1973,5,FALSE)," ") -> 11. NCC | F92: =IF(A92:A92>0,VLOOKUP(A92,Fed.!$A$2:$J$1973,6,FALSE)," ") -> 26932 | G92: =IF(A92:A92>0,VLOOKUP(A92,Fed.!$A$2:$J$1973,7,FALSE)," ") -> 3 | H92: =IF(A92:A92>0,VLOOKUP(A92,Fed.!$A$2:$J$1973,8,FALSE)," ") -> EX-NSR | I92: =IF(A92:A92>0,VLOOKUP(A92,Fed.!$A$2:$J$1973,9,FALSE)," ") -> LIB2026 | J92: =IF(A92:A92>0,VLOOKUP(A92,Fed.!$A$2:$J$1973,10,FALSE)," ") -> 0
A93: 951 | B93: =IF(A93:A93>0,VLOOKUP(A93,Fed.!$A$2:$J$1973,2,FALSE)," ") -> YOSHIDA | C93: =IF(A93:A93>0,VLOOKUP(A93,Fed.!$A$2:$J$1973,3,FALSE)," ") -> AKIMITSU | D93: =IF(A93:A93>0,VLOOKUP(A93,Fed.!$A$2:$J$1973,4,FALSE)," ") -> M | E93: =IF(A93:A93>0,VLOOKUP(A93,Fed.!$A$2:$J$1973,5,FALSE)," ") -> 11. NCC | F93: =IF(A93:A93>0,VLOOKUP(A93,Fed.!$A$2:$J$1973,6,FALSE)," ") -> 16973 | G93: =IF(A93:A93>0,VLOOKUP(A93,Fed.!$A$2:$J$1973,7,FALSE)," ") -> 1 | H93: =IF(A93:A93>0,VLOOKUP(A93,Fed.!$A$2:$J$1973,8,FALSE)," ") -> EX-SR | I93: =IF(A93:A93>0,VLOOKUP(A93,Fed.!$A$2:$J$1973,9,FALSE)," ") -> LIB2026 | J93: =IF(A93:A93>0,VLOOKUP(A93,Fed.!$A$2:$J$1973,10,FALSE)," ") -> 0
A94: 952 | B94: =IF(A94:A94>0,VLOOKUP(A94,Fed.!$A$2:$J$1973,2,FALSE)," ") -> HAYASI ARIMORI | C94: =IF(A94:A94>0,VLOOKUP(A94,Fed.!$A$2:$J$1973,3,FALSE)," ") -> IZAURA KAZUE | D94: =IF(A94:A94>0,VLOOKUP(A94,Fed.!$A$2:$J$1973,4,FALSE)," ") -> F | E94: =IF(A94:A94>0,VLOOKUP(A94,Fed.!$A$2:$J$1973,5,FALSE)," ") -> 11. NCC | F94: =IF(A94:A94>0,VLOOKUP(A94,Fed.!$A$2:$J$1973,6,FALSE)," ") -> 22219 | G94: =IF(A94:A94>0,VLOOKUP(A94,Fed.!$A$2:$J$1973,7,FALSE)," ") -> 1 | H94: =IF(A94:A94>0,VLOOKUP(A94,Fed.!$A$2:$J$1973,8,FALSE)," ") -> EX-NSR | I94: =IF(A94:A94>0,VLOOKUP(A94,Fed.!$A$2:$J$1973,9,FALSE)," ") -> LIB2026 | J94: =IF(A94:A94>0,VLOOKUP(A94,Fed.!$A$2:$J$1973,10,FALSE)," ") -> 0
A95: 955 | B95: =IF(A95:A95>0,VLOOKUP(A95,Fed.!$A$2:$J$1973,2,FALSE)," ") -> ISSHIKI | C95: =IF(A95:A95>0,VLOOKUP(A95,Fed.!$A$2:$J$1973,3,FALSE)," ") -> HIROSHI | D95: =IF(A95:A95>0,VLOOKUP(A95,Fed.!$A$2:$J$1973,4,FALSE)," ") -> M | E95: =IF(A95:A95>0,VLOOKUP(A95,Fed.!$A$2:$J$1973,5,FALSE)," ") -> 11. NCC | F95: =IF(A95:A95>0,VLOOKUP(A95,Fed.!$A$2:$J$1973,6,FALSE)," ") -> 14732 | G95: =IF(A95:A95>0,VLOOKUP(A95,Fed.!$A$2:$J$1973,7,FALSE)," ") -> 12 | H95: =IF(A95:A95>0,VLOOKUP(A95,Fed.!$A$2:$J$1973,8,FALSE)," ") -> C-MR | I95: =IF(A95:A95>0,VLOOKUP(A95,Fed.!$A$2:$J$1973,9,FALSE)," ") -> LIB2026 | J95: =IF(A95:A95>0,VLOOKUP(A95,Fed.!$A$2:$J$1973,10,FALSE)," ") -> 0
... A108: 976 | B108: =IF(A108:A108>0,VLOOKUP(A108,Fed.!$A$2:$J$1973,2,FALSE)," ") -> MORI | C108: =IF(A108:A108>0,VLOOKUP(A108,Fed.!$A$2:$J$1973,3,FALSE)," ") -> SADAO | D108: =IF(A108:A108>0,VLOOKUP(A108,Fed.!$A$2:$J$1973,4,FALSE)," ") -> M | E108: =IF(A108:A108>0,VLOOKUP(A108,Fed.!$A$2:$J$1973,5,FALSE)," ") -> 01. PIE | F108: =IF(A108:A108>0,VLOOKUP(A108,Fed.!$A$2:$J$1973,6,FALSE)," ") -> 19729 | G108: =IF(A108:A108>0,VLOOKUP(A108,Fed.!$A$2:$J$1973,7,FALSE)," ") -> 8 | H108: =IF(A108:A108>0,VLOOKUP(A108,Fed.!$A$2:$J$1973,8,FALSE)," ") -> B-NSR | I108: =IF(A108:A108>0,VLOOKUP(A108,Fed.!$A$2:$J$1973,9,FALSE)," ") -> LIB2026 | J108: =IF(A108:A108>0,VLOOKUP(A108,Fed.!$A$2:$J$1973,10,FALSE)," ") -> 0
A109: 626 | B109: =IF(A109:A109>0,VLOOKUP(A109,Fed.!$A$2:$J$1973,2,FALSE)," ") -> SHIMURA | C109: =IF(A109:A109>0,VLOOKUP(A109,Fed.!$A$2:$J$1973,3,FALSE)," ") -> ALICE MIWAKO | D109: =IF(A109:A109>0,VLOOKUP(A109,Fed.!$A$2:$J$1973,4,FALSE)," ") -> F | E109: =IF(A109:A109>0,VLOOKUP(A109,Fed.!$A$2:$J$1973,5,FALSE)," ") -> 07. GSP | F109: =IF(A109:A109>0,VLOOKUP(A109,Fed.!$A$2:$J$1973,6,FALSE)," ") -> 21468 | G109: =IF(A109:A109>0,VLOOKUP(A109,Fed.!$A$2:$J$1973,7,FALSE)," ") -> 2 | H109: =IF(A109:A109>0,VLOOKUP(A109,Fed.!$A$2:$J$1973,8,FALSE)," ") -> EX-NSR | I109: =IF(A109:A109>0,VLOOKUP(A109,Fed.!$A$2:$J$1973,9,FALSE)," ") -> LIB2026 | J109: =IF(A109:A109>0,VLOOKUP(A109,Fed.!$A$2:$J$1973,10,FALSE)," ") -> 0
A110: 914 | B110: =IF(A110:A110>0,VLOOKUP(A110,Fed.!$A$2:$J$1973,2,FALSE)," ") -> ODA | C110: =IF(A110:A110>0,VLOOKUP(A110,Fed.!$A$2:$J$1973,3,FALSE)," ") -> TOMIKO | D110: =IF(A110:A110>0,VLOOKUP(A110,Fed.!$A$2:$J$1973,4,FALSE)," ") -> F | E110: =IF(A110:A110>0,VLOOKUP(A110,Fed.!$A$2:$J$1973,5,FALSE)," ") -> 07. GSP | F110: =IF(A110:A110>0,VLOOKUP(A110,Fed.!$A$2:$J$1973,6,FALSE)," ") -> 19438 | G110: =IF(A110:A110>0,VLOOKUP(A110,Fed.!$A$2:$J$1973,7,FALSE)," ") -> 3 | H110: =IF(A110:A110>0,VLOOKUP(A110,Fed.!$A$2:$J$1973,8,FALSE)," ") -> EX-NSR | I110: =IF(A110:A110>0,VLOOKUP(A110,Fed.!$A$2:$J$1973,9,FALSE)," ") -> LIB2026 | J110: =IF(A110:A110>0,VLOOKUP(A110,Fed.!$A$2:$J$1973,10,FALSE)," ") -> 0
A111: 620 | B111: =IF(A111:A111>0,VLOOKUP(A111,Fed.!$A$2:$J$1973,2,FALSE)," ") -> OGATA | C111: =IF(A111:A111>0,VLOOKUP(A111,Fed.!$A$2:$J$1973,3,FALSE)," ") -> NELSON | D111: =IF(A111:A111>0,VLOOKUP(A111,Fed.!$A$2:$J$1973,4,FALSE)," ") -> M | E111: =IF(A111:A111>0,VLOOKUP(A111,Fed.!$A$2:$J$1973,5,FALSE)," ") -> 07. GSP | F111: =IF(A111:A111>0,VLOOKUP(A111,Fed.!$A$2:$J$1973,6,FALSE)," ") -> 19753 | G111: =IF(A111:A111>0,VLOOKUP(A111,Fed.!$A$2:$J$1973,7,FALSE)," ") -> 3 | H111: =IF(A111:A111>0,VLOOKUP(A111,Fed.!$A$2:$J$1973,8,FALSE)," ") -> EX-NSR | I111: =IF(A111:A111>0,VLOOKUP(A111,Fed.!$A$2:$J$1973,9,FALSE)," ") -> LIB2026 | J111: =IF(A111:A111>0,VLOOKUP(A111,Fed.!$A$2:$J$1973,10,FALSE)," ") -> 0
A112: 619 | B112: =IF(A112:A112>0,VLOOKUP(A112,Fed.!$A$2:$J$1973,2,FALSE)," ") -> TOMABECHI | C112: =IF(A112:A112>0,VLOOKUP(A112,Fed.!$A$2:$J$1973,3,FALSE)," ") -> SADAO | D112: =IF(A112:A112>0,VLOOKUP(A112,Fed.!$A$2:$J$1973,4,FALSE)," ") -> M | E112: =IF(A112:A112>0,VLOOKUP(A112,Fed.!$A$2:$J$1973,5,FALSE)," ") -> 07. GSP | F112: =IF(A112:A112>0,VLOOKUP(A112,Fed.!$A$2:$J$1973,6,FALSE)," ") -> 12932 | G112: =IF(A112:A112>0,VLOOKUP(A112,Fed.!$A$2:$J$1973,7,FALSE)," ") -> 3 | H112: =IF(A112:A112>0,VLOOKUP(A112,Fed.!$A$2:$J$1973,8,FALSE)," ") -> EX-MR | I112: =IF(A112:A112>0,VLOOKUP(A112,Fed.!$A$2:$J$1973,9,FALSE)," ") -> LIB2026i | J112: =IF(A112:A112>0,VLOOKUP(A112,Fed.!$A$2:$J$1973,10,FALSE)," ") -> 0
A113: 256 | B113: =IF(A113:A113>0,VLOOKUP(A113,Fed.!$A$2:$J$1973,2,FALSE)," ") -> UEMURA | C113: =IF(A113:A113>0,VLOOKUP(A113,Fed.!$A$2:$J$1973,3,FALSE)," ") -> YASUGI | D113: =IF(A113:A113>0,VLOOKUP(A113,Fed.!$A$2:$J$1973,4,FALSE)," ") -> M | E113: =IF(A113:A113>0,VLOOKUP(A113,Fed.!$A$2:$J$1973,5,FALSE)," ") -> 07. GSP | F113: =IF(A113:A113>0,VLOOKUP(A113,Fed.!$A$2:$J$1973,6,FALSE)," ") -> 15220 | G113: =IF(A113:A113>0,VLOOKUP(A113,Fed.!$A$2:$J$1973,7,FALSE)," ") -> 3 | H113: =IF(A113:A113>0,VLOOKUP(A113,Fed.!$A$2:$J$1973,8,FALSE)," ") -> EX-MR | I113: =IF(A113:A113>0,VLOOKUP(A113,Fed.!$A$2:$J$1973,9,FALSE)," ") -> LIB2026 | J113: =IF(A113:A113>0,VLOOKUP(A113,Fed.!$A$2:$J$1973,10,FALSE)," ") -> 0
A114: 756 | B114: =IF(A114:A114>0,VLOOKUP(A114,Fed.!$A$2:$J$1973,2,FALSE)," ") -> TABATA | C114: =IF(A114:A114>0,VLOOKUP(A114,Fed.!$A$2:$J$1973,3,FALSE)," ") -> PAULO YUKIHARU | D114: =IF(A114:A114>0,VLOOKUP(A114,Fed.!$A$2:$J$1973,4,FALSE)," ") -> M | E114: =IF(A114:A114>0,VLOOKUP(A114,Fed.!$A$2:$J$1973,5,FALSE)," ") -> 07. GSP | F114: =IF(A114:A114>0,VLOOKUP(A114,Fed.!$A$2:$J$1973,6,FALSE)," ") -> 22876 | G114: =IF(A114:A114>0,VLOOKUP(A114,Fed.!$A$2:$J$1973,7,FALSE)," ") -> 4 | H114: =IF(A114:A114>0,VLOOKUP(A114,Fed.!$A$2:$J$1973,8,FALSE)," ") -> A-NSR | I114: =IF(A114:A114>0,VLOOKUP(A114,Fed.!$A$2:$J$1973,9,FALSE)," ") -> LIB2026 | J114: =IF(A114:A114>0,VLOOKUP(A114,Fed.!$A$2:$J$1973,10,FALSE)," ") -> 0
A115: 513 | B115: =IF(A115:A115>0,VLOOKUP(A115,Fed.!$A$2:$J$1973,2,FALSE)," ") -> TIZUKA | C115: =IF(A115:A115>0,VLOOKUP(A115,Fed.!$A$2:$J$1973,3,FALSE)," ") -> SACHIKO | D115: =IF(A115:A115>0,VLOOKUP(A115,Fed.!$A$2:$J$1973,4,FALSE)," ") -> F | E115: =IF(A115:A115>0,VLOOKUP(A115,Fed.!$A$2:$J$1973,5,FALSE)," ") -> 07. GSP | F115: =IF(A115:A115>0,VLOOKUP(A115,Fed.!$A$2:$J$1973,6,FALSE)," ") -> 19170 | G115: =IF(A115:A115>0,VLOOKUP(A115,Fed.!$A$2:$J$1973,7,FALSE)," ") -> 4 | H115: =IF(A115:A115>0,VLOOKUP(A115,Fed.!$A$2:$J$1973,8,FALSE)," ") -> A-NSR | I115: =IF(A115:A115>0,VLOOKUP(A115,Fed.!$A$2:$J$1973,9,FALSE)," ") -> LIB2026 | J115: =IF(A115:A115>0,VLOOKUP(A115,Fed.!$A$2:$J$1973,10,FALSE)," ") -> 0
A116: 489 | B116: =IF(A116:A116>0,VLOOKUP(A116,Fed.!$A$2:$J$1973,2,FALSE)," ") -> TOGO | C116: =IF(A116:A116>0,VLOOKUP(A116,Fed.!$A$2:$J$1973,3,FALSE)," ") -> NARIKO | D116: =IF(A116:A116>0,VLOOKUP(A116,Fed.!$A$2:$J$1973,4,FALSE)," ") -> F | E116: =IF(A116:A116>0,VLOOKUP(A116,Fed.!$A$2:$J$1973,5,FALSE)," ") -> 07. GSP | F116: =IF(A116:A116>0,VLOOKUP(A116,Fed.!$A$2:$J$1973,6,FALSE)," ") -> 18327 | G116: =IF(A116:A116>0,VLOOKUP(A116,Fed.!$A$2:$J$1973,7,FALSE)," ") -> 4 | H116: =IF(A116:A116>0,VLOOKUP(A116,Fed.!$A$2:$J$1973,8,FALSE)," ") -> A-SR | I116: =IF(A116:A116>0,VLOOKUP(A116,Fed.!$A$2:$J$1973,9,FALSE)," ") -> LIB2026 | J116: =IF(A116:A116>0,VLOOKUP(A116,Fed.!$A$2:$J$1973,10,FALSE)," ") -> 0
A117: 993 | B117: =IF(A117:A117>0,VLOOKUP(A117,Fed.!$A$2:$J$1973,2,FALSE)," ") -> ABEMATSU | C117: =IF(A117:A117>0,VLOOKUP(A117,Fed.!$A$2:$J$1973,3,FALSE)," ") -> KATSUYUKI | D117: =IF(A117:A117>0,VLOOKUP(A117,Fed.!$A$2:$J$1973,4,FALSE)," ") -> M | E117: =IF(A117:A117>0,VLOOKUP(A117,Fed.!$A$2:$J$1973,5,FALSE)," ") -> 07. GSP | F117: =IF(A117:A117>0,VLOOKUP(A117,Fed.!$A$2:$J$1973,6,FALSE)," ") -> 17411 | G117: =IF(A117:A117>0,VLOOKUP(A117,Fed.!$A$2:$J$1973,7,FALSE)," ") -> 5 | H117: =IF(A117:A117>0,VLOOKUP(A117,Fed.!$A$2:$J$1973,8,FALSE)," ") -> A-SR | I117: =IF(A117:A117>0,VLOOKUP(A117,Fed.!$A$2:$J$1973,9,FALSE)," ") -> LIB2026 | J117: =IF(A117:A117>0,VLOOKUP(A117,Fed.!$A$2:$J$1973,10,FALSE)," ") -> 0
A118: 624 | B118: =IF(A118:A118>0,VLOOKUP(A118,Fed.!$A$2:$J$1973,2,FALSE)," ") -> YOKOYAMA | C118: =IF(A118:A118>0,VLOOKUP(A118,Fed.!$A$2:$J$1973,3,FALSE)," ") -> HIROSHI | D118: =IF(A118:A118>0,VLOOKUP(A118,Fed.!$A$2:$J$1973,4,FALSE)," ") -> M | E118: =IF(A118:A118>0,VLOOKUP(A118,Fed.!$A$2:$J$1973,5,FALSE)," ") -> 07. GSP | F118: =IF(A118:A118>0,VLOOKUP(A118,Fed.!$A$2:$J$1973,6,FALSE)," ") -> 19283 | G118: =IF(A118:A118>0,VLOOKUP(A118,Fed.!$A$2:$J$1973,7,FALSE)," ") -> 5 | H118: =IF(A118:A118>0,VLOOKUP(A118,Fed.!$A$2:$J$1973,8,FALSE)," ") -> A-NSR | I118: =IF(A118:A118>0,VLOOKUP(A118,Fed.!$A$2:$J$1973,9,FALSE)," ") -> LIB2026 | J118: =IF(A118:A118>0,VLOOKUP(A118,Fed.!$A$2:$J$1973,10,FALSE)," ") -> 0
A119: 549 | B119: =IF(A119:A119>0,VLOOKUP(A119,Fed.!$A$2:$J$1973,2,FALSE)," ") -> KAWABATA | C119: =IF(A119:A119>0,VLOOKUP(A119,Fed.!$A$2:$J$1973,3,FALSE)," ") -> TAKAO | D119: =IF(A119:A119>0,VLOOKUP(A119,Fed.!$A$2:$J$1973,4,FALSE)," ") -> M | E119: =IF(A119:A119>0,VLOOKUP(A119,Fed.!$A$2:$J$1973,5,FALSE)," ") -> 07. GSP | F119: =IF(A119:A119>0,VLOOKUP(A119,Fed.!$A$2:$J$1973,6,FALSE)," ") -> 14203 | G119: =IF(A119:A119>0,VLOOKUP(A119,Fed.!$A$2:$J$1973,7,FALSE)," ") -> 6 | H119: =IF(A119:A119>0,VLOOKUP(A119,Fed.!$A$2:$J$1973,8,FALSE)," ") -> A-MR | I119: =IF(A119:A119>0,VLOOKUP(A119,Fed.!$A$2:$J$1973,9,FALSE)," ") -> LIB2026 | J119: =IF(A119:A119>0,VLOOKUP(A119,Fed.!$A$2:$J$1973,10,FALSE)," ") -> 0
A120: 616 | B120: =IF(A120:A120>0,VLOOKUP(A120,Fed.!$A$2:$J$1973,2,FALSE)," ") -> MORITA | C120: =IF(A120:A120>0,VLOOKUP(A120,Fed.!$A$2:$J$1973,3,FALSE)," ") -> IROKO | D120: =IF(A120:A120>0,VLOOKUP(A120,Fed.!$A$2:$J$1973,4,FALSE)," ") -> F | E120: =IF(A120:A120>0,VLOOKUP(A120,Fed.!$A$2:$J$1973,5,FALSE)," ") -> 07. GSP | F120: =IF(A120:A120>0,VLOOKUP(A120,Fed.!$A$2:$J$1973,6,FALSE)," ") -> 16580 | G120: =IF(A120:A120>0,VLOOKUP(A120,Fed.!$A$2:$J$1973,7,FALSE)," ") -> 6 | H120: =IF(A120:A120>0,VLOOKUP(A120,Fed.!$A$2:$J$1973,8,FALSE)," ") -> A-SR | I120: =IF(A120:A120>0,VLOOKUP(A120,Fed.!$A$2:$J$1973,9,FALSE)," ") -> LIB2026 | J120: =IF(A120:A120>0,VLOOKUP(A120,Fed.!$A$2:$J$1973,10,FALSE)," ") -> 0
A121: 572 | B121: =IF(A121:A121>0,VLOOKUP(A121,Fed.!$A$2:$J$1973,2,FALSE)," ") -> TAKANO | C121: =IF(A121:A121>0,VLOOKUP(A121,Fed.!$A$2:$J$1973,3,FALSE)," ") -> ELZA FARUYO | D121: =IF(A121:A121>0,VLOOKUP(A121,Fed.!$A$2:$J$1973,4,FALSE)," ") -> F | E121: =IF(A121:A121>0,VLOOKUP(A121,Fed.!$A$2:$J$1973,5,FALSE)," ") -> 07. GSP | F121: =IF(A121:A121>0,VLOOKUP(A121,Fed.!$A$2:$J$1973,6,FALSE)," ") -> 19929 | G121: =IF(A121:A121>0,VLOOKUP(A121,Fed.!$A$2:$J$1973,7,FALSE)," ") -> 6 | H121: =IF(A121:A121>0,VLOOKUP(A121,Fed.!$A$2:$J$1973,8,FALSE)," ") -> A-NSR | I121: =IF(A121:A121>0,VLOOKUP(A121,Fed.!$A$2:$J$1973,9,FALSE)," ") -> LIB2026 | J121: =IF(A121:A121>0,VLOOKUP(A121,Fed.!$A$2:$J$1973,10,FALSE)," ") -> 0
A122: 395 | B122: =IF(A122:A122>0,VLOOKUP(A122,Fed.!$A$2:$J$1973,2,FALSE)," ") -> UEMURA | C122: =IF(A122:A122>0,VLOOKUP(A122,Fed.!$A$2:$J$1973,3,FALSE)," ") -> LUCIA | D122: =IF(A122:A122>0,VLOOKUP(A122,Fed.!$A$2:$J$1973,4,FALSE)," ") -> F | E122: =IF(A122:A122>0,VLOOKUP(A122,Fed.!$A$2:$J$1973,5,FALSE)," ") -> 07. GSP | F122: =IF(A122:A122>0,VLOOKUP(A122,Fed.!$A$2:$J$1973,6,FALSE)," ") -> 17241 | G122: =IF(A122:A122>0,VLOOKUP(A122,Fed.!$A$2:$J$1973,7,FALSE)," ") -> 6 | H122: =IF(A122:A122>0,VLOOKUP(A122,Fed.!$A$2:$J$1973,8,FALSE)," ") -> A-SR | I122: =IF(A122:A122>0,VLOOKUP(A122,Fed.!$A$2:$J$1973,9,FALSE)," ") -> LIB2026 | J122: =IF(A122:A122>0,VLOOKUP(A122,Fed.!$A$2:$J$1973,10,FALSE)," ") -> 0
A123: 888 | B123: =IF(A123:A123>0,VLOOKUP(A123,Fed.!$A$2:$J$1973,2,FALSE)," ") -> I. YOKOYAMA | C123: =IF(A123:A123>0,VLOOKUP(A123,Fed.!$A$2:$J$1973,3,FALSE)," ") -> ELISA MASSAE | D123: =IF(A123:A123>0,VLOOKUP(A123,Fed.!$A$2:$J$1973,4,FALSE)," ") -> F | E123: =IF(A123:A123>0,VLOOKUP(A123,Fed.!$A$2:$J$1973,5,FALSE)," ") -> 07. GSP | F123: =IF(A123:A123>0,VLOOKUP(A123,Fed.!$A$2:$J$1973,6,FALSE)," ") -> 20981 | G123: =IF(A123:A123>0,VLOOKUP(A123,Fed.!$A$2:$J$1973,7,FALSE)," ") -> 7 | H123: =IF(A123:A123>0,VLOOKUP(A123,Fed.!$A$2:$J$1973,8,FALSE)," ") -> B-NSR | I123: =IF(A123:A123>0,VLOOKUP(A123,Fed.!$A$2:$J$1973,9,FALSE)," ") -> LIB2026 | J123: =IF(A123:A123>0,VLOOKUP(A123,Fed.!$A$2:$J$1973,10,FALSE)," ") -> 0
A124: 859 | B124: =IF(A124:A124>0,VLOOKUP(A124,Fed.!$A$2:$J$1973,2,FALSE)," ") -> OSAKO | C124: =IF(A124:A124>0,VLOOKUP(A124,Fed.!$A$2:$J$1973,3,FALSE)," ") -> EURICO MINORU | D124: =IF(A124:A124>0,VLOOKUP(A124,Fed.!$A$2:$J$1973,4,FALSE)," ") -> M | E124: =IF(A124:A124>0,VLOOKUP(A124,Fed.!$A$2:$J$1973,5,FALSE)," ") -> 07. GSP | F124: =IF(A124:A124>0,VLOOKUP(A124,Fed.!$A$2:$J$1973,6,FALSE)," ") -> 17453 | G124: =IF(A124:A124>0,VLOOKUP(A124,Fed.!$A$2:$J$1973,7,FALSE)," ") -> 7 | H124: =IF(A124:A124>0,VLOOKUP(A124,Fed.!$A$2:$J$1973,8,FALSE)," ") -> B-SR | I124: =IF(A124:A124>0,VLOOKUP(A124,Fed.!$A$2:$J$1973,9,FALSE)," ") -> LIB2026 | J124: =IF(A124:A124>0,VLOOKUP(A124,Fed.!$A$2:$J$1973,10,FALSE)," ") -> 0
A125: 711 | B125: =IF(A125:A125>0,VLOOKUP(A125,Fed.!$A$2:$J$1973,2,FALSE)," ") -> NISHIMURA | C125: =IF(A125:A125>0,VLOOKUP(A125,Fed.!$A$2:$J$1973,3,FALSE)," ") -> ELENA | D125: =IF(A125:A125>0,VLOOKUP(A125,Fed.!$A$2:$J$1973,4,FALSE)," ") -> F | E125: =IF(A125:A125>0,VLOOKUP(A125,Fed.!$A$2:$J$1973,5,FALSE)," ") -> 07. GSP | F125: =IF(A125:A125>0,VLOOKUP(A125,Fed.!$A$2:$J$1973,6,FALSE)," ") -> 16868 | G125: =IF(A125:A125>0,VLOOKUP(A125,Fed.!$A$2:$J$1973,7,FALSE)," ") -> 8 | H125: =IF(A125:A125>0,VLOOKUP(A125,Fed.!$A$2:$J$1973,8,FALSE)," ") -> B-SR | I125: =IF(A125:A125>0,VLOOKUP(A125,Fed.!$A$2:$J$1973,9,FALSE)," ") -> LIB2026 | J125: =IF(A125:A125>0,VLOOKUP(A125,Fed.!$A$2:$J$1973,10,FALSE)," ") -> 0
A126: 522 | B126: =IF(A126:A126>0,VLOOKUP(A126,Fed.!$A$2:$J$1973,2,FALSE)," ") -> TABATA | C126: =IF(A126:A126>0,VLOOKUP(A126,Fed.!$A$2:$J$1973,3,FALSE)," ") -> MARIO KAZUNORI | D126: =IF(A126:A126>0,VLOOKUP(A126,Fed.!$A$2:$J$1973,4,FALSE)," ") -> M | E126: =IF(A126:A126>0,VLOOKUP(A126,Fed.!$A$2:$J$1973,5,FALSE)," ") -> 07. GSP | F126: =IF(A126:A126>0,VLOOKUP(A126,Fed.!$A$2:$J$1973,6,FALSE)," ") -> 18853 | G126: =IF(A126:A126>0,VLOOKUP(A126,Fed.!$A$2:$J$1973,7,FALSE)," ") -> 8 | H126: =IF(A126:A126>0,VLOOKUP(A126,Fed.!$A$2:$J$1973,8,FALSE)," ") -> B-SR | I126: =IF(A126:A126>0,VLOOKUP(A126,Fed.!$A$2:$J$1973,9,FALSE)," ") -> LIB2026 | J126: =IF(A126:A126>0,VLOOKUP(A126,Fed.!$A$2:$J$1973,10,FALSE)," ") -> 0
A127: 798 | B127: =IF(A127:A127>0,VLOOKUP(A127,Fed.!$A$2:$J$1973,2,FALSE)," ") -> ARIKI | C127: =IF(A127:A127>0,VLOOKUP(A127,Fed.!$A$2:$J$1973,3,FALSE)," ") -> TERESA HIROKO | D127: =IF(A127:A127>0,VLOOKUP(A127,Fed.!$A$2:$J$1973,4,FALSE)," ") -> F | E127: =IF(A127:A127>0,VLOOKUP(A127,Fed.!$A$2:$J$1973,5,FALSE)," ") -> 07. GSP | F127: =IF(A127:A127>0,VLOOKUP(A127,Fed.!$A$2:$J$1973,6,FALSE)," ") -> 18191 | G127: =IF(A127:A127>0,VLOOKUP(A127,Fed.!$A$2:$J$1973,7,FALSE)," ") -> 9 | H127: =IF(A127:A127>0,VLOOKUP(A127,Fed.!$A$2:$J$1973,8,FALSE)," ") -> B-SR | I127: =IF(A127:A127>0,VLOOKUP(A127,Fed.!$A$2:$J$1973,9,FALSE)," ") -> LIB2026 | J127: =IF(A127:A127>0,VLOOKUP(A127,Fed.!$A$2:$J$1973,10,FALSE)," ") -> 0
A128: 652 | B128: =IF(A128:A128>0,VLOOKUP(A128,Fed.!$A$2:$J$1973,2,FALSE)," ") -> HAYAKAWA | C128: =IF(A128:A128>0,VLOOKUP(A128,Fed.!$A$2:$J$1973,3,FALSE)," ") -> EIKO | D128: =IF(A128:A128>0,VLOOKUP(A128,Fed.!$A$2:$J$1973,4,FALSE)," ") -> F | E128: =IF(A128:A128>0,VLOOKUP(A128,Fed.!$A$2:$J$1973,5,FALSE)," ") -> 07. GSP | F128: =IF(A128:A128>0,VLOOKUP(A128,Fed.!$A$2:$J$1973,6,FALSE)," ") -> 13575 | G128: =IF(A128:A128>0,VLOOKUP(A128,Fed.!$A$2:$J$1973,7,FALSE)," ") -> 9 | H128: =IF(A128:A128>0,VLOOKUP(A128,Fed.!$A$2:$J$1973,8,FALSE)," ") -> B-MR | I128: =IF(A128:A128>0,VLOOKUP(A128,Fed.!$A$2:$J$1973,9,FALSE)," ") -> LIB2026 | J128: =IF(A128:A128>0,VLOOKUP(A128,Fed.!$A$2:$J$1973,10,FALSE)," ") -> 0
A129: 565 | B129: =IF(A129:A129>0,VLOOKUP(A129,Fed.!$A$2:$J$1973,2,FALSE)," ") -> HIRATA | C129: =IF(A129:A129>0,VLOOKUP(A129,Fed.!$A$2:$J$1973,3,FALSE)," ") -> MIDORI | D129: =IF(A129:A129>0,VLOOKUP(A129,Fed.!$A$2:$J$1973,4,FALSE)," ") -> F | E129: =IF(A129:A129>0,VLOOKUP(A129,Fed.!$A$2:$J$1973,5,FALSE)," ") -> 07. GSP | F129: =IF(A129:A129>0,VLOOKUP(A129,Fed.!$A$2:$J$1973,6,FALSE)," ") -> 18290 | G129: =IF(A129:A129>0,VLOOKUP(A129,Fed.!$A$2:$J$1973,7,FALSE)," ") -> 9 | H129: =IF(A129:A129>0,VLOOKUP(A129,Fed.!$A$2:$J$1973,8,FALSE)," ") -> B-SR | I129: =IF(A129:A129>0,VLOOKUP(A129,Fed.!$A$2:$J$1973,9,FALSE)," ") -> LIB2026 | J129: =IF(A129:A129>0,VLOOKUP(A129,Fed.!$A$2:$J$1973,10,FALSE)," ") -> 0
... A133: 621 | B133: =IF(A133:A133>0,VLOOKUP(A133,Fed.!$A$2:$J$1973,2,FALSE)," ") -> OGATA | C133: =IF(A133:A133>0,VLOOKUP(A133,Fed.!$A$2:$J$1973,3,FALSE)," ") -> MEGUMI | D133: =IF(A133:A133>0,VLOOKUP(A133,Fed.!$A$2:$J$1973,4,FALSE)," ") -> F | E133: =IF(A133:A133>0,VLOOKUP(A133,Fed.!$A$2:$J$1973,5,FALSE)," ") -> 07. GSP | F133: =IF(A133:A133>0,VLOOKUP(A133,Fed.!$A$2:$J$1973,6,FALSE)," ") -> 19169 | G133: =IF(A133:A133>0,VLOOKUP(A133,Fed.!$A$2:$J$1973,7,FALSE)," ") -> 9 | H133: =IF(A133:A133>0,VLOOKUP(A133,Fed.!$A$2:$J$1973,8,FALSE)," ") -> B-NSR | I133: =IF(A133:A133>0,VLOOKUP(A133,Fed.!$A$2:$J$1973,9,FALSE)," ") -> LIB2026 | J133: =IF(A133:A133>0,VLOOKUP(A133,Fed.!$A$2:$J$1973,10,FALSE)," ") -> 0
...

Sheet Sorteio
A1: 101 | B1: 1 | C1: 1 | D1: 342 | E1: =IF(D1:D1>0,VLOOKUP(D1,Insc.!$A$1:$J$972,2,FALSE),"") -> TOBIMATSU | F1: =IF(D1:D1>0,VLOOKUP(D1,Insc.!$A$1:$J$972,3,FALSE),"") -> SHINYA | G1: =IF(D1:D1>0,VLOOKUP(D1,Insc.!$A$1:$J$972,4,FALSE),"") -> M | H1: =IF(D1:D1>0,VLOOKUP(D1,Insc.!$A$1:$J$972,5,FALSE),"") -> 06. KOK | I1: =IF(D1:D1>0,VLOOKUP(D1,Insc.!$A$1:$J$972,6,FALSE),"") -> 17774 | J1: =IF(D1:D1>0,VLOOKUP(D1,Insc.!$A$1:$J$972,7,FALSE),"") -> 1 | K1: =IF(D1:D1>0,VLOOKUP(D1,Insc.!$A$1:$J$972,8,FALSE),"") -> EX-SR | L1: =IF(D1:D1>0,VLOOKUP(D1,Insc.!$A$1:$J$972,9,FALSE),"") -> LIB2026 | M1: =IF(D1:D1>0,VLOOKUP(D1,Insc.!$A$1:$J$972,10,FALSE),"") -> 0 | N1: 951 | O1: =IF(N1:N1>0,VLOOKUP(N1,Insc.!$A$1:$J$972,2,FALSE),"") -> YOSHIDA | P1: =IF(N1:N1>0,VLOOKUP(N1,Insc.!$A$1:$J$972,3,FALSE),"") -> AKIMITSU | Q1: =IF(N1:N1>0,VLOOKUP(N1,Insc.!$A$1:$J$972,4,FALSE),"") -> M | R1: =IF(N1:N1>0,VLOOKUP(N1,Insc.!$A$1:$J$972,5,FALSE),"") -> 11. NCC | S1: =IF(N1:N1>0,VLOOKUP(N1,Insc.!$A$1:$J$972,6,FALSE),"") -> 16973 | T1: =IF(N1:N1>0,VLOOKUP(N1,Insc.!$A$1:$J$972,7,FALSE),"") -> 1 | U1: =IF(N1:N1>0,VLOOKUP(N1,Insc.!$A$1:$J$972,8,FALSE),"") -> EX-SR | V1: =IF(N1:N1>0,VLOOKUP(N1,Insc.!$A$1:$J$972,9,FALSE),"") -> LIB2026 | W1: =IF(N1:N1>0,VLOOKUP(N1,Insc.!$A$1:$J$972,10,FALSE),"") -> 0 | X1: 756 | Y1: =IF(X1:X1>0,VLOOKUP(X1,Insc.!$A$1:$J$972,2,FALSE),"") -> TABATA | Z1: =IF(X1:X1>0,VLOOKUP(X1,Insc.!$A$1:$J$972,3,FALSE),"") -> PAULO YUKIHARU | AA1: =IF(X1:X1>0,VLOOKUP(X1,Insc.!$A$1:$J$972,4,FALSE),"") -> M | AB1: =IF(X1:X1>0,VLOOKUP(X1,Insc.!$A$1:$J$972,5,FALSE),"") -> 07. GSP | AC1: =IF(X1:X1>0,VLOOKUP(X1,Insc.!$A$1:$J$972,6,FALSE),"") -> 22876 | AD1: =IF(X1:X1>0,VLOOKUP(X1,Insc.!$A$1:$J$972,7,FALSE),"") -> 4 | AE1: =IF(X1:X1>0,VLOOKUP(X1,Insc.!$A$1:$J$972,8,FALSE),"") -> A-NSR | AF1: =IF(X1:X1>0,VLOOKUP(X1,Insc.!$A$1:$J$972,9,FALSE),"") -> LIB2026 | AG1: =IF(X1:X1>0,VLOOKUP(X1,Insc.!$A$1:$J$972,10,FALSE),"") -> 0 | AH1: 073 | AI1: =IF(AH1:AH1>0,VLOOKUP(AH1,Insc.!$A$1:$J$972,2,FALSE),"") -> TAKANO | AJ1: =IF(AH1:AH1>0,VLOOKUP(AH1,Insc.!$A$1:$J$972,3,FALSE),"") -> YASUO | AK1: =IF(AH1:AH1>0,VLOOKUP(AH1,Insc.!$A$1:$J$972,4,FALSE),"") -> M | AL1: =IF(AH1:AH1>0,VLOOKUP(AH1,Insc.!$A$1:$J$972,5,FALSE),"") -> 03. IBI | AM1: =IF(AH1:AH1>0,VLOOKUP(AH1,Insc.!$A$1:$J$972,6,FALSE),"") -> 16369 | AN1: =IF(AH1:AH1>0,VLOOKUP(AH1,Insc.!$A$1:$J$972,7,FALSE),"") -> 6 | AO1: =IF(AH1:AH1>0,VLOOKUP(AH1,Insc.!$A$1:$J$972,8,FALSE),"") -> A-SR | AP1: =IF(AH1:AH1>0,VLOOKUP(AH1,Insc.!$A$1:$J$972,9,FALSE),"") -> LIB2026 | AQ1: =IF(AH1:AH1>0,VLOOKUP(AH1,Insc.!$A$1:$J$972,10,FALSE),"") -> 0
A2: 102 | B2: 1 | C2: 2 | D2: 271 | E2: =IF(D2:D2>0,VLOOKUP(D2,Insc.!$A$1:$J$972,2,FALSE),"") -> WATANABE | F2: =IF(D2:D2>0,VLOOKUP(D2,Insc.!$A$1:$J$972,3,FALSE),"") -> HIROMI | G2: =IF(D2:D2>0,VLOOKUP(D2,Insc.!$A$1:$J$972,4,FALSE),"") -> M | H2: =IF(D2:D2>0,VLOOKUP(D2,Insc.!$A$1:$J$972,5,FALSE),"") -> 08. SMA | I2: =IF(D2:D2>0,VLOOKUP(D2,Insc.!$A$1:$J$972,6,FALSE),"") -> 18070 | J2: =IF(D2:D2>0,VLOOKUP(D2,Insc.!$A$1:$J$972,7,FALSE),"") -> 0 | K2: =IF(D2:D2>0,VLOOKUP(D2,Insc.!$A$1:$J$972,8,FALSE),"") -> EX-SR | L2: =IF(D2:D2>0,VLOOKUP(D2,Insc.!$A$1:$J$972,9,FALSE),"") -> LIB2026 | M2: =IF(D2:D2>0,VLOOKUP(D2,Insc.!$A$1:$J$972,10,FALSE),"") -> 0 | N2: 513 | O2: =IF(N2:N2>0,VLOOKUP(N2,Insc.!$A$1:$J$972,2,FALSE),"") -> TIZUKA | P2: =IF(N2:N2>0,VLOOKUP(N2,Insc.!$A$1:$J$972,3,FALSE),"") -> SACHIKO | Q2: =IF(N2:N2>0,VLOOKUP(N2,Insc.!$A$1:$J$972,4,FALSE),"") -> F | R2: =IF(N2:N2>0,VLOOKUP(N2,Insc.!$A$1:$J$972,5,FALSE),"") -> 07. GSP | S2: =IF(N2:N2>0,VLOOKUP(N2,Insc.!$A$1:$J$972,6,FALSE),"") -> 19170 | T2: =IF(N2:N2>0,VLOOKUP(N2,Insc.!$A$1:$J$972,7,FALSE),"") -> 4 | U2: =IF(N2:N2>0,VLOOKUP(N2,Insc.!$A$1:$J$972,8,FALSE),"") -> A-NSR | V2: =IF(N2:N2>0,VLOOKUP(N2,Insc.!$A$1:$J$972,9,FALSE),"") -> LIB2026 | W2: =IF(N2:N2>0,VLOOKUP(N2,Insc.!$A$1:$J$972,10,FALSE),"") -> 0 | X2: 555 | Y2: =IF(X2:X2>0,VLOOKUP(X2,Insc.!$A$1:$J$972,2,FALSE),"") -> SIQUEIRA OLIVEIRA | Z2: =IF(X2:X2>0,VLOOKUP(X2,Insc.!$A$1:$J$972,3,FALSE),"") -> HELVECIO | AA2: =IF(X2:X2>0,VLOOKUP(X2,Insc.!$A$1:$J$972,4,FALSE),"") -> M | AB2: =IF(X2:X2>0,VLOOKUP(X2,Insc.!$A$1:$J$972,5,FALSE),"") -> 18. SOR | AC2: =IF(X2:X2>0,VLOOKUP(X2,Insc.!$A$1:$J$972,6,FALSE),"") -> 21411 | AD2: =IF(X2:X2>0,VLOOKUP(X2,Insc.!$A$1:$J$972,7,FALSE),"") -> 6 | AE2: =IF(X2:X2>0,VLOOKUP(X2,Insc.!$A$1:$J$972,8,FALSE),"") -> A-NSR | AF2: =IF(X2:X2>0,VLOOKUP(X2,Insc.!$A$1:$J$972,9,FALSE),"") -> LIB2026 | AG2: =IF(X2:X2>0,VLOOKUP(X2,Insc.!$A$1:$J$972,10,FALSE),"") -> 0 | AH2: 480 | AI2: =IF(AH2:AH2>0,VLOOKUP(AH2,Insc.!$A$1:$J$972,2,FALSE),"") -> SIGAKI HIGUCHI | AJ2: =IF(AH2:AH2>0,VLOOKUP(AH2,Insc.!$A$1:$J$972,3,FALSE),"") -> LOURDES YASSUKO | AK2: =IF(AH2:AH2>0,VLOOKUP(AH2,Insc.!$A$1:$J$972,4,FALSE),"") -> F | AL2: =IF(AH2:AH2>0,VLOOKUP(AH2,Insc.!$A$1:$J$972,5,FALSE),"") -> 11. NCC | AM2: =IF(AH2:AH2>0,VLOOKUP(AH2,Insc.!$A$1:$J$972,6,FALSE),"") -> 20585 | AN2: =IF(AH2:AH2>0,VLOOKUP(AH2,Insc.!$A$1:$J$972,7,FALSE),"") -> 6 | AO2: =IF(AH2:AH2>0,VLOOKUP(AH2,Insc.!$A$1:$J$972,8,FALSE),"") -> A-NSR | AP2: =IF(AH2:AH2>0,VLOOKUP(AH2,Insc.!$A$1:$J$972,9,FALSE),"") -> LIB2026 | AQ2: =IF(AH2:AH2>0,VLOOKUP(AH2,Insc.!$A$1:$J$972,10,FALSE),"") -> 0
A3: 103 | B3: 1 | C3: 3 | D3: 952 | E3: =IF(D3:D3>0,VLOOKUP(D3,Insc.!$A$1:$J$972,2,FALSE),"") -> HAYASI ARIMORI | F3: =IF(D3:D3>0,VLOOKUP(D3,Insc.!$A$1:$J$972,3,FALSE),"") -> IZAURA KAZUE | G3: =IF(D3:D3>0,VLOOKUP(D3,Insc.!$A$1:$J$972,4,FALSE),"") -> F | H3: =IF(D3:D3>0,VLOOKUP(D3,Insc.!$A$1:$J$972,5,FALSE),"") -> 11. NCC | I3: =IF(D3:D3>0,VLOOKUP(D3,Insc.!$A$1:$J$972,6,FALSE),"") -> 22219 | J3: =IF(D3:D3>0,VLOOKUP(D3,Insc.!$A$1:$J$972,7,FALSE),"") -> 1 | K3: =IF(D3:D3>0,VLOOKUP(D3,Insc.!$A$1:$J$972,8,FALSE),"") -> EX-NSR | L3: =IF(D3:D3>0,VLOOKUP(D3,Insc.!$A$1:$J$972,9,FALSE),"") -> LIB2026 | M3: =IF(D3:D3>0,VLOOKUP(D3,Insc.!$A$1:$J$972,10,FALSE),"") -> 0 | N3: 800 | O3: =IF(N3:N3>0,VLOOKUP(N3,Insc.!$A$1:$J$972,2,FALSE),"") -> FIUZA DE OLIVEIRA | P3: =IF(N3:N3>0,VLOOKUP(N3,Insc.!$A$1:$J$972,3,FALSE),"") -> IVAN | Q3: =IF(N3:N3>0,VLOOKUP(N3,Insc.!$A$1:$J$972,4,FALSE),"") -> M | R3: =IF(N3:N3>0,VLOOKUP(N3,Insc.!$A$1:$J$972,5,FALSE),"") -> 03. IBI | S3: =IF(N3:N3>0,VLOOKUP(N3,Insc.!$A$1:$J$972,6,FALSE),"") -> 29849 | T3: =IF(N3:N3>0,VLOOKUP(N3,Insc.!$A$1:$J$972,7,FALSE),"") -> 2 | U3: =IF(N3:N3>0,VLOOKUP(N3,Insc.!$A$1:$J$972,8,FALSE),"") -> EX-NSR | V3: =IF(N3:N3>0,VLOOKUP(N3,Insc.!$A$1:$J$972,9,FALSE),"") -> LIB2026 | W3: =IF(N3:N3>0,VLOOKUP(N3,Insc.!$A$1:$J$972,10,FALSE),"") -> 0 | X3: 620 | Y3: =IF(X3:X3>0,VLOOKUP(X3,Insc.!$A$1:$J$972,2,FALSE),"") -> OGATA | Z3: =IF(X3:X3>0,VLOOKUP(X3,Insc.!$A$1:$J$972,3,FALSE),"") -> NELSON | AA3: =IF(X3:X3>0,VLOOKUP(X3,Insc.!$A$1:$J$972,4,FALSE),"") -> M | AB3: =IF(X3:X3>0,VLOOKUP(X3,Insc.!$A$1:$J$972,5,FALSE),"") -> 07. GSP | AC3: =IF(X3:X3>0,VLOOKUP(X3,Insc.!$A$1:$J$972,6,FALSE),"") -> 19753 | AD3: =IF(X3:X3>0,VLOOKUP(X3,Insc.!$A$1:$J$972,7,FALSE),"") -> 3 | AE3: =IF(X3:X3>0,VLOOKUP(X3,Insc.!$A$1:$J$972,8,FALSE),"") -> EX-NSR | AF3: =IF(X3:X3>0,VLOOKUP(X3,Insc.!$A$1:$J$972,9,FALSE),"") -> LIB2026 | AG3: =IF(X3:X3>0,VLOOKUP(X3,Insc.!$A$1:$J$972,10,FALSE),"") -> 0 | AH3: 767 | AI3: =IF(AH3:AH3>0,VLOOKUP(AH3,Insc.!$A$1:$J$972,2,FALSE),"") -> FURUKAWA | AJ3: =IF(AH3:AH3>0,VLOOKUP(AH3,Insc.!$A$1:$J$972,3,FALSE),"") -> HIROSHI | AK3: =IF(AH3:AH3>0,VLOOKUP(AH3,Insc.!$A$1:$J$972,4,FALSE),"") -> M | AL3: =IF(AH3:AH3>0,VLOOKUP(AH3,Insc.!$A$1:$J$972,5,FALSE),"") -> 06. KOK | AM3: =IF(AH3:AH3>0,VLOOKUP(AH3,Insc.!$A$1:$J$972,6,FALSE),"") -> 14567 | AN3: =IF(AH3:AH3>0,VLOOKUP(AH3,Insc.!$A$1:$J$972,7,FALSE),"") -> 6 | AO3: =IF(AH3:AH3>0,VLOOKUP(AH3,Insc.!$A$1:$J$972,8,FALSE),"") -> A-MR | AP3: =IF(AH3:AH3>0,VLOOKUP(AH3,Insc.!$A$1:$J$972,9,FALSE),"") -> LIB2026 | AQ3: =IF(AH3:AH3>0,VLOOKUP(AH3,Insc.!$A$1:$J$972,10,FALSE),"") -> 0
A4: 104 | B4: 1 | C4: 4 | D4: 635 | E4: =IF(D4:D4>0,VLOOKUP(D4,Insc.!$A$1:$J$972,2,FALSE),"") -> BABATA | F4: =IF(D4:D4>0,VLOOKUP(D4,Insc.!$A$1:$J$972,3,FALSE),"") -> JORGE TOSHIO | G4: =IF(D4:D4>0,VLOOKUP(D4,Insc.!$A$1:$J$972,4,FALSE),"") -> M | H4: =IF(D4:D4>0,VLOOKUP(D4,Insc.!$A$1:$J$972,5,FALSE),"") -> 06. KOK | I4: =IF(D4:D4>0,VLOOKUP(D4,Insc.!$A$1:$J$972,6,FALSE),"") -> 21124 | J4: =IF(D4:D4>0,VLOOKUP(D4,Insc.!$A$1:$J$972,7,FALSE),"") -> 3 | K4: =IF(D4:D4>0,VLOOKUP(D4,Insc.!$A$1:$J$972,8,FALSE),"") -> EX-NSR | L4: =IF(D4:D4>0,VLOOKUP(D4,Insc.!$A$1:$J$972,9,FALSE),"") -> LIB2026 | M4: =IF(D4:D4>0,VLOOKUP(D4,Insc.!$A$1:$J$972,10,FALSE),"") -> 0 | N4: 177 | O4: =IF(N4:N4>0,VLOOKUP(N4,Insc.!$A$1:$J$972,2,FALSE),"") -> KAWAKAMI | P4: =IF(N4:N4>0,VLOOKUP(N4,Insc.!$A$1:$J$972,3,FALSE),"") -> LIKA | Q4: =IF(N4:N4>0,VLOOKUP(N4,Insc.!$A$1:$J$972,4,FALSE),"") -> F | R4: =IF(N4:N4>0,VLOOKUP(N4,Insc.!$A$1:$J$972,5,FALSE),"") -> 08. SMA | S4: =IF(N4:N4>0,VLOOKUP(N4,Insc.!$A$1:$J$972,6,FALSE),"") -> 26516 | T4: =IF(N4:N4>0,VLOOKUP(N4,Insc.!$A$1:$J$972,7,FALSE),"") -> 3 | U4: =IF(N4:N4>0,VLOOKUP(N4,Insc.!$A$1:$J$972,8,FALSE),"") -> EX-NSR | V4: =IF(N4:N4>0,VLOOKUP(N4,Insc.!$A$1:$J$972,9,FALSE),"") -> LIB2026 | W4: =IF(N4:N4>0,VLOOKUP(N4,Insc.!$A$1:$J$972,10,FALSE),"") -> 0 | X4: 619 | Y4: =IF(X4:X4>0,VLOOKUP(X4,Insc.!$A$1:$J$972,2,FALSE),"") -> TOMABECHI | Z4: =IF(X4:X4>0,VLOOKUP(X4,Insc.!$A$1:$J$972,3,FALSE),"") -> SADAO | AA4: =IF(X4:X4>0,VLOOKUP(X4,Insc.!$A$1:$J$972,4,FALSE),"") -> M | AB4: =IF(X4:X4>0,VLOOKUP(X4,Insc.!$A$1:$J$972,5,FALSE),"") -> 07. GSP | AC4: =IF(X4:X4>0,VLOOKUP(X4,Insc.!$A$1:$J$972,6,FALSE),"") -> 12932 | AD4: =IF(X4:X4>0,VLOOKUP(X4,Insc.!$A$1:$J$972,7,FALSE),"") -> 3 | AE4: =IF(X4:X4>0,VLOOKUP(X4,Insc.!$A$1:$J$972,8,FALSE),"") -> EX-MR | AF4: =IF(X4:X4>0,VLOOKUP(X4,Insc.!$A$1:$J$972,9,FALSE),"") -> LIB2026i | AG4: =IF(X4:X4>0,VLOOKUP(X4,Insc.!$A$1:$J$972,10,FALSE),"") -> 0 | AH4: 473 | AI4: =IF(AH4:AH4>0,VLOOKUP(AH4,Insc.!$A$1:$J$972,2,FALSE),"") -> NAKANO | AJ4: =IF(AH4:AH4>0,VLOOKUP(AH4,Insc.!$A$1:$J$972,3,FALSE),"") -> RUBENS SHOZI | AK4: =IF(AH4:AH4>0,VLOOKUP(AH4,Insc.!$A$1:$J$972,4,FALSE),"") -> M | AL4: =IF(AH4:AH4>0,VLOOKUP(AH4,Insc.!$A$1:$J$972,5,FALSE),"") -> 11. NCC | AM4: =IF(AH4:AH4>0,VLOOKUP(AH4,Insc.!$A$1:$J$972,6,FALSE),"") -> 17547 | AN4: =IF(AH4:AH4>0,VLOOKUP(AH4,Insc.!$A$1:$J$972,7,FALSE),"") -> 6 | AO4: =IF(AH4:AH4>0,VLOOKUP(AH4,Insc.!$A$1:$J$972,8,FALSE),"") -> A-SR | AP4: =IF(AH4:AH4>0,VLOOKUP(AH4,Insc.!$A$1:$J$972,9,FALSE),"") -> LIB2026 | AQ4: =IF(AH4:AH4>0,VLOOKUP(AH4,Insc.!$A$1:$J$972,10,FALSE),"") -> 0
A5: 105 | B5: 1 | C5: 5 | D5: 626 | E5: =IF(D5:D5>0,VLOOKUP(D5,Insc.!$A$1:$J$972,2,FALSE),"") -> SHIMURA | F5: =IF(D5:D5>0,VLOOKUP(D5,Insc.!$A$1:$J$972,3,FALSE),"") -> ALICE MIWAKO | G5: =IF(D5:D5>0,VLOOKUP(D5,Insc.!$A$1:$J$972,4,FALSE),"") -> F | H5: =IF(D5:D5>0,VLOOKUP(D5,Insc.!$A$1:$J$972,5,FALSE),"") -> 07. GSP | I5: =IF(D5:D5>0,VLOOKUP(D5,Insc.!$A$1:$J$972,6,FALSE),"") -> 21468 | J5: =IF(D5:D5>0,VLOOKUP(D5,Insc.!$A$1:$J$972,7,FALSE),"") -> 2 | K5: =IF(D5:D5>0,VLOOKUP(D5,Insc.!$A$1:$J$972,8,FALSE),"") -> EX-NSR | L5: =IF(D5:D5>0,VLOOKUP(D5,Insc.!$A$1:$J$972,9,FALSE),"") -> LIB2026 | M5: =IF(D5:D5>0,VLOOKUP(D5,Insc.!$A$1:$J$972,10,FALSE),"") -> 0 | N5: 983 | O5: =IF(N5:N5>0,VLOOKUP(N5,Insc.!$A$1:$J$972,2,FALSE),"") -> OSAKO | P5: =IF(N5:N5>0,VLOOKUP(N5,Insc.!$A$1:$J$972,3,FALSE),"") -> SERGIO | Q5: =IF(N5:N5>0,VLOOKUP(N5,Insc.!$A$1:$J$972,4,FALSE),"") -> M | R5: =IF(N5:N5>0,VLOOKUP(N5,Insc.!$A$1:$J$972,5,FALSE),"") -> 18. SOR | S5: =IF(N5:N5>0,VLOOKUP(N5,Insc.!$A$1:$J$972,6,FALSE),"") -> 16304 | T5: =IF(N5:N5>0,VLOOKUP(N5,Insc.!$A$1:$J$972,7,FALSE),"") -> 3 | U5: =IF(N5:N5>0,VLOOKUP(N5,Insc.!$A$1:$J$972,8,FALSE),"") -> EX-SR | V5: =IF(N5:N5>0,VLOOKUP(N5,Insc.!$A$1:$J$972,9,FALSE),"") -> LIB2026 | W5: =IF(N5:N5>0,VLOOKUP(N5,Insc.!$A$1:$J$972,10,FALSE),"") -> 0 | X5: 320 | Y5: =IF(X5:X5>0,VLOOKUP(X5,Insc.!$A$1:$J$972,2,FALSE),"") -> WAKABAYASHI | Z5: =IF(X5:X5>0,VLOOKUP(X5,Insc.!$A$1:$J$972,3,FALSE),"") -> KOITI | AA5: =IF(X5:X5>0,VLOOKUP(X5,Insc.!$A$1:$J$972,4,FALSE),"") -> M | AB5: =IF(X5:X5>0,VLOOKUP(X5,Insc.!$A$1:$J$972,5,FALSE),"") -> 11. NCC | AC5: =IF(X5:X5>0,VLOOKUP(X5,Insc.!$A$1:$J$972,6,FALSE),"") -> 15516 | AD5: =IF(X5:X5>0,VLOOKUP(X5,Insc.!$A$1:$J$972,7,FALSE),"") -> 5 | AE5: =IF(X5:X5>0,VLOOKUP(X5,Insc.!$A$1:$J$972,8,FALSE),"") -> A-SR | AF5: =IF(X5:X5>0,VLOOKUP(X5,Insc.!$A$1:$J$972,9,FALSE),"") -> LIB2026 | AG5: =IF(X5:X5>0,VLOOKUP(X5,Insc.!$A$1:$J$972,10,FALSE),"") -> 0 | AH5: 670 | AI5: =IF(AH5:AH5>0,VLOOKUP(AH5,Insc.!$A$1:$J$972,2,FALSE),"") -> FUKUZAWA | AJ5: =IF(AH5:AH5>0,VLOOKUP(AH5,Insc.!$A$1:$J$972,3,FALSE),"") -> AKIRA | AK5: =IF(AH5:AH5>0,VLOOKUP(AH5,Insc.!$A$1:$J$972,4,FALSE),"") -> M | AL5: =IF(AH5:AH5>0,VLOOKUP(AH5,Insc.!$A$1:$J$972,5,FALSE),"") -> 06. KOK | AM5: =IF(AH5:AH5>0,VLOOKUP(AH5,Insc.!$A$1:$J$972,6,FALSE),"") -> 18276 | AN5: =IF(AH5:AH5>0,VLOOKUP(AH5,Insc.!$A$1:$J$972,7,FALSE),"") -> 6 | AO5: =IF(AH5:AH5>0,VLOOKUP(AH5,Insc.!$A$1:$J$972,8,FALSE),"") -> A-SR | AP5: =IF(AH5:AH5>0,VLOOKUP(AH5,Insc.!$A$1:$J$972,9,FALSE),"") -> LIB2026 | AQ5: =IF(AH5:AH5>0,VLOOKUP(AH5,Insc.!$A$1:$J$972,10,FALSE),"") -> 0
A6: 106 | B6: 1 | C6: 6 | D6: 878 | E6: =IF(D6:D6>0,VLOOKUP(D6,Insc.!$A$1:$J$972,2,FALSE),"") -> TANIGUTI | F6: =IF(D6:D6>0,VLOOKUP(D6,Insc.!$A$1:$J$972,3,FALSE),"") -> PAULO HIDEAKI | G6: =IF(D6:D6>0,VLOOKUP(D6,Insc.!$A$1:$J$972,4,FALSE),"") -> M | H6: =IF(D6:D6>0,VLOOKUP(D6,Insc.!$A$1:$J$972,5,FALSE),"") -> 16. SUM | I6: =IF(D6:D6>0,VLOOKUP(D6,Insc.!$A$1:$J$972,6,FALSE),"") -> 19749 | J6: =IF(D6:D6>0,VLOOKUP(D6,Insc.!$A$1:$J$972,7,FALSE),"") -> 1 | K6: =IF(D6:D6>0,VLOOKUP(D6,Insc.!$A$1:$J$972,8,FALSE),"") -> EX-NSR | L6: =IF(D6:D6>0,VLOOKUP(D6,Insc.!$A$1:$J$972,9,FALSE),"") -> LIB2026 | M6: =IF(D6:D6>0,VLOOKUP(D6,Insc.!$A$1:$J$972,10,FALSE),"") -> 0 | N6: 786 | O6: =IF(N6:N6>0,VLOOKUP(N6,Insc.!$A$1:$J$972,2,FALSE),"") -> KAMIMURA | P6: =IF(N6:N6>0,VLOOKUP(N6,Insc.!$A$1:$J$972,3,FALSE),"") -> PAULO Y. | Q6: =IF(N6:N6>0,VLOOKUP(N6,Insc.!$A$1:$J$972,4,FALSE),"") -> M | R6: =IF(N6:N6>0,VLOOKUP(N6,Insc.!$A$1:$J$972,5,FALSE),"") -> 11. NCC | S6: =IF(N6:N6>0,VLOOKUP(N6,Insc.!$A$1:$J$972,6,FALSE),"") -> 23165 | T6: =IF(N6:N6>0,VLOOKUP(N6,Insc.!$A$1:$J$972,7,FALSE),"") -> 2 | U6: =IF(N6:N6>0,VLOOKUP(N6,Insc.!$A$1:$J$972,8,FALSE),"") -> EX-NSR | V6: =IF(N6:N6>0,VLOOKUP(N6,Insc.!$A$1:$J$972,9,FALSE),"") -> LIB2026 | W6: =IF(N6:N6>0,VLOOKUP(N6,Insc.!$A$1:$J$972,10,FALSE),"") -> 0 | X6: 489 | Y6: =IF(X6:X6>0,VLOOKUP(X6,Insc.!$A$1:$J$972,2,FALSE),"") -> TOGO | Z6: =IF(X6:X6>0,VLOOKUP(X6,Insc.!$A$1:$J$972,3,FALSE),"") -> NARIKO | AA6: =IF(X6:X6>0,VLOOKUP(X6,Insc.!$A$1:$J$972,4,FALSE),"") -> F | AB6: =IF(X6:X6>0,VLOOKUP(X6,Insc.!$A$1:$J$972,5,FALSE),"") -> 07. GSP | AC6: =IF(X6:X6>0,VLOOKUP(X6,Insc.!$A$1:$J$972,6,FALSE),"") -> 18327 | AD6: =IF(X6:X6>0,VLOOKUP(X6,Insc.!$A$1:$J$972,7,FALSE),"") -> 4 | AE6: =IF(X6:X6>0,VLOOKUP(X6,Insc.!$A$1:$J$972,8,FALSE),"") -> A-SR | AF6: =IF(X6:X6>0,VLOOKUP(X6,Insc.!$A$1:$J$972,9,FALSE),"") -> LIB2026 | AG6: =IF(X6:X6>0,VLOOKUP(X6,Insc.!$A$1:$J$972,10,FALSE),"") -> 0 | AH6: 472 | AI6: =IF(AH6:AH6>0,VLOOKUP(AH6,Insc.!$A$1:$J$972,2,FALSE),"") -> NAKANO | AJ6: =IF(AH6:AH6>0,VLOOKUP(AH6,Insc.!$A$1:$J$972,3,FALSE),"") -> MARIA LUCIA | AK6: =IF(AH6:AH6>0,VLOOKUP(AH6,Insc.!$A$1:$J$972,4,FALSE),"") -> F | AL6: =IF(AH6:AH6>0,VLOOKUP(AH6,Insc.!$A$1:$J$972,5,FALSE),"") -> 11. NCC | AM6: =IF(AH6:AH6>0,VLOOKUP(AH6,Insc.!$A$1:$J$972,6,FALSE),"") -> 18638 | AN6: =IF(AH6:AH6>0,VLOOKUP(AH6,Insc.!$A$1:$J$972,7,FALSE),"") -> 6 | AO6: =IF(AH6:AH6>0,VLOOKUP(AH6,Insc.!$A$1:$J$972,8,FALSE),"") -> A-SR | AP6: =IF(AH6:AH6>0,VLOOKUP(AH6,Insc.!$A$1:$J$972,9,FALSE),"") -> LIB2026 | AQ6: =IF(AH6:AH6>0,VLOOKUP(AH6,Insc.!$A$1:$J$972,10,FALSE),"") -> 0
A7: 107 | B7: 1 | C7: 7 | D7: 860 | E7: =IF(D7:D7>0,VLOOKUP(D7,Insc.!$A$1:$J$972,2,FALSE),"") -> MORI | F7: =IF(D7:D7>0,VLOOKUP(D7,Insc.!$A$1:$J$972,3,FALSE),"") -> TORAO | G7: =IF(D7:D7>0,VLOOKUP(D7,Insc.!$A$1:$J$972,4,FALSE),"") -> M | H7: =IF(D7:D7>0,VLOOKUP(D7,Insc.!$A$1:$J$972,5,FALSE),"") -> 15. BIR | I7: =IF(D7:D7>0,VLOOKUP(D7,Insc.!$A$1:$J$972,6,FALSE),"") -> 22977 | J7: =IF(D7:D7>0,VLOOKUP(D7,Insc.!$A$1:$J$972,7,FALSE),"") -> 2 | K7: =IF(D7:D7>0,VLOOKUP(D7,Insc.!$A$1:$J$972,8,FALSE),"") -> EX-NSR | L7: =IF(D7:D7>0,VLOOKUP(D7,Insc.!$A$1:$J$972,9,FALSE),"") -> LIB2026 | M7: =IF(D7:D7>0,VLOOKUP(D7,Insc.!$A$1:$J$972,10,FALSE),"") -> 0 | N7: 527 | O7: =IF(N7:N7>0,VLOOKUP(N7,Insc.!$A$1:$J$972,2,FALSE),"") -> KONDO | P7: =IF(N7:N7>0,VLOOKUP(N7,Insc.!$A$1:$J$972,3,FALSE),"") -> JORGE | Q7: =IF(N7:N7>0,VLOOKUP(N7,Insc.!$A$1:$J$972,4,FALSE),"") -> M | R7: =IF(N7:N7>0,VLOOKUP(N7,Insc.!$A$1:$J$972,5,FALSE),"") -> 12. COO | S7: =IF(N7:N7>0,VLOOKUP(N7,Insc.!$A$1:$J$972,6,FALSE),"") -> 16542 | T7: =IF(N7:N7>0,VLOOKUP(N7,Insc.!$A$1:$J$972,7,FALSE),"") -> 3 | U7: =IF(N7:N7>0,VLOOKUP(N7,Insc.!$A$1:$J$972,8,FALSE),"") -> EX-SR | V7: =IF(N7:N7>0,VLOOKUP(N7,Insc.!$A$1:$J$972,9,FALSE),"") -> LIB2026 | W7: =IF(N7:N7>0,VLOOKUP(N7,Insc.!$A$1:$J$972,10,FALSE),"") -> 0 | X7: 993 | Y7: =IF(X7:X7>0,VLOOKUP(X7,Insc.!$A$1:$J$972,2,FALSE),"") -> ABEMATSU | Z7: =IF(X7:X7>0,VLOOKUP(X7,Insc.!$A$1:$J$972,3,FALSE),"") -> KATSUYUKI | AA7: =IF(X7:X7>0,VLOOKUP(X7,Insc.!$A$1:$J$972,4,FALSE),"") -> M | AB7: =IF(X7:X7>0,VLOOKUP(X7,Insc.!$A$1:$J$972,5,FALSE),"") -> 07. GSP | AC7: =IF(X7:X7>0,VLOOKUP(X7,Insc.!$A$1:$J$972,6,FALSE),"") -> 17411 | AD7: =IF(X7:X7>0,VLOOKUP(X7,Insc.!$A$1:$J$972,7,FALSE),"") -> 5 | AE7: =IF(X7:X7>0,VLOOKUP(X7,Insc.!$A$1:$J$972,8,FALSE),"") -> A-SR | AF7: =IF(X7:X7>0,VLOOKUP(X7,Insc.!$A$1:$J$972,9,FALSE),"") -> LIB2026 | AG7: =IF(X7:X7>0,VLOOKUP(X7,Insc.!$A$1:$J$972,10,FALSE),"") -> 0 | AH7: 427 | AI7: =IF(AH7:AH7>0,VLOOKUP(AH7,Insc.!$A$1:$J$972,2,FALSE),"") -> HORITA | AJ7: =IF(AH7:AH7>0,VLOOKUP(AH7,Insc.!$A$1:$J$972,3,FALSE),"") -> SETSUOMI | AK7: =IF(AH7:AH7>0,VLOOKUP(AH7,Insc.!$A$1:$J$972,4,FALSE),"") -> M | AL7: =IF(AH7:AH7>0,VLOOKUP(AH7,Insc.!$A$1:$J$972,5,FALSE),"") -> 11. NCC | AM7: =IF(AH7:AH7>0,VLOOKUP(AH7,Insc.!$A$1:$J$972,6,FALSE),"") -> 16582 | AN7: =IF(AH7:AH7>0,VLOOKUP(AH7,Insc.!$A$1:$J$972,7,FALSE),"") -> 4 | AO7: =IF(AH7:AH7>0,VLOOKUP(AH7,Insc.!$A$1:$J$972,8,FALSE),"") -> A-SR | AP7: =IF(AH7:AH7>0,VLOOKUP(AH7,Insc.!$A$1:$J$972,9,FALSE),"") -> LIB2026 | AQ7: =IF(AH7:AH7>0,VLOOKUP(AH7,Insc.!$A$1:$J$972,10,FALSE),"") -> 0
A8: 108 | B8: 1 | C8: 8 | D8: 671 | E8: =IF(D8:D8>0,VLOOKUP(D8,Insc.!$A$1:$J$972,2,FALSE),"") -> OKAWARA | F8: =IF(D8:D8>0,VLOOKUP(D8,Insc.!$A$1:$J$972,3,FALSE),"") -> TOSHIO | G8: =IF(D8:D8>0,VLOOKUP(D8,Insc.!$A$1:$J$972,4,FALSE),"") -> M | H8: =IF(D8:D8>0,VLOOKUP(D8,Insc.!$A$1:$J$972,5,FALSE),"") -> 08. SMA | I8: =IF(D8:D8>0,VLOOKUP(D8,Insc.!$A$1:$J$972,6,FALSE),"") -> 24451 | J8: =IF(D8:D8>0,VLOOKUP(D8,Insc.!$A$1:$J$972,7,FALSE),"") -> 2 | K8: =IF(D8:D8>0,VLOOKUP(D8,Insc.!$A$1:$J$972,8,FALSE),"") -> EX-NSR | L8: =IF(D8:D8>0,VLOOKUP(D8,Insc.!$A$1:$J$972,9,FALSE),"") -> LIB2026 | M8: =IF(D8:D8>0,VLOOKUP(D8,Insc.!$A$1:$J$972,10,FALSE),"") -> 0 | N8: 434 | O8: =IF(N8:N8>0,VLOOKUP(N8,Insc.!$A$1:$J$972,2,FALSE),"") -> KATO | P8: =IF(N8:N8>0,VLOOKUP(N8,Insc.!$A$1:$J$972,3,FALSE),"") -> MASSAKAZU | Q8: =IF(N8:N8>0,VLOOKUP(N8,Insc.!$A$1:$J$972,4,FALSE),"") -> M | R8: =IF(N8:N8>0,VLOOKUP(N8,Insc.!$A$1:$J$972,5,FALSE),"") -> 01. PIE | S8: =IF(N8:N8>0,VLOOKUP(N8,Insc.!$A$1:$J$972,6,FALSE),"") -> 15/07/1960 | T8: =IF(N8:N8>0,VLOOKUP(N8,Insc.!$A$1:$J$972,7,FALSE),"") -> 4 | U8: =IF(N8:N8>0,VLOOKUP(N8,Insc.!$A$1:$J$972,8,FALSE),"") -> A-NSR | V8: =IF(N8:N8>0,VLOOKUP(N8,Insc.!$A$1:$J$972,9,FALSE),"") -> LIB2026 | W8: =IF(N8:N8>0,VLOOKUP(N8,Insc.!$A$1:$J$972,10,FALSE),"") -> 0 | X8: 690 | Y8: =IF(X8:X8>0,VLOOKUP(X8,Insc.!$A$1:$J$972,2,FALSE),"") -> ITAGAKI | Z8: =IF(X8:X8>0,VLOOKUP(X8,Insc.!$A$1:$J$972,3,FALSE),"") -> MILTON NOBUHIRO | AA8: =IF(X8:X8>0,VLOOKUP(X8,Insc.!$A$1:$J$972,4,FALSE),"") -> M | AB8: =IF(X8:X8>0,VLOOKUP(X8,Insc.!$A$1:$J$972,5,FALSE),"") -> 11. NCC | AC8: =IF(X8:X8>0,VLOOKUP(X8,Insc.!$A$1:$J$972,6,FALSE),"") -> 22073 | AD8: =IF(X8:X8>0,VLOOKUP(X8,Insc.!$A$1:$J$972,7,FALSE),"") -> 5 | AE8: =IF(X8:X8>0,VLOOKUP(X8,Insc.!$A$1:$J$972,8,FALSE),"") -> A-NSR | AF8: =IF(X8:X8>0,VLOOKUP(X8,Insc.!$A$1:$J$972,9,FALSE),"") -> LIB2026 | AG8: =IF(X8:X8>0,VLOOKUP(X8,Insc.!$A$1:$J$972,10,FALSE),"") -> 0 | AH8: 734 | AI8: =IF(AH8:AH8>0,VLOOKUP(AH8,Insc.!$A$1:$J$972,2,FALSE),"") -> NAKANO | AJ8: =IF(AH8:AH8>0,VLOOKUP(AH8,Insc.!$A$1:$J$972,3,FALSE),"") -> MARIO K. | AK8: =IF(AH8:AH8>0,VLOOKUP(AH8,Insc.!$A$1:$J$972,4,FALSE),"") -> M | AL8: =IF(AH8:AH8>0,VLOOKUP(AH8,Insc.!$A$1:$J$972,5,FALSE),"") -> 11. NCC | AM8: =IF(AH8:AH8>0,VLOOKUP(AH8,Insc.!$A$1:$J$972,6,FALSE),"") -> 18534 | AN8: =IF(AH8:AH8>0,VLOOKUP(AH8,Insc.!$A$1:$J$972,7,FALSE),"") -> 5 | AO8: =IF(AH8:AH8>0,VLOOKUP(AH8,Insc.!$A$1:$J$972,8,FALSE),"") -> A-SR | AP8: =IF(AH8:AH8>0,VLOOKUP(AH8,Insc.!$A$1:$J$972,9,FALSE),"") -> LIB2026 | AQ8: =IF(AH8:AH8>0,VLOOKUP(AH8,Insc.!$A$1:$J$972,10,FALSE),"") -> 0
A9: 109 | B9: 1 | C9: 9 | D9: 170 | E9: =IF(D9:D9>0,VLOOKUP(D9,Insc.!$A$1:$J$972,2,FALSE),"") -> YAMAKAWA | F9: =IF(D9:D9>0,VLOOKUP(D9,Insc.!$A$1:$J$972,3,FALSE),"") -> YOCHINOBU | G9: =IF(D9:D9>0,VLOOKUP(D9,Insc.!$A$1:$J$972,4,FALSE),"") -> M | H9: =IF(D9:D9>0,VLOOKUP(D9,Insc.!$A$1:$J$972,5,FALSE),"") -> 11. NCC | I9: =IF(D9:D9>0,VLOOKUP(D9,Insc.!$A$1:$J$972,6,FALSE),"") -> 17962 | J9: =IF(D9:D9>0,VLOOKUP(D9,Insc.!$A$1:$J$972,7,FALSE),"") -> 2 | K9: =IF(D9:D9>0,VLOOKUP(D9,Insc.!$A$1:$J$972,8,FALSE),"") -> EX-SR | L9: =IF(D9:D9>0,VLOOKUP(D9,Insc.!$A$1:$J$972,9,FALSE),"") -> LIB2026 | M9: =IF(D9:D9>0,VLOOKUP(D9,Insc.!$A$1:$J$972,10,FALSE),"") -> 0 | N9: 216 | O9: =IF(N9:N9>0,VLOOKUP(N9,Insc.!$A$1:$J$972,2,FALSE),"") -> ADATI | P9: =IF(N9:N9>0,VLOOKUP(N9,Insc.!$A$1:$J$972,3,FALSE),"") -> MARCIO SHIGUEO | Q9: =IF(N9:N9>0,VLOOKUP(N9,Insc.!$A$1:$J$972,4,FALSE),"") -> M | R9: =IF(N9:N9>0,VLOOKUP(N9,Insc.!$A$1:$J$972,5,FALSE),"") -> 10. ITA | S9: =IF(N9:N9>0,VLOOKUP(N9,Insc.!$A$1:$J$972,6,FALSE),"") -> 21219 | T9: =IF(N9:N9>0,VLOOKUP(N9,Insc.!$A$1:$J$972,7,FALSE),"") -> 2 | U9: =IF(N9:N9>0,VLOOKUP(N9,Insc.!$A$1:$J$972,8,FALSE),"") -> EX-NSR | V9: =IF(N9:N9>0,VLOOKUP(N9,Insc.!$A$1:$J$972,9,FALSE),"") -> LIB2026 | W9: =IF(N9:N9>0,VLOOKUP(N9,Insc.!$A$1:$J$972,10,FALSE),"") -> 0 | X9: 326 | Y9: =IF(X9:X9>0,VLOOKUP(X9,Insc.!$A$1:$J$972,2,FALSE),"") -> ISHII | Z9: =IF(X9:X9>0,VLOOKUP(X9,Insc.!$A$1:$J$972,3,FALSE),"") -> ROBERTO | AA9: =IF(X9:X9>0,VLOOKUP(X9,Insc.!$A$1:$J$972,4,FALSE),"") -> M | AB9: =IF(X9:X9>0,VLOOKUP(X9,Insc.!$A$1:$J$972,5,FALSE),"") -> 11. NCC | AC9: =IF(X9:X9>0,VLOOKUP(X9,Insc.!$A$1:$J$972,6,FALSE),"") -> 19545 | AD9: =IF(X9:X9>0,VLOOKUP(X9,Insc.!$A$1:$J$972,7,FALSE),"") -> 6 | AE9: =IF(X9:X9>0,VLOOKUP(X9,Insc.!$A$1:$J$972,8,FALSE),"") -> A-NSR | AF9: =IF(X9:X9>0,VLOOKUP(X9,Insc.!$A$1:$J$972,9,FALSE),"") -> LIB2026 | AG9: =IF(X9:X9>0,VLOOKUP(X9,Insc.!$A$1:$J$972,10,FALSE),"") -> 0 | AH9: 875 | AI9: =IF(AH9:AH9>0,VLOOKUP(AH9,Insc.!$A$1:$J$972,2,FALSE),"") -> KAWASAKA | AJ9: =IF(AH9:AH9>0,VLOOKUP(AH9,Insc.!$A$1:$J$972,3,FALSE),"") -> M. INES KINUKO | AK9: =IF(AH9:AH9>0,VLOOKUP(AH9,Insc.!$A$1:$J$972,4,FALSE),"") -> F | AL9: =IF(AH9:AH9>0,VLOOKUP(AH9,Insc.!$A$1:$J$972,5,FALSE),"") -> 07. GSP | AM9: =IF(AH9:AH9>0,VLOOKUP(AH9,Insc.!$A$1:$J$972,6,FALSE),"") -> 18296 | AN9: =IF(AH9:AH9>0,VLOOKUP(AH9,Insc.!$A$1:$J$972,7,FALSE),"") -> 6 | AO9: =IF(AH9:AH9>0,VLOOKUP(AH9,Insc.!$A$1:$J$972,8,FALSE),"") -> A-SR | AP9: =IF(AH9:AH9>0,VLOOKUP(AH9,Insc.!$A$1:$J$972,9,FALSE),"") -> LIB2026 | AQ9: =IF(AH9:AH9>0,VLOOKUP(AH9,Insc.!$A$1:$J$972,10,FALSE),"") -> 0
A10: 110 | B10: 1 | C10: 10 | D10: 270 | E10: =IF(D10:D10>0,VLOOKUP(D10,Insc.!$A$1:$J$972,2,FALSE),"") -> NOZAWA | F10: =IF(D10:D10>0,VLOOKUP(D10,Insc.!$A$1:$J$972,3,FALSE),"") -> ASSAMI | G10: =IF(D10:D10>0,VLOOKUP(D10,Insc.!$A$1:$J$972,4,FALSE),"") -> F | H10: =IF(D10:D10>0,VLOOKUP(D10,Insc.!$A$1:$J$972,5,FALSE),"") -> 06. KOK | I10: =IF(D10:D10>0,VLOOKUP(D10,Insc.!$A$1:$J$972,6,FALSE),"") -> 23351 | J10: =IF(D10:D10>0,VLOOKUP(D10,Insc.!$A$1:$J$972,7,FALSE),"") -> 12 | K10: =IF(D10:D10>0,VLOOKUP(D10,Insc.!$A$1:$J$972,8,FALSE),"") -> C-NSR | L10: =IF(D10:D10>0,VLOOKUP(D10,Insc.!$A$1:$J$972,9,FALSE),"") -> LIB2026 | M10: =IF(D10:D10>0,VLOOKUP(D10,Insc.!$A$1:$J$972,10,FALSE),"") -> 0 | N10: 749 | O10: =IF(N10:N10>0,VLOOKUP(N10,Insc.!$A$1:$J$972,2,FALSE),"") -> HIRANO | P10: =IF(N10:N10>0,VLOOKUP(N10,Insc.!$A$1:$J$972,3,FALSE),"") -> KAZUNORI | Q10: =IF(N10:N10>0,VLOOKUP(N10,Insc.!$A$1:$J$972,4,FALSE),"") -> M | R10: =IF(N10:N10>0,VLOOKUP(N10,Insc.!$A$1:$J$972,5,FALSE),"") -> 15. BIR | S10: =IF(N10:N10>0,VLOOKUP(N10,Insc.!$A$1:$J$972,6,FALSE),"") -> 16804 | T10: =IF(N10:N10>0,VLOOKUP(N10,Insc.!$A$1:$J$972,7,FALSE),"") -> 8 | U10: =IF(N10:N10>0,VLOOKUP(N10,Insc.!$A$1:$J$972,8,FALSE),"") -> B-SR | V10: =IF(N10:N10>0,VLOOKUP(N10,Insc.!$A$1:$J$972,9,FALSE),"") -> LIB2026 | W10: =IF(N10:N10>0,VLOOKUP(N10,Insc.!$A$1:$J$972,10,FALSE),"") -> 0 | X10: 770 | Y10: =IF(X10:X10>0,VLOOKUP(X10,Insc.!$A$1:$J$972,2,FALSE),"") -> MATSUI | Z10: =IF(X10:X10>0,VLOOKUP(X10,Insc.!$A$1:$J$972,3,FALSE),"") -> SERGIO KIYOSHI | AA10: =IF(X10:X10>0,VLOOKUP(X10,Insc.!$A$1:$J$972,4,FALSE),"") -> M | AB10: =IF(X10:X10>0,VLOOKUP(X10,Insc.!$A$1:$J$972,5,FALSE),"") -> 07. GSP | AC10: =IF(X10:X10>0,VLOOKUP(X10,Insc.!$A$1:$J$972,6,FALSE),"") -> 21525 | AD10: =IF(X10:X10>0,VLOOKUP(X10,Insc.!$A$1:$J$972,7,FALSE),"") -> 12 | AE10: =IF(X10:X10>0,VLOOKUP(X10,Insc.!$A$1:$J$972,8,FALSE),"") -> C-NSR | AF10: =IF(X10:X10>0,VLOOKUP(X10,Insc.!$A$1:$J$972,9,FALSE),"") -> LIB2026 | AG10: =IF(X10:X10>0,VLOOKUP(X10,Insc.!$A$1:$J$972,10,FALSE),"") -> 0 | AH10: 714 | AI10: =IF(AH10:AH10>0,VLOOKUP(AH10,Insc.!$A$1:$J$972,2,FALSE),"") -> MARTINS DE MELLO | AJ10: =IF(AH10:AH10>0,VLOOKUP(AH10,Insc.!$A$1:$J$972,3,FALSE),"") -> VANESSA | AK10: =IF(AH10:AH10>0,VLOOKUP(AH10,Insc.!$A$1:$J$972,4,FALSE),"") -> F | AL10: =IF(AH10:AH10>0,VLOOKUP(AH10,Insc.!$A$1:$J$972,5,FALSE),"") -> 06. KOK | AM10: =IF(AH10:AH10>0,VLOOKUP(AH10,Insc.!$A$1:$J$972,6,FALSE),"") -> 28169 | AN10: =IF(AH10:AH10>0,VLOOKUP(AH10,Insc.!$A$1:$J$972,7,FALSE),"") -> 12 | AO10: =IF(AH10:AH10>0,VLOOKUP(AH10,Insc.!$A$1:$J$972,8,FALSE),"") -> C-NSR | AP10: =IF(AH10:AH10>0,VLOOKUP(AH10,Insc.!$A$1:$J$972,9,FALSE),"") -> LIB2026 | AQ10: =IF(AH10:AH10>0,VLOOKUP(AH10,Insc.!$A$1:$J$972,10,FALSE),"") -> 0
A11: 111 | B11: 1 | C11: 11 | D11: 768 | E11: =IF(D11:D11>0,VLOOKUP(D11,Insc.!$A$1:$J$972,2,FALSE),"") -> SATO | F11: =IF(D11:D11>0,VLOOKUP(D11,Insc.!$A$1:$J$972,3,FALSE),"") -> NOBUO | G11: =IF(D11:D11>0,VLOOKUP(D11,Insc.!$A$1:$J$972,4,FALSE),"") -> M | H11: =IF(D11:D11>0,VLOOKUP(D11,Insc.!$A$1:$J$972,5,FALSE),"") -> 06. KOK | I11: =IF(D11:D11>0,VLOOKUP(D11,Insc.!$A$1:$J$972,6,FALSE),"") -> 16524 | J11: =IF(D11:D11>0,VLOOKUP(D11,Insc.!$A$1:$J$972,7,FALSE),"") -> 9 | K11: =IF(D11:D11>0,VLOOKUP(D11,Insc.!$A$1:$J$972,8,FALSE),"") -> B-SR | L11: =IF(D11:D11>0,VLOOKUP(D11,Insc.!$A$1:$J$972,9,FALSE),"") -> LIB2026 | M11: =IF(D11:D11>0,VLOOKUP(D11,Insc.!$A$1:$J$972,10,FALSE),"") -> 0 | N11: 765 | O11: =IF(N11:N11>0,VLOOKUP(N11,Insc.!$A$1:$J$972,2,FALSE),"") -> FUJIMOTO YAMANO | P11: =IF(N11:N11>0,VLOOKUP(N11,Insc.!$A$1:$J$972,3,FALSE),"") -> LAURA | Q11: =IF(N11:N11>0,VLOOKUP(N11,Insc.!$A$1:$J$972,4,FALSE),"") -> F | R11: =IF(N11:N11>0,VLOOKUP(N11,Insc.!$A$1:$J$972,5,FALSE),"") -> 03. IBI | S11: =IF(N11:N11>0,VLOOKUP(N11,Insc.!$A$1:$J$972,6,FALSE),"") -> 18195 | T11: =IF(N11:N11>0,VLOOKUP(N11,Insc.!$A$1:$J$972,7,FALSE),"") -> 9 | U11: =IF(N11:N11>0,VLOOKUP(N11,Insc.!$A$1:$J$972,8,FALSE),"") -> B-SR | V11: =IF(N11:N11>0,VLOOKUP(N11,Insc.!$A$1:$J$972,9,FALSE),"") -> LIB2026 | W11: =IF(N11:N11>0,VLOOKUP(N11,Insc.!$A$1:$J$972,10,FALSE),"") -> 0 | X11: 696 | Y11: =IF(X11:X11>0,VLOOKUP(X11,Insc.!$A$1:$J$972,2,FALSE),"") -> M. SILVA YADOYA | Z11: =IF(X11:X11>0,VLOOKUP(X11,Insc.!$A$1:$J$972,3,FALSE),"") -> ROSILEIDE | AA11: =IF(X11:X11>0,VLOOKUP(X11,Insc.!$A$1:$J$972,4,FALSE),"") -> F | AB11: =IF(X11:X11>0,VLOOKUP(X11,Insc.!$A$1:$J$972,5,FALSE),"") -> 07. GSP | AC11: =IF(X11:X11>0,VLOOKUP(X11,Insc.!$A$1:$J$972,6,FALSE),"") -> 26071 | AD11: =IF(X11:X11>0,VLOOKUP(X11,Insc.!$A$1:$J$972,7,FALSE),"") -> 12 | AE11: =IF(X11:X11>0,VLOOKUP(X11,Insc.!$A$1:$J$972,8,FALSE),"") -> C-NSR | AF11: =IF(X11:X11>0,VLOOKUP(X11,Insc.!$A$1:$J$972,9,FALSE),"") -> LIB2026 | AG11: =IF(X11:X11>0,VLOOKUP(X11,Insc.!$A$1:$J$972,10,FALSE),"") -> 0 | AH11: 735 | AI11: =IF(AH11:AH11>0,VLOOKUP(AH11,Insc.!$A$1:$J$972,2,FALSE),"") -> BARBOSA DE LIMA | AJ11: =IF(AH11:AH11>0,VLOOKUP(AH11,Insc.!$A$1:$J$972,3,FALSE),"") -> JOSE HILTON | AK11: =IF(AH11:AH11>0,VLOOKUP(AH11,Insc.!$A$1:$J$972,4,FALSE),"") -> M | AL11: =IF(AH11:AH11>0,VLOOKUP(AH11,Insc.!$A$1:$J$972,5,FALSE),"") -> 18. SOR | AM11: =IF(AH11:AH11>0,VLOOKUP(AH11,Insc.!$A$1:$J$972,6,FALSE),"") -> 24988 | AN11: =IF(AH11:AH11>0,VLOOKUP(AH11,Insc.!$A$1:$J$972,7,FALSE),"") -> 12 | AO11: =IF(AH11:AH11>0,VLOOKUP(AH11,Insc.!$A$1:$J$972,8,FALSE),"") -> C-NSR | AP11: =IF(AH11:AH11>0,VLOOKUP(AH11,Insc.!$A$1:$J$972,9,FALSE),"") -> LIB2026 | AQ11: =IF(AH11:AH11>0,VLOOKUP(AH11,Insc.!$A$1:$J$972,10,FALSE),"") -> 0
A12: 112 | B12: 1 | C12: 12 | D12: 292 | E12: =IF(D12:D12>0,VLOOKUP(D12,Insc.!$A$1:$J$972,2,FALSE),"") -> OKADA | F12: =IF(D12:D12>0,VLOOKUP(D12,Insc.!$A$1:$J$972,3,FALSE),"") -> OLIMPIO | G12: =IF(D12:D12>0,VLOOKUP(D12,Insc.!$A$1:$J$972,4,FALSE),"") -> M | H12: =IF(D12:D12>0,VLOOKUP(D12,Insc.!$A$1:$J$972,5,FALSE),"") -> 11. NCC | I12: =IF(D12:D12>0,VLOOKUP(D12,Insc.!$A$1:$J$972,6,FALSE),"") -> 19194 | J12: =IF(D12:D12>0,VLOOKUP(D12,Insc.!$A$1:$J$972,7,FALSE),"") -> 0 | K12: =IF(D12:D12>0,VLOOKUP(D12,Insc.!$A$1:$J$972,8,FALSE),"") -> EX-NSR | L12: =IF(D12:D12>0,VLOOKUP(D12,Insc.!$A$1:$J$972,9,FALSE),"") -> LIB2026 | M12: =IF(D12:D12>0,VLOOKUP(D12,Insc.!$A$1:$J$972,10,FALSE),"") -> 0 | N12: 676 | O12: =IF(N12:N12>0,VLOOKUP(N12,Insc.!$A$1:$J$972,2,FALSE),"") -> OKAWARA | P12: =IF(N12:N12>0,VLOOKUP(N12,Insc.!$A$1:$J$972,3,FALSE),"") -> SUMIRE | Q12: =IF(N12:N12>0,VLOOKUP(N12,Insc.!$A$1:$J$972,4,FALSE),"") -> F | R12: =IF(N12:N12>0,VLOOKUP(N12,Insc.!$A$1:$J$972,5,FALSE),"") -> 08. SMA | S12: =IF(N12:N12>0,VLOOKUP(N12,Insc.!$A$1:$J$972,6,FALSE),"") -> 23722 | T12: =IF(N12:N12>0,VLOOKUP(N12,Insc.!$A$1:$J$972,7,FALSE),"") -> 4 | U12: =IF(N12:N12>0,VLOOKUP(N12,Insc.!$A$1:$J$972,8,FALSE),"") -> A-NSR | V12: =IF(N12:N12>0,VLOOKUP(N12,Insc.!$A$1:$J$972,9,FALSE),"") -> LIB2026 | W12: =IF(N12:N12>0,VLOOKUP(N12,Insc.!$A$1:$J$972,10,FALSE),"") -> 0 | X12: 579 | Y12: =IF(X12:X12>0,VLOOKUP(X12,Insc.!$A$1:$J$972,2,FALSE),"") -> HITOMI | Z12: =IF(X12:X12>0,VLOOKUP(X12,Insc.!$A$1:$J$972,3,FALSE),"") -> ITIRO | AA12: =IF(X12:X12>0,VLOOKUP(X12,Insc.!$A$1:$J$972,4,FALSE),"") -> M | AB12: =IF(X12:X12>0,VLOOKUP(X12,Insc.!$A$1:$J$972,5,FALSE),"") -> 03. IBI | AC12: =IF(X12:X12>0,VLOOKUP(X12,Insc.!$A$1:$J$972,6,FALSE),"") -> 16522 | AD12: =IF(X12:X12>0,VLOOKUP(X12,Insc.!$A$1:$J$972,7,FALSE),"") -> 6 | AE12: =IF(X12:X12>0,VLOOKUP(X12,Insc.!$A$1:$J$972,8,FALSE),"") -> A-SR | AF12: =IF(X12:X12>0,VLOOKUP(X12,Insc.!$A$1:$J$972,9,FALSE),"") -> LIB2026 | AG12: =IF(X12:X12>0,VLOOKUP(X12,Insc.!$A$1:$J$972,10,FALSE),"") -> 0 | AH12: 155 | AI12: =IF(AH12:AH12>0,VLOOKUP(AH12,Insc.!$A$1:$J$972,2,FALSE),"") -> HASHIZUME | AJ12: =IF(AH12:AH12>0,VLOOKUP(AH12,Insc.!$A$1:$J$972,3,FALSE),"") -> AKIKO | AK12: =IF(AH12:AH12>0,VLOOKUP(AH12,Insc.!$A$1:$J$972,4,FALSE),"") -> F | AL12: =IF(AH12:AH12>0,VLOOKUP(AH12,Insc.!$A$1:$J$972,5,FALSE),"") -> 06. KOK | AM12: =IF(AH12:AH12>0,VLOOKUP(AH12,Insc.!$A$1:$J$972,6,FALSE),"") -> 18684 | AN12: =IF(AH12:AH12>0,VLOOKUP(AH12,Insc.!$A$1:$J$972,7,FALSE),"") -> 6 | AO12: =IF(AH12:AH12>0,VLOOKUP(AH12,Insc.!$A$1:$J$972,8,FALSE),"") -> A-SR | AP12: =IF(AH12:AH12>0,VLOOKUP(AH12,Insc.!$A$1:$J$972,9,FALSE),"") -> LIB2026 | AQ12: =IF(AH12:AH12>0,VLOOKUP(AH12,Insc.!$A$1:$J$972,10,FALSE),"") -> 0
A13: 113 | B13: 1 | C13: 13 | D13: 141 | E13: =IF(D13:D13>0,VLOOKUP(D13,Insc.!$A$1:$J$972,2,FALSE),"") -> HASHIZUME | F13: =IF(D13:D13>0,VLOOKUP(D13,Insc.!$A$1:$J$972,3,FALSE),"") -> AKIO | G13: =IF(D13:D13>0,VLOOKUP(D13,Insc.!$A$1:$J$972,4,FALSE),"") -> M | H13: =IF(D13:D13>0,VLOOKUP(D13,Insc.!$A$1:$J$972,5,FALSE),"") -> 06. KOK | I13: =IF(D13:D13>0,VLOOKUP(D13,Insc.!$A$1:$J$972,6,FALSE),"") -> 16851 | J13: =IF(D13:D13>0,VLOOKUP(D13,Insc.!$A$1:$J$972,7,FALSE),"") -> 6 | K13: =IF(D13:D13>0,VLOOKUP(D13,Insc.!$A$1:$J$972,8,FALSE),"") -> A-SR | L13: =IF(D13:D13>0,VLOOKUP(D13,Insc.!$A$1:$J$972,9,FALSE),"") -> LIB2026 | M13: =IF(D13:D13>0,VLOOKUP(D13,Insc.!$A$1:$J$972,10,FALSE),"") -> 0 | N13: 129 | O13: =IF(N13:N13>0,VLOOKUP(N13,Insc.!$A$1:$J$972,2,FALSE),"") -> YAMAKAWA | P13: =IF(N13:N13>0,VLOOKUP(N13,Insc.!$A$1:$J$972,3,FALSE),"") -> TAKAO | Q13: =IF(N13:N13>0,VLOOKUP(N13,Insc.!$A$1:$J$972,4,FALSE),"") -> M | R13: =IF(N13:N13>0,VLOOKUP(N13,Insc.!$A$1:$J$972,5,FALSE),"") -> 11. NCC | S13: =IF(N13:N13>0,VLOOKUP(N13,Insc.!$A$1:$J$972,6,FALSE),"") -> 16818 | T13: =IF(N13:N13>0,VLOOKUP(N13,Insc.!$A$1:$J$972,7,FALSE),"") -> 6 | U13: =IF(N13:N13>0,VLOOKUP(N13,Insc.!$A$1:$J$972,8,FALSE),"") -> A-SR | V13: =IF(N13:N13>0,VLOOKUP(N13,Insc.!$A$1:$J$972,9,FALSE),"") -> LIB2026 | W13: =IF(N13:N13>0,VLOOKUP(N13,Insc.!$A$1:$J$972,10,FALSE),"") -> 0 | X13: 250 | Y13: =IF(X13:X13>0,VLOOKUP(X13,Insc.!$A$1:$J$972,2,FALSE),"") -> OSADA | Z13: =IF(X13:X13>0,VLOOKUP(X13,Insc.!$A$1:$J$972,3,FALSE),"") -> ASAO | AA13: =IF(X13:X13>0,VLOOKUP(X13,Insc.!$A$1:$J$972,4,FALSE),"") -> M | AB13: =IF(X13:X13>0,VLOOKUP(X13,Insc.!$A$1:$J$972,5,FALSE),"") -> 18. SOR | AC13: =IF(X13:X13>0,VLOOKUP(X13,Insc.!$A$1:$J$972,6,FALSE),"") -> 13681 | AD13: =IF(X13:X13>0,VLOOKUP(X13,Insc.!$A$1:$J$972,7,FALSE),"") -> 6 | AE13: =IF(X13:X13>0,VLOOKUP(X13,Insc.!$A$1:$J$972,8,FALSE),"") -> A-MR | AF13: =IF(X13:X13>0,VLOOKUP(X13,Insc.!$A$1:$J$972,9,FALSE),"") -> LIB2026 | AG13: =IF(X13:X13>0,VLOOKUP(X13,Insc.!$A$1:$J$972,10,FALSE),"") -> 0 | AI13: =IF(AH13:AH13>0,VLOOKUP(AH13,Insc.!$A$1:$J$972,2,FALSE),"") | AJ13: =IF(AH13:AH13>0,VLOOKUP(AH13,Insc.!$A$1:$J$972,3,FALSE),"") | AK13: =IF(AH13:AH13>0,VLOOKUP(AH13,Insc.!$A$1:$J$972,4,FALSE),"") | AL13: =IF(AH13:AH13>0,VLOOKUP(AH13,Insc.!$A$1:$J$972,5,FALSE),"") | AM13: =IF(AH13:AH13>0,VLOOKUP(AH13,Insc.!$A$1:$J$972,6,FALSE),"") | AN13: =IF(AH13:AH13>0,VLOOKUP(AH13,Insc.!$A$1:$J$972,7,FALSE),"") | AO13: =IF(AH13:AH13>0,VLOOKUP(AH13,Insc.!$A$1:$J$972,8,FALSE),"") | AP13: =IF(AH13:AH13>0,VLOOKUP(AH13,Insc.!$A$1:$J$972,9,FALSE),"") | AQ13: =IF(AH13:AH13>0,VLOOKUP(AH13,Insc.!$A$1:$J$972,10,FALSE),"")
A14: 114 | B14: 1 | C14: 14 | D14: 375 | E14: =IF(D14:D14>0,VLOOKUP(D14,Insc.!$A$1:$J$972,2,FALSE),"") -> KOJA | F14: =IF(D14:D14>0,VLOOKUP(D14,Insc.!$A$1:$J$972,3,FALSE),"") -> J. JORGE | G14: =IF(D14:D14>0,VLOOKUP(D14,Insc.!$A$1:$J$972,4,FALSE),"") -> M | H14: =IF(D14:D14>0,VLOOKUP(D14,Insc.!$A$1:$J$972,5,FALSE),"") -> 11. NCC | I14: =IF(D14:D14>0,VLOOKUP(D14,Insc.!$A$1:$J$972,6,FALSE),"") -> 16676 | J14: =IF(D14:D14>0,VLOOKUP(D14,Insc.!$A$1:$J$972,7,FALSE),"") -> 2 | K14: =IF(D14:D14>0,VLOOKUP(D14,Insc.!$A$1:$J$972,8,FALSE),"") -> EX-SR | L14: =IF(D14:D14>0,VLOOKUP(D14,Insc.!$A$1:$J$972,9,FALSE),"") -> LIB2026 | M14: =IF(D14:D14>0,VLOOKUP(D14,Insc.!$A$1:$J$972,10,FALSE),"") -> 0 | N14: 552 | O14: =IF(N14:N14>0,VLOOKUP(N14,Insc.!$A$1:$J$972,2,FALSE),"") -> NISHIOKA | P14: =IF(N14:N14>0,VLOOKUP(N14,Insc.!$A$1:$J$972,3,FALSE),"") -> LAYUDO | Q14: =IF(N14:N14>0,VLOOKUP(N14,Insc.!$A$1:$J$972,4,FALSE),"") -> M | R14: =IF(N14:N14>0,VLOOKUP(N14,Insc.!$A$1:$J$972,5,FALSE),"") -> 08. SMA | S14: =IF(N14:N14>0,VLOOKUP(N14,Insc.!$A$1:$J$972,6,FALSE),"") -> 25717 | T14: =IF(N14:N14>0,VLOOKUP(N14,Insc.!$A$1:$J$972,7,FALSE),"") -> 3 | U14: =IF(N14:N14>0,VLOOKUP(N14,Insc.!$A$1:$J$972,8,FALSE),"") -> EX-NSR | V14: =IF(N14:N14>0,VLOOKUP(N14,Insc.!$A$1:$J$972,9,FALSE),"") -> LIB2026 | W14: =IF(N14:N14>0,VLOOKUP(N14,Insc.!$A$1:$J$972,10,FALSE),"") -> 0 | X14: 834 | Y14: =IF(X14:X14>0,VLOOKUP(X14,Insc.!$A$1:$J$972,2,FALSE),"") -> YAMANO | Z14: =IF(X14:X14>0,VLOOKUP(X14,Insc.!$A$1:$J$972,3,FALSE),"") -> PAULO | AA14: =IF(X14:X14>0,VLOOKUP(X14,Insc.!$A$1:$J$972,4,FALSE),"") -> M | AB14: =IF(X14:X14>0,VLOOKUP(X14,Insc.!$A$1:$J$972,5,FALSE),"") -> 03. IBI | AC14: =IF(X14:X14>0,VLOOKUP(X14,Insc.!$A$1:$J$972,6,FALSE),"") -> 17828 | AD14: =IF(X14:X14>0,VLOOKUP(X14,Insc.!$A$1:$J$972,7,FALSE),"") -> 6 | AE14: =IF(X14:X14>0,VLOOKUP(X14,Insc.!$A$1:$J$972,8,FALSE),"") -> A-SR | AF14: =IF(X14:X14>0,VLOOKUP(X14,Insc.!$A$1:$J$972,9,FALSE),"") -> LIB2026 | AG14: =IF(X14:X14>0,VLOOKUP(X14,Insc.!$A$1:$J$972,10,FALSE),"") -> 0 | AI14: =IF(AH14:AH14>0,VLOOKUP(AH14,Insc.!$A$1:$J$972,2,FALSE),"") | AJ14: =IF(AH14:AH14>0,VLOOKUP(AH14,Insc.!$A$1:$J$972,3,FALSE),"") | AK14: =IF(AH14:AH14>0,VLOOKUP(AH14,Insc.!$A$1:$J$972,4,FALSE),"") | AL14: =IF(AH14:AH14>0,VLOOKUP(AH14,Insc.!$A$1:$J$972,5,FALSE),"") | AM14: =IF(AH14:AH14>0,VLOOKUP(AH14,Insc.!$A$1:$J$972,6,FALSE),"") | AN14: =IF(AH14:AH14>0,VLOOKUP(AH14,Insc.!$A$1:$J$972,7,FALSE),"") | AO14: =IF(AH14:AH14>0,VLOOKUP(AH14,Insc.!$A$1:$J$972,8,FALSE),"") | AP14: =IF(AH14:AH14>0,VLOOKUP(AH14,Insc.!$A$1:$J$972,9,FALSE),"") | AQ14: =IF(AH14:AH14>0,VLOOKUP(AH14,Insc.!$A$1:$J$972,10,FALSE),"")
A15: 115 | B15: 1 | C15: 15 | D15: 256 | E15: =IF(D15:D15>0,VLOOKUP(D15,Insc.!$A$1:$J$972,2,FALSE),"") -> UEMURA | F15: =IF(D15:D15>0,VLOOKUP(D15,Insc.!$A$1:$J$972,3,FALSE),"") -> YASUGI | G15: =IF(D15:D15>0,VLOOKUP(D15,Insc.!$A$1:$J$972,4,FALSE),"") -> M | H15: =IF(D15:D15>0,VLOOKUP(D15,Insc.!$A$1:$J$972,5,FALSE),"") -> 07. GSP | I15: =IF(D15:D15>0,VLOOKUP(D15,Insc.!$A$1:$J$972,6,FALSE),"") -> 15220 | J15: =IF(D15:D15>0,VLOOKUP(D15,Insc.!$A$1:$J$972,7,FALSE),"") -> 3 | K15: =IF(D15:D15>0,VLOOKUP(D15,Insc.!$A$1:$J$972,8,FALSE),"") -> EX-MR | L15: =IF(D15:D15>0,VLOOKUP(D15,Insc.!$A$1:$J$972,9,FALSE),"") -> LIB2026 | M15: =IF(D15:D15>0,VLOOKUP(D15,Insc.!$A$1:$J$972,10,FALSE),"") -> 0 | N15: 366 | O15: =IF(N15:N15>0,VLOOKUP(N15,Insc.!$A$1:$J$972,2,FALSE),"") -> KOJA | P15: =IF(N15:N15>0,VLOOKUP(N15,Insc.!$A$1:$J$972,3,FALSE),"") -> T.EDISON | Q15: =IF(N15:N15>0,VLOOKUP(N15,Insc.!$A$1:$J$972,4,FALSE),"") -> M | R15: =IF(N15:N15>0,VLOOKUP(N15,Insc.!$A$1:$J$972,5,FALSE),"") -> 11. NCC | S15: =IF(N15:N15>0,VLOOKUP(N15,Insc.!$A$1:$J$972,6,FALSE),"") -> 17495 | T15: =IF(N15:N15>0,VLOOKUP(N15,Insc.!$A$1:$J$972,7,FALSE),"") -> 4 | U15: =IF(N15:N15>0,VLOOKUP(N15,Insc.!$A$1:$J$972,8,FALSE),"") -> A-SR | V15: =IF(N15:N15>0,VLOOKUP(N15,Insc.!$A$1:$J$972,9,FALSE),"") -> LIB2026 | W15: =IF(N15:N15>0,VLOOKUP(N15,Insc.!$A$1:$J$972,10,FALSE),"") -> 0 | X15: 276 | Y15: =IF(X15:X15>0,VLOOKUP(X15,Insc.!$A$1:$J$972,2,FALSE),"") -> KUDO | Z15: =IF(X15:X15>0,VLOOKUP(X15,Insc.!$A$1:$J$972,3,FALSE),"") -> SHOJI | AA15: =IF(X15:X15>0,VLOOKUP(X15,Insc.!$A$1:$J$972,4,FALSE),"") -> M | AB15: =IF(X15:X15>0,VLOOKUP(X15,Insc.!$A$1:$J$972,5,FALSE),"") -> 06. KOK | AC15: =IF(X15:X15>0,VLOOKUP(X15,Insc.!$A$1:$J$972,6,FALSE),"") -> 13665 | AD15: =IF(X15:X15>0,VLOOKUP(X15,Insc.!$A$1:$J$972,7,FALSE),"") -> 6 | AE15: =IF(X15:X15>0,VLOOKUP(X15,Insc.!$A$1:$J$972,8,FALSE),"") -> A-MR | AF15: =IF(X15:X15>0,VLOOKUP(X15,Insc.!$A$1:$J$972,9,FALSE),"") -> LIB2026 | AG15: =IF(X15:X15>0,VLOOKUP(X15,Insc.!$A$1:$J$972,10,FALSE),"") -> 0 | AH15: 780 | AI15: =IF(AH15:AH15>0,VLOOKUP(AH15,Insc.!$A$1:$J$972,2,FALSE),"") -> TOMITA | AJ15: =IF(AH15:AH15>0,VLOOKUP(AH15,Insc.!$A$1:$J$972,3,FALSE),"") -> LUIZ | AK15: =IF(AH15:AH15>0,VLOOKUP(AH15,Insc.!$A$1:$J$972,4,FALSE),"") -> M | AL15: =IF(AH15:AH15>0,VLOOKUP(AH15,Insc.!$A$1:$J$972,5,FALSE),"") -> 15. BIR | AM15: =IF(AH15:AH15>0,VLOOKUP(AH15,Insc.!$A$1:$J$972,6,FALSE),"") -> 17710 | AN15: =IF(AH15:AH15>0,VLOOKUP(AH15,Insc.!$A$1:$J$972,7,FALSE),"") -> 6 | AO15: =IF(AH15:AH15>0,VLOOKUP(AH15,Insc.!$A$1:$J$972,8,FALSE),"") -> A-SR | AP15: =IF(AH15:AH15>0,VLOOKUP(AH15,Insc.!$A$1:$J$972,9,FALSE),"") -> LIB2026 | AQ15: =IF(AH15:AH15>0,VLOOKUP(AH15,Insc.!$A$1:$J$972,10,FALSE),"") -> 0
A16: 116 | B16: 1 | C16: 16 | D16: 578 | E16: =IF(D16:D16>0,VLOOKUP(D16,Insc.!$A$1:$J$972,2,FALSE),"") -> TAKAHASHI | F16: =IF(D16:D16>0,VLOOKUP(D16,Insc.!$A$1:$J$972,3,FALSE),"") -> EDSON SHOJI | G16: =IF(D16:D16>0,VLOOKUP(D16,Insc.!$A$1:$J$972,4,FALSE),"") -> M | H16: =IF(D16:D16>0,VLOOKUP(D16,Insc.!$A$1:$J$972,5,FALSE),"") -> 18. SOR | I16: =IF(D16:D16>0,VLOOKUP(D16,Insc.!$A$1:$J$972,6,FALSE),"") -> 27163 | J16: =IF(D16:D16>0,VLOOKUP(D16,Insc.!$A$1:$J$972,7,FALSE),"") -> 2 | K16: =IF(D16:D16>0,VLOOKUP(D16,Insc.!$A$1:$J$972,8,FALSE),"") -> EX-NSR | L16: =IF(D16:D16>0,VLOOKUP(D16,Insc.!$A$1:$J$972,9,FALSE),"") -> LIB2026 | M16: =IF(D16:D16>0,VLOOKUP(D16,Insc.!$A$1:$J$972,10,FALSE),"") -> 0 | N16: 478 | O16: =IF(N16:N16>0,VLOOKUP(N16,Insc.!$A$1:$J$972,2,FALSE),"") -> HIGUCHI | P16: =IF(N16:N16>0,VLOOKUP(N16,Insc.!$A$1:$J$972,3,FALSE),"") -> ARTUR KEN | Q16: =IF(N16:N16>0,VLOOKUP(N16,Insc.!$A$1:$J$972,4,FALSE),"") -> M | R16: =IF(N16:N16>0,VLOOKUP(N16,Insc.!$A$1:$J$972,5,FALSE),"") -> 11. NCC | S16: =IF(N16:N16>0,VLOOKUP(N16,Insc.!$A$1:$J$972,6,FALSE),"") -> 19959 | T16: =IF(N16:N16>0,VLOOKUP(N16,Insc.!$A$1:$J$972,7,FALSE),"") -> 3 | U16: =IF(N16:N16>0,VLOOKUP(N16,Insc.!$A$1:$J$972,8,FALSE),"") -> EX-NSR | V16: =IF(N16:N16>0,VLOOKUP(N16,Insc.!$A$1:$J$972,9,FALSE),"") -> LIB2026 | W16: =IF(N16:N16>0,VLOOKUP(N16,Insc.!$A$1:$J$972,10,FALSE),"") -> 0 | X16: 624 | Y16: =IF(X16:X16>0,VLOOKUP(X16,Insc.!$A$1:$J$972,2,FALSE),"") -> YOKOYAMA | Z16: =IF(X16:X16>0,VLOOKUP(X16,Insc.!$A$1:$J$972,3,FALSE),"") -> HIROSHI | AA16: =IF(X16:X16>0,VLOOKUP(X16,Insc.!$A$1:$J$972,4,FALSE),"") -> M | AB16: =IF(X16:X16>0,VLOOKUP(X16,Insc.!$A$1:$J$972,5,FALSE),"") -> 07. GSP | AC16: =IF(X16:X16>0,VLOOKUP(X16,Insc.!$A$1:$J$972,6,FALSE),"") -> 19283 | AD16: =IF(X16:X16>0,VLOOKUP(X16,Insc.!$A$1:$J$972,7,FALSE),"") -> 5 | AE16: =IF(X16:X16>0,VLOOKUP(X16,Insc.!$A$1:$J$972,8,FALSE),"") -> A-NSR | AF16: =IF(X16:X16>0,VLOOKUP(X16,Insc.!$A$1:$J$972,9,FALSE),"") -> LIB2026 | AG16: =IF(X16:X16>0,VLOOKUP(X16,Insc.!$A$1:$J$972,10,FALSE),"") -> 0 | AH16: 892 | AI16: =IF(AH16:AH16>0,VLOOKUP(AH16,Insc.!$A$1:$J$972,2,FALSE),"") -> FERREIRA SOUTO | AJ16: =IF(AH16:AH16>0,VLOOKUP(AH16,Insc.!$A$1:$J$972,3,FALSE),"") -> JOVENILIO | AK16: =IF(AH16:AH16>0,VLOOKUP(AH16,Insc.!$A$1:$J$972,4,FALSE),"") -> M | AL16: =IF(AH16:AH16>0,VLOOKUP(AH16,Insc.!$A$1:$J$972,5,FALSE),"") -> 16. SUM | AM16: =IF(AH16:AH16>0,VLOOKUP(AH16,Insc.!$A$1:$J$972,6,FALSE),"") -> 27041 | AN16: =IF(AH16:AH16>0,VLOOKUP(AH16,Insc.!$A$1:$J$972,7,FALSE),"") -> 5 | AO16: =IF(AH16:AH16>0,VLOOKUP(AH16,Insc.!$A$1:$J$972,8,FALSE),"") -> A-NSR | AP16: =IF(AH16:AH16>0,VLOOKUP(AH16,Insc.!$A$1:$J$972,9,FALSE),"") -> LIB2026 | AQ16: =IF(AH16:AH16>0,VLOOKUP(AH16,Insc.!$A$1:$J$972,10,FALSE),"") -> 0
A17: 117 | B17: 1 | C17: 17 | D17: 842 | E17: =IF(D17:D17>0,VLOOKUP(D17,Insc.!$A$1:$J$972,2,FALSE),"") -> T. NISHIKAWA | F17: =IF(D17:D17>0,VLOOKUP(D17,Insc.!$A$1:$J$972,3,FALSE),"") -> RUI | G17: =IF(D17:D17>0,VLOOKUP(D17,Insc.!$A$1:$J$972,4,FALSE),"") -> M | H17: =IF(D17:D17>0,VLOOKUP(D17,Insc.!$A$1:$J$972,5,FALSE),"") -> 11. NCC | I17: =IF(D17:D17>0,VLOOKUP(D17,Insc.!$A$1:$J$972,6,FALSE),"") -> 21731 | J17: =IF(D17:D17>0,VLOOKUP(D17,Insc.!$A$1:$J$972,7,FALSE),"") -> 3 | K17: =IF(D17:D17>0,VLOOKUP(D17,Insc.!$A$1:$J$972,8,FALSE),"") -> EX-NSR | L17: =IF(D17:D17>0,VLOOKUP(D17,Insc.!$A$1:$J$972,9,FALSE),"") -> LIB2026 | M17: =IF(D17:D17>0,VLOOKUP(D17,Insc.!$A$1:$J$972,10,FALSE),"") -> 0 | N17: 617 | O17: =IF(N17:N17>0,VLOOKUP(N17,Insc.!$A$1:$J$972,2,FALSE),"") -> DOKAN | P17: =IF(N17:N17>0,VLOOKUP(N17,Insc.!$A$1:$J$972,3,FALSE),"") -> CARLOS EIITI | Q17: =IF(N17:N17>0,VLOOKUP(N17,Insc.!$A$1:$J$972,4,FALSE),"") -> M | R17: =IF(N17:N17>0,VLOOKUP(N17,Insc.!$A$1:$J$972,5,FALSE),"") -> 01. PIE | S17: =IF(N17:N17>0,VLOOKUP(N17,Insc.!$A$1:$J$972,6,FALSE),"") -> 22800 | T17: =IF(N17:N17>0,VLOOKUP(N17,Insc.!$A$1:$J$972,7,FALSE),"") -> 4 | U17: =IF(N17:N17>0,VLOOKUP(N17,Insc.!$A$1:$J$972,8,FALSE),"") -> A-NSR | V17: =IF(N17:N17>0,VLOOKUP(N17,Insc.!$A$1:$J$972,9,FALSE),"") -> LIB2026 | W17: =IF(N17:N17>0,VLOOKUP(N17,Insc.!$A$1:$J$972,10,FALSE),"") -> 0 | X17: 903 | Y17: =IF(X17:X17>0,VLOOKUP(X17,Insc.!$A$1:$J$972,2,FALSE),"") -> NAGATA | Z17: =IF(X17:X17>0,VLOOKUP(X17,Insc.!$A$1:$J$972,3,FALSE),"") -> AROLDO KOJI | AA17: =IF(X17:X17>0,VLOOKUP(X17,Insc.!$A$1:$J$972,4,FALSE),"") -> M | AB17: =IF(X17:X17>0,VLOOKUP(X17,Insc.!$A$1:$J$972,5,FALSE),"") -> 12. COO | AC17: =IF(X17:X17>0,VLOOKUP(X17,Insc.!$A$1:$J$972,6,FALSE),"") -> 27807 | AD17: =IF(X17:X17>0,VLOOKUP(X17,Insc.!$A$1:$J$972,7,FALSE),"") -> 5 | AE17: =IF(X17:X17>0,VLOOKUP(X17,Insc.!$A$1:$J$972,8,FALSE),"") -> A-NSR | AF17: =IF(X17:X17>0,VLOOKUP(X17,Insc.!$A$1:$J$972,9,FALSE),"") -> LIB2026 | AG17: =IF(X17:X17>0,VLOOKUP(X17,Insc.!$A$1:$J$972,10,FALSE),"") -> 0 | AH17: 616 | AI17: =IF(AH17:AH17>0,VLOOKUP(AH17,Insc.!$A$1:$J$972,2,FALSE),"") -> MORITA | AJ17: =IF(AH17:AH17>0,VLOOKUP(AH17,Insc.!$A$1:$J$972,3,FALSE),"") -> IROKO | AK17: =IF(AH17:AH17>0,VLOOKUP(AH17,Insc.!$A$1:$J$972,4,FALSE),"") -> F | AL17: =IF(AH17:AH17>0,VLOOKUP(AH17,Insc.!$A$1:$J$972,5,FALSE),"") -> 07. GSP | AM17: =IF(AH17:AH17>0,VLOOKUP(AH17,Insc.!$A$1:$J$972,6,FALSE),"") -> 16580 | AN17: =IF(AH17:AH17>0,VLOOKUP(AH17,Insc.!$A$1:$J$972,7,FALSE),"") -> 6 | AO17: =IF(AH17:AH17>0,VLOOKUP(AH17,Insc.!$A$1:$J$972,8,FALSE),"") -> A-SR | AP17: =IF(AH17:AH17>0,VLOOKUP(AH17,Insc.!$A$1:$J$972,9,FALSE),"") -> LIB2026 | AQ17: =IF(AH17:AH17>0,VLOOKUP(AH17,Insc.!$A$1:$J$972,10,FALSE),"") -> 0
A18: 118 | B18: 1 | C18: 18 | D18: 929 | E18: =IF(D18:D18>0,VLOOKUP(D18,Insc.!$A$1:$J$972,2,FALSE),"") -> MATSUMOTO | F18: =IF(D18:D18>0,VLOOKUP(D18,Insc.!$A$1:$J$972,3,FALSE),"") -> ALESSANDRA A. | G18: =IF(D18:D18>0,VLOOKUP(D18,Insc.!$A$1:$J$972,4,FALSE),"") -> F | H18: =IF(D18:D18>0,VLOOKUP(D18,Insc.!$A$1:$J$972,5,FALSE),"") -> 11. NCC | I18: =IF(D18:D18>0,VLOOKUP(D18,Insc.!$A$1:$J$972,6,FALSE),"") -> 26932 | J18: =IF(D18:D18>0,VLOOKUP(D18,Insc.!$A$1:$J$972,7,FALSE),"") -> 3 | K18: =IF(D18:D18>0,VLOOKUP(D18,Insc.!$A$1:$J$972,8,FALSE),"") -> EX-NSR | L18: =IF(D18:D18>0,VLOOKUP(D18,Insc.!$A$1:$J$972,9,FALSE),"") -> LIB2026 | M18: =IF(D18:D18>0,VLOOKUP(D18,Insc.!$A$1:$J$972,10,FALSE),"") -> 0 | N18: 990 | O18: =IF(N18:N18>0,VLOOKUP(N18,Insc.!$A$1:$J$972,2,FALSE),"") -> CYRINEO | P18: =IF(N18:N18>0,VLOOKUP(N18,Insc.!$A$1:$J$972,3,FALSE),"") -> JORGE | Q18: =IF(N18:N18>0,VLOOKUP(N18,Insc.!$A$1:$J$972,4,FALSE),"") -> M | R18: =IF(N18:N18>0,VLOOKUP(N18,Insc.!$A$1:$J$972,5,FALSE),"") -> 10. ITA | S18: =IF(N18:N18>0,VLOOKUP(N18,Insc.!$A$1:$J$972,6,FALSE),"") -> 21169 | T18: =IF(N18:N18>0,VLOOKUP(N18,Insc.!$A$1:$J$972,7,FALSE),"") -> 5 | U18: =IF(N18:N18>0,VLOOKUP(N18,Insc.!$A$1:$J$972,8,FALSE),"") -> A-NSR | V18: =IF(N18:N18>0,VLOOKUP(N18,Insc.!$A$1:$J$972,9,FALSE),"") -> LIB2026 | W18: =IF(N18:N18>0,VLOOKUP(N18,Insc.!$A$1:$J$972,10,FALSE),"") -> 0 | X18: 850 | Y18: =IF(X18:X18>0,VLOOKUP(X18,Insc.!$A$1:$J$972,2,FALSE),"") -> OSHIRO | Z18: =IF(X18:X18>0,VLOOKUP(X18,Insc.!$A$1:$J$972,3,FALSE),"") -> TSUTOMU | AA18: =IF(X18:X18>0,VLOOKUP(X18,Insc.!$A$1:$J$972,4,FALSE),"") -> M | AB18: =IF(X18:X18>0,VLOOKUP(X18,Insc.!$A$1:$J$972,5,FALSE),"") -> 11. NCC | AC18: =IF(X18:X18>0,VLOOKUP(X18,Insc.!$A$1:$J$972,6,FALSE),"") -> 20900 | AD18: =IF(X18:X18>0,VLOOKUP(X18,Insc.!$A$1:$J$972,7,FALSE),"") -> 6 | AE18: =IF(X18:X18>0,VLOOKUP(X18,Insc.!$A$1:$J$972,8,FALSE),"") -> A-NSR | AF18: =IF(X18:X18>0,VLOOKUP(X18,Insc.!$A$1:$J$972,9,FALSE),"") -> LIB2026 | AG18: =IF(X18:X18>0,VLOOKUP(X18,Insc.!$A$1:$J$972,10,FALSE),"") -> 0 | AH18: 572 | AI18: =IF(AH18:AH18>0,VLOOKUP(AH18,Insc.!$A$1:$J$972,2,FALSE),"") -> TAKANO | AJ18: =IF(AH18:AH18>0,VLOOKUP(AH18,Insc.!$A$1:$J$972,3,FALSE),"") -> ELZA FARUYO | AK18: =IF(AH18:AH18>0,VLOOKUP(AH18,Insc.!$A$1:$J$972,4,FALSE),"") -> F | AL18: =IF(AH18:AH18>0,VLOOKUP(AH18,Insc.!$A$1:$J$972,5,FALSE),"") -> 07. GSP | AM18: =IF(AH18:AH18>0,VLOOKUP(AH18,Insc.!$A$1:$J$972,6,FALSE),"") -> 19929 | AN18: =IF(AH18:AH18>0,VLOOKUP(AH18,Insc.!$A$1:$J$972,7,FALSE),"") -> 6 | AO18: =IF(AH18:AH18>0,VLOOKUP(AH18,Insc.!$A$1:$J$972,8,FALSE),"") -> A-NSR | AP18: =IF(AH18:AH18>0,VLOOKUP(AH18,Insc.!$A$1:$J$972,9,FALSE),"") -> LIB2026 | AQ18: =IF(AH18:AH18>0,VLOOKUP(AH18,Insc.!$A$1:$J$972,10,FALSE),"") -> 0
A19: 201 | B19: 2 | C19: 1 | D19: 733 | E19: =IF(D19:D19>0,VLOOKUP(D19,Insc.!$A$1:$J$972,2,FALSE),"") -> WATANABE | F19: =IF(D19:D19>0,VLOOKUP(D19,Insc.!$A$1:$J$972,3,FALSE),"") -> EMILIA | G19: =IF(D19:D19>0,VLOOKUP(D19,Insc.!$A$1:$J$972,4,FALSE),"") -> F | H19: =IF(D19:D19>0,VLOOKUP(D19,Insc.!$A$1:$J$972,5,FALSE),"") -> 11. NCC | I19: =IF(D19:D19>0,VLOOKUP(D19,Insc.!$A$1:$J$972,6,FALSE),"") -> 20589 | J19: =IF(D19:D19>0,VLOOKUP(D19,Insc.!$A$1:$J$972,7,FALSE),"") -> 3 | K19: =IF(D19:D19>0,VLOOKUP(D19,Insc.!$A$1:$J$972,8,FALSE),"") -> EX-NSR | L19: =IF(D19:D19>0,VLOOKUP(D19,Insc.!$A$1:$J$972,9,FALSE),"") -> LIB2026 | M19: =IF(D19:D19>0,VLOOKUP(D19,Insc.!$A$1:$J$972,10,FALSE),"") -> 0 | N19: 855 | O19: =IF(N19:N19>0,VLOOKUP(N19,Insc.!$A$1:$J$972,2,FALSE),"") -> YAMANO | P19: =IF(N19:N19>0,VLOOKUP(N19,Insc.!$A$1:$J$972,3,FALSE),"") -> MASSAKATSU | Q19: =IF(N19:N19>0,VLOOKUP(N19,Insc.!$A$1:$J$972,4,FALSE),"") -> M | R19: =IF(N19:N19>0,VLOOKUP(N19,Insc.!$A$1:$J$972,5,FALSE),"") -> 03. IBI | S19: =IF(N19:N19>0,VLOOKUP(N19,Insc.!$A$1:$J$972,6,FALSE),"") -> 16365 | T19: =IF(N19:N19>0,VLOOKUP(N19,Insc.!$A$1:$J$972,7,FALSE),"") -> 5 | U19: =IF(N19:N19>0,VLOOKUP(N19,Insc.!$A$1:$J$972,8,FALSE),"") -> A-SR | V19: =IF(N19:N19>0,VLOOKUP(N19,Insc.!$A$1:$J$972,9,FALSE),"") -> LIB2026 | W19: =IF(N19:N19>0,VLOOKUP(N19,Insc.!$A$1:$J$972,10,FALSE),"") -> 0 | X19: 437 | Y19: =IF(X19:X19>0,VLOOKUP(X19,Insc.!$A$1:$J$972,2,FALSE),"") -> SACAMOTO | Z19: =IF(X19:X19>0,VLOOKUP(X19,Insc.!$A$1:$J$972,3,FALSE),"") -> MORIO | AA19: =IF(X19:X19>0,VLOOKUP(X19,Insc.!$A$1:$J$972,4,FALSE),"") -> M | AB19: =IF(X19:X19>0,VLOOKUP(X19,Insc.!$A$1:$J$972,5,FALSE),"") -> 01. PIE | AC19: =IF(X19:X19>0,VLOOKUP(X19,Insc.!$A$1:$J$972,6,FALSE),"") -> 23045 | AD19: =IF(X19:X19>0,VLOOKUP(X19,Insc.!$A$1:$J$972,7,FALSE),"") -> 5 | AE19: =IF(X19:X19>0,VLOOKUP(X19,Insc.!$A$1:$J$972,8,FALSE),"") -> A-NSR | AF19: =IF(X19:X19>0,VLOOKUP(X19,Insc.!$A$1:$J$972,9,FALSE),"") -> LIB2026 | AG19: =IF(X19:X19>0,VLOOKUP(X19,Insc.!$A$1:$J$972,10,FALSE),"") -> 0 | AH19: 395 | AI19: =IF(AH19:AH19>0,VLOOKUP(AH19,Insc.!$A$1:$J$972,2,FALSE),"") -> UEMURA | AJ19: =IF(AH19:AH19>0,VLOOKUP(AH19,Insc.!$A$1:$J$972,3,FALSE),"") -> LUCIA | AK19: =IF(AH19:AH19>0,VLOOKUP(AH19,Insc.!$A$1:$J$972,4,FALSE),"") -> F | AL19: =IF(AH19:AH19>0,VLOOKUP(AH19,Insc.!$A$1:$J$972,5,FALSE),"") -> 07. GSP | AM19: =IF(AH19:AH19>0,VLOOKUP(AH19,Insc.!$A$1:$J$972,6,FALSE),"") -> 17241 | AN19: =IF(AH19:AH19>0,VLOOKUP(AH19,Insc.!$A$1:$J$972,7,FALSE),"") -> 6 | AO19: =IF(AH19:AH19>0,VLOOKUP(AH19,Insc.!$A$1:$J$972,8,FALSE),"") -> A-SR | AP19: =IF(AH19:AH19>0,VLOOKUP(AH19,Insc.!$A$1:$J$972,9,FALSE),"") -> LIB2026 | AQ19: =IF(AH19:AH19>0,VLOOKUP(AH19,Insc.!$A$1:$J$972,10,FALSE),"") -> 0
A20: 202 | B20: 2 | C20: 2 | D20: 914 | E20: =IF(D20:D20>0,VLOOKUP(D20,Insc.!$A$1:$J$972,2,FALSE),"") -> ODA | F20: =IF(D20:D20>0,VLOOKUP(D20,Insc.!$A$1:$J$972,3,FALSE),"") -> TOMIKO | G20: =IF(D20:D20>0,VLOOKUP(D20,Insc.!$A$1:$J$972,4,FALSE),"") -> F | H20: =IF(D20:D20>0,VLOOKUP(D20,Insc.!$A$1:$J$972,5,FALSE),"") -> 07. GSP | I20: =IF(D20:D20>0,VLOOKUP(D20,Insc.!$A$1:$J$972,6,FALSE),"") -> 19438 | J20: =IF(D20:D20>0,VLOOKUP(D20,Insc.!$A$1:$J$972,7,FALSE),"") -> 3 | K20: =IF(D20:D20>0,VLOOKUP(D20,Insc.!$A$1:$J$972,8,FALSE),"") -> EX-NSR | L20: =IF(D20:D20>0,VLOOKUP(D20,Insc.!$A$1:$J$972,9,FALSE),"") -> LIB2026 | M20: =IF(D20:D20>0,VLOOKUP(D20,Insc.!$A$1:$J$972,10,FALSE),"") -> 0 | N20: 873 | O20: =IF(N20:N20>0,VLOOKUP(N20,Insc.!$A$1:$J$972,2,FALSE),"") -> M. TANIGUTI | P20: =IF(N20:N20>0,VLOOKUP(N20,Insc.!$A$1:$J$972,3,FALSE),"") -> MARINA JUNKO | Q20: =IF(N20:N20>0,VLOOKUP(N20,Insc.!$A$1:$J$972,4,FALSE),"") -> F | R20: =IF(N20:N20>0,VLOOKUP(N20,Insc.!$A$1:$J$972,5,FALSE),"") -> 16. SUM | S20: =IF(N20:N20>0,VLOOKUP(N20,Insc.!$A$1:$J$972,6,FALSE),"") -> 23431 | T20: =IF(N20:N20>0,VLOOKUP(N20,Insc.!$A$1:$J$972,7,FALSE),"") -> 3 | U20: =IF(N20:N20>0,VLOOKUP(N20,Insc.!$A$1:$J$972,8,FALSE),"") -> EX-NSR | V20: =IF(N20:N20>0,VLOOKUP(N20,Insc.!$A$1:$J$972,9,FALSE),"") -> LIB2026 | W20: =IF(N20:N20>0,VLOOKUP(N20,Insc.!$A$1:$J$972,10,FALSE),"") -> 0 | X20: 203 | Y20: =IF(X20:X20>0,VLOOKUP(X20,Insc.!$A$1:$J$972,2,FALSE),"") -> NAKAMURA | Z20: =IF(X20:X20>0,VLOOKUP(X20,Insc.!$A$1:$J$972,3,FALSE),"") -> EDSON | AA20: =IF(X20:X20>0,VLOOKUP(X20,Insc.!$A$1:$J$972,4,FALSE),"") -> M | AB20: =IF(X20:X20>0,VLOOKUP(X20,Insc.!$A$1:$J$972,5,FALSE),"") -> 01. PIE | AC20: =IF(X20:X20>0,VLOOKUP(X20,Insc.!$A$1:$J$972,6,FALSE),"") -> 21525 | AD20: =IF(X20:X20>0,VLOOKUP(X20,Insc.!$A$1:$J$972,7,FALSE),"") -> 4 | AE20: =IF(X20:X20>0,VLOOKUP(X20,Insc.!$A$1:$J$972,8,FALSE),"") -> A-NSR | AF20: =IF(X20:X20>0,VLOOKUP(X20,Insc.!$A$1:$J$972,9,FALSE),"") -> LIB2026 | AG20: =IF(X20:X20>0,VLOOKUP(X20,Insc.!$A$1:$J$972,10,FALSE),"") -> 0 | AH20: 669 | AI20: =IF(AH20:AH20>0,VLOOKUP(AH20,Insc.!$A$1:$J$972,2,FALSE),"") -> NISHIJIMA | AJ20: =IF(AH20:AH20>0,VLOOKUP(AH20,Insc.!$A$1:$J$972,3,FALSE),"") -> KATSUYUKI | AK20: =IF(AH20:AH20>0,VLOOKUP(AH20,Insc.!$A$1:$J$972,4,FALSE),"") -> M | AL20: =IF(AH20:AH20>0,VLOOKUP(AH20,Insc.!$A$1:$J$972,5,FALSE),"") -> 11. NCC | AM20: =IF(AH20:AH20>0,VLOOKUP(AH20,Insc.!$A$1:$J$972,6,FALSE),"") -> 15321 | AN20: =IF(AH20:AH20>0,VLOOKUP(AH20,Insc.!$A$1:$J$972,7,FALSE),"") -> 6 | AO20: =IF(AH20:AH20>0,VLOOKUP(AH20,Insc.!$A$1:$J$972,8,FALSE),"") -> A-MR | AP20: =IF(AH20:AH20>0,VLOOKUP(AH20,Insc.!$A$1:$J$972,9,FALSE),"") -> LIB2026 | AQ20: =IF(AH20:AH20>0,VLOOKUP(AH20,Insc.!$A$1:$J$972,10,FALSE),"") -> 0
A21: 203 | B21: 2 | C21: 3 | D21: 784 | E21: =IF(D21:D21>0,VLOOKUP(D21,Insc.!$A$1:$J$972,2,FALSE),"") -> MINAMI | F21: =IF(D21:D21>0,VLOOKUP(D21,Insc.!$A$1:$J$972,3,FALSE),"") -> TADAHIRO | G21: =IF(D21:D21>0,VLOOKUP(D21,Insc.!$A$1:$J$972,4,FALSE),"") -> M | H21: =IF(D21:D21>0,VLOOKUP(D21,Insc.!$A$1:$J$972,5,FALSE),"") -> 15. BIR | I21: =IF(D21:D21>0,VLOOKUP(D21,Insc.!$A$1:$J$972,6,FALSE),"") -> 19440 | J21: =IF(D21:D21>0,VLOOKUP(D21,Insc.!$A$1:$J$972,7,FALSE),"") -> 7 | K21: =IF(D21:D21>0,VLOOKUP(D21,Insc.!$A$1:$J$972,8,FALSE),"") -> B-NSR | L21: =IF(D21:D21>0,VLOOKUP(D21,Insc.!$A$1:$J$972,9,FALSE),"") -> LIB2026 | M21: =IF(D21:D21>0,VLOOKUP(D21,Insc.!$A$1:$J$972,10,FALSE),"") -> 0 | N21: 278 | O21: =IF(N21:N21>0,VLOOKUP(N21,Insc.!$A$1:$J$972,2,FALSE),"") -> KUDO | P21: =IF(N21:N21>0,VLOOKUP(N21,Insc.!$A$1:$J$972,3,FALSE),"") -> AKIKO | Q21: =IF(N21:N21>0,VLOOKUP(N21,Insc.!$A$1:$J$972,4,FALSE),"") -> F | R21: =IF(N21:N21>0,VLOOKUP(N21,Insc.!$A$1:$J$972,5,FALSE),"") -> 06. KOK | S21: =IF(N21:N21>0,VLOOKUP(N21,Insc.!$A$1:$J$972,6,FALSE),"") -> 15656 | T21: =IF(N21:N21>0,VLOOKUP(N21,Insc.!$A$1:$J$972,7,FALSE),"") -> 7 | U21: =IF(N21:N21>0,VLOOKUP(N21,Insc.!$A$1:$J$972,8,FALSE),"") -> B-SR | V21: =IF(N21:N21>0,VLOOKUP(N21,Insc.!$A$1:$J$972,9,FALSE),"") -> LIB2026 | W21: =IF(N21:N21>0,VLOOKUP(N21,Insc.!$A$1:$J$972,10,FALSE),"") -> 0 | X21: 711 | Y21: =IF(X21:X21>0,VLOOKUP(X21,Insc.!$A$1:$J$972,2,FALSE),"") -> NISHIMURA | Z21: =IF(X21:X21>0,VLOOKUP(X21,Insc.!$A$1:$J$972,3,FALSE),"") -> ELENA | AA21: =IF(X21:X21>0,VLOOKUP(X21,Insc.!$A$1:$J$972,4,FALSE),"") -> F | AB21: =IF(X21:X21>0,VLOOKUP(X21,Insc.!$A$1:$J$972,5,FALSE),"") -> 07. GSP | AC21: =IF(X21:X21>0,VLOOKUP(X21,Insc.!$A$1:$J$972,6,FALSE),"") -> 16868 | AD21: =IF(X21:X21>0,VLOOKUP(X21,Insc.!$A$1:$J$972,7,FALSE),"") -> 8 | AE21: =IF(X21:X21>0,VLOOKUP(X21,Insc.!$A$1:$J$972,8,FALSE),"") -> B-SR | AF21: =IF(X21:X21>0,VLOOKUP(X21,Insc.!$A$1:$J$972,9,FALSE),"") -> LIB2026 | AG21: =IF(X21:X21>0,VLOOKUP(X21,Insc.!$A$1:$J$972,10,FALSE),"") -> 0 | AH21: 870 | AI21: =IF(AH21:AH21>0,VLOOKUP(AH21,Insc.!$A$1:$J$972,2,FALSE),"") -> SAKAE HAMADA | AJ21: =IF(AH21:AH21>0,VLOOKUP(AH21,Insc.!$A$1:$J$972,3,FALSE),"") -> FLORINDA G. | AK21: =IF(AH21:AH21>0,VLOOKUP(AH21,Insc.!$A$1:$J$972,4,FALSE),"") -> F | AL21: =IF(AH21:AH21>0,VLOOKUP(AH21,Insc.!$A$1:$J$972,5,FALSE),"") -> 12. COO | AM21: =IF(AH21:AH21>0,VLOOKUP(AH21,Insc.!$A$1:$J$972,6,FALSE),"") -> 17286 | AN21: =IF(AH21:AH21>0,VLOOKUP(AH21,Insc.!$A$1:$J$972,7,FALSE),"") -> 12 | AO21: =IF(AH21:AH21>0,VLOOKUP(AH21,Insc.!$A$1:$J$972,8,FALSE),"") -> C-SR | AP21: =IF(AH21:AH21>0,VLOOKUP(AH21,Insc.!$A$1:$J$972,9,FALSE),"") -> LIB2026 | AQ21: =IF(AH21:AH21>0,VLOOKUP(AH21,Insc.!$A$1:$J$972,10,FALSE),"") -> 0
A22: 204 | B22: 2 | C22: 4 | D22: 835 | E22: =IF(D22:D22>0,VLOOKUP(D22,Insc.!$A$1:$J$972,2,FALSE),"") -> YAMANO | F22: =IF(D22:D22>0,VLOOKUP(D22,Insc.!$A$1:$J$972,3,FALSE),"") -> ROSA | G22: =IF(D22:D22>0,VLOOKUP(D22,Insc.!$A$1:$J$972,4,FALSE),"") -> F | H22: =IF(D22:D22>0,VLOOKUP(D22,Insc.!$A$1:$J$972,5,FALSE),"") -> 03. IBI | I22: =IF(D22:D22>0,VLOOKUP(D22,Insc.!$A$1:$J$972,6,FALSE),"") -> 20212 | J22: =IF(D22:D22>0,VLOOKUP(D22,Insc.!$A$1:$J$972,7,FALSE),"") -> 8 | K22: =IF(D22:D22>0,VLOOKUP(D22,Insc.!$A$1:$J$972,8,FALSE),"") -> B-NSR | L22: =IF(D22:D22>0,VLOOKUP(D22,Insc.!$A$1:$J$972,9,FALSE),"") -> LIB2026 | M22: =IF(D22:D22>0,VLOOKUP(D22,Insc.!$A$1:$J$972,10,FALSE),"") -> 0 | N22: 605 | O22: =IF(N22:N22>0,VLOOKUP(N22,Insc.!$A$1:$J$972,2,FALSE),"") -> ABE | P22: =IF(N22:N22>0,VLOOKUP(N22,Insc.!$A$1:$J$972,3,FALSE),"") -> TETSUO | Q22: =IF(N22:N22>0,VLOOKUP(N22,Insc.!$A$1:$J$972,4,FALSE),"") -> M | R22: =IF(N22:N22>0,VLOOKUP(N22,Insc.!$A$1:$J$972,5,FALSE),"") -> 06. KOK | S22: =IF(N22:N22>0,VLOOKUP(N22,Insc.!$A$1:$J$972,6,FALSE),"") -> 12082 | T22: =IF(N22:N22>0,VLOOKUP(N22,Insc.!$A$1:$J$972,7,FALSE),"") -> 8 | U22: =IF(N22:N22>0,VLOOKUP(N22,Insc.!$A$1:$J$972,8,FALSE),"") -> B-MR | V22: =IF(N22:N22>0,VLOOKUP(N22,Insc.!$A$1:$J$972,9,FALSE),"") -> LIB2026i | W22: =IF(N22:N22>0,VLOOKUP(N22,Insc.!$A$1:$J$972,10,FALSE),"") -> 0 | X22: 798 | Y22: =IF(X22:X22>0,VLOOKUP(X22,Insc.!$A$1:$J$972,2,FALSE),"") -> ARIKI | Z22: =IF(X22:X22>0,VLOOKUP(X22,Insc.!$A$1:$J$972,3,FALSE),"") -> TERESA HIROKO | AA22: =IF(X22:X22>0,VLOOKUP(X22,Insc.!$A$1:$J$972,4,FALSE),"") -> F | AB22: =IF(X22:X22>0,VLOOKUP(X22,Insc.!$A$1:$J$972,5,FALSE),"") -> 07. GSP | AC22: =IF(X22:X22>0,VLOOKUP(X22,Insc.!$A$1:$J$972,6,FALSE),"") -> 18191 | AD22: =IF(X22:X22>0,VLOOKUP(X22,Insc.!$A$1:$J$972,7,FALSE),"") -> 9 | AE22: =IF(X22:X22>0,VLOOKUP(X22,Insc.!$A$1:$J$972,8,FALSE),"") -> B-SR | AF22: =IF(X22:X22>0,VLOOKUP(X22,Insc.!$A$1:$J$972,9,FALSE),"") -> LIB2026 | AG22: =IF(X22:X22>0,VLOOKUP(X22,Insc.!$A$1:$J$972,10,FALSE),"") -> 0 | AH22: 871 | AI22: =IF(AH22:AH22>0,VLOOKUP(AH22,Insc.!$A$1:$J$972,2,FALSE),"") -> YASSUDA | AJ22: =IF(AH22:AH22>0,VLOOKUP(AH22,Insc.!$A$1:$J$972,3,FALSE),"") -> LENITA NOBUKO | AK22: =IF(AH22:AH22>0,VLOOKUP(AH22,Insc.!$A$1:$J$972,4,FALSE),"") -> F | AL22: =IF(AH22:AH22>0,VLOOKUP(AH22,Insc.!$A$1:$J$972,5,FALSE),"") -> 12. COO | AM22: =IF(AH22:AH22>0,VLOOKUP(AH22,Insc.!$A$1:$J$972,6,FALSE),"") -> 16949 | AN22: =IF(AH22:AH22>0,VLOOKUP(AH22,Insc.!$A$1:$J$972,7,FALSE),"") -> 12 | AO22: =IF(AH22:AH22>0,VLOOKUP(AH22,Insc.!$A$1:$J$972,8,FALSE),"") -> C-SR | AP22: =IF(AH22:AH22>0,VLOOKUP(AH22,Insc.!$A$1:$J$972,9,FALSE),"") -> LIB2026 | AQ22: =IF(AH22:AH22>0,VLOOKUP(AH22,Insc.!$A$1:$J$972,10,FALSE),"") -> 0
A23: 205 | B23: 2 | C23: 5 | D23: 887 | E23: =IF(D23:D23>0,VLOOKUP(D23,Insc.!$A$1:$J$972,2,FALSE),"") -> A. GOMES | F23: =IF(D23:D23>0,VLOOKUP(D23,Insc.!$A$1:$J$972,3,FALSE),"") -> CLAUDEMIR | G23: =IF(D23:D23>0,VLOOKUP(D23,Insc.!$A$1:$J$972,4,FALSE),"") -> M | H23: =IF(D23:D23>0,VLOOKUP(D23,Insc.!$A$1:$J$972,5,FALSE),"") -> 11. NCC | I23: =IF(D23:D23>0,VLOOKUP(D23,Insc.!$A$1:$J$972,6,FALSE),"") -> 28815 | J23: =IF(D23:D23>0,VLOOKUP(D23,Insc.!$A$1:$J$972,7,FALSE),"") -> 8 | K23: =IF(D23:D23>0,VLOOKUP(D23,Insc.!$A$1:$J$972,8,FALSE),"") -> B-NSR | L23: =IF(D23:D23>0,VLOOKUP(D23,Insc.!$A$1:$J$972,9,FALSE),"") -> LIB2026 | M23: =IF(D23:D23>0,VLOOKUP(D23,Insc.!$A$1:$J$972,10,FALSE),"") -> 0 | N23: 607 | O23: =IF(N23:N23>0,VLOOKUP(N23,Insc.!$A$1:$J$972,2,FALSE),"") -> ABE | P23: =IF(N23:N23>0,VLOOKUP(N23,Insc.!$A$1:$J$972,3,FALSE),"") -> KAZUKO | Q23: =IF(N23:N23>0,VLOOKUP(N23,Insc.!$A$1:$J$972,4,FALSE),"") -> F | R23: =IF(N23:N23>0,VLOOKUP(N23,Insc.!$A$1:$J$972,5,FALSE),"") -> 06. KOK | S23: =IF(N23:N23>0,VLOOKUP(N23,Insc.!$A$1:$J$972,6,FALSE),"") -> 18129 | T23: =IF(N23:N23>0,VLOOKUP(N23,Insc.!$A$1:$J$972,7,FALSE),"") -> 9 | U23: =IF(N23:N23>0,VLOOKUP(N23,Insc.!$A$1:$J$972,8,FALSE),"") -> B-SR | V23: =IF(N23:N23>0,VLOOKUP(N23,Insc.!$A$1:$J$972,9,FALSE),"") -> LIB2026 | W23: =IF(N23:N23>0,VLOOKUP(N23,Insc.!$A$1:$J$972,10,FALSE),"") -> 0 | X23: 642 | Y23: =IF(X23:X23>0,VLOOKUP(X23,Insc.!$A$1:$J$972,2,FALSE),"") -> TAKAHASHI | Z23: =IF(X23:X23>0,VLOOKUP(X23,Insc.!$A$1:$J$972,3,FALSE),"") -> KATUMI | AA23: =IF(X23:X23>0,VLOOKUP(X23,Insc.!$A$1:$J$972,4,FALSE),"") -> F | AB23: =IF(X23:X23>0,VLOOKUP(X23,Insc.!$A$1:$J$972,5,FALSE),"") -> 12. COO | AC23: =IF(X23:X23>0,VLOOKUP(X23,Insc.!$A$1:$J$972,6,FALSE),"") -> 16757 | AD23: =IF(X23:X23>0,VLOOKUP(X23,Insc.!$A$1:$J$972,7,FALSE),"") -> 9 | AE23: =IF(X23:X23>0,VLOOKUP(X23,Insc.!$A$1:$J$972,8,FALSE),"") -> B-SR | AF23: =IF(X23:X23>0,VLOOKUP(X23,Insc.!$A$1:$J$972,9,FALSE),"") -> LIB2026 | AG23: =IF(X23:X23>0,VLOOKUP(X23,Insc.!$A$1:$J$972,10,FALSE),"") -> 0 | AH23: 820 | AI23: =IF(AH23:AH23>0,VLOOKUP(AH23,Insc.!$A$1:$J$972,2,FALSE),"") -> RIBEIRO | AJ23: =IF(AH23:AH23>0,VLOOKUP(AH23,Insc.!$A$1:$J$972,3,FALSE),"") -> JORGE LUIZ | AK23: =IF(AH23:AH23>0,VLOOKUP(AH23,Insc.!$A$1:$J$972,4,FALSE),"") -> M | AL23: =IF(AH23:AH23>0,VLOOKUP(AH23,Insc.!$A$1:$J$972,5,FALSE),"") -> 10. ITA | AM23: =IF(AH23:AH23>0,VLOOKUP(AH23,Insc.!$A$1:$J$972,6,FALSE),"") -> 19037 | AN23: =IF(AH23:AH23>0,VLOOKUP(AH23,Insc.!$A$1:$J$972,7,FALSE),"") -> 12 | AO23: =IF(AH23:AH23>0,VLOOKUP(AH23,Insc.!$A$1:$J$972,8,FALSE),"") -> C-NSR | AP23: =IF(AH23:AH23>0,VLOOKUP(AH23,Insc.!$A$1:$J$972,9,FALSE),"") -> LIB2026 | AQ23: =IF(AH23:AH23>0,VLOOKUP(AH23,Insc.!$A$1:$J$972,10,FALSE),"") -> 0
A24: 206 | B24: 2 | C24: 6 | D24: 976 | E24: =IF(D24:D24>0,VLOOKUP(D24,Insc.!$A$1:$J$972,2,FALSE),"") -> MORI | F24: =IF(D24:D24>0,VLOOKUP(D24,Insc.!$A$1:$J$972,3,FALSE),"") -> SADAO | G24: =IF(D24:D24>0,VLOOKUP(D24,Insc.!$A$1:$J$972,4,FALSE),"") -> M | H24: =IF(D24:D24>0,VLOOKUP(D24,Insc.!$A$1:$J$972,5,FALSE),"") -> 01. PIE | I24: =IF(D24:D24>0,VLOOKUP(D24,Insc.!$A$1:$J$972,6,FALSE),"") -> 19729 | J24: =IF(D24:D24>0,VLOOKUP(D24,Insc.!$A$1:$J$972,7,FALSE),"") -> 8 | K24: =IF(D24:D24>0,VLOOKUP(D24,Insc.!$A$1:$J$972,8,FALSE),"") -> B-NSR | L24: =IF(D24:D24>0,VLOOKUP(D24,Insc.!$A$1:$J$972,9,FALSE),"") -> LIB2026 | M24: =IF(D24:D24>0,VLOOKUP(D24,Insc.!$A$1:$J$972,10,FALSE),"") -> 0 | N24: 661 | O24: =IF(N24:N24>0,VLOOKUP(N24,Insc.!$A$1:$J$972,2,FALSE),"") -> FURUKAWA | P24: =IF(N24:N24>0,VLOOKUP(N24,Insc.!$A$1:$J$972,3,FALSE),"") -> KOITI | Q24: =IF(N24:N24>0,VLOOKUP(N24,Insc.!$A$1:$J$972,4,FALSE),"") -> M | R24: =IF(N24:N24>0,VLOOKUP(N24,Insc.!$A$1:$J$972,5,FALSE),"") -> 06. KOK | S24: =IF(N24:N24>0,VLOOKUP(N24,Insc.!$A$1:$J$972,6,FALSE),"") -> 16653 | T24: =IF(N24:N24>0,VLOOKUP(N24,Insc.!$A$1:$J$972,7,FALSE),"") -> 9 | U24: =IF(N24:N24>0,VLOOKUP(N24,Insc.!$A$1:$J$972,8,FALSE),"") -> B-SR | V24: =IF(N24:N24>0,VLOOKUP(N24,Insc.!$A$1:$J$972,9,FALSE),"") -> LIB2026 | W24: =IF(N24:N24>0,VLOOKUP(N24,Insc.!$A$1:$J$972,10,FALSE),"") -> 0 | X24: 565 | Y24: =IF(X24:X24>0,VLOOKUP(X24,Insc.!$A$1:$J$972,2,FALSE),"") -> HIRATA | Z24: =IF(X24:X24>0,VLOOKUP(X24,Insc.!$A$1:$J$972,3,FALSE),"") -> MIDORI | AA24: =IF(X24:X24>0,VLOOKUP(X24,Insc.!$A$1:$J$972,4,FALSE),"") -> F | AB24: =IF(X24:X24>0,VLOOKUP(X24,Insc.!$A$1:$J$972,5,FALSE),"") -> 07. GSP | AC24: =IF(X24:X24>0,VLOOKUP(X24,Insc.!$A$1:$J$972,6,FALSE),"") -> 18290 | AD24: =IF(X24:X24>0,VLOOKUP(X24,Insc.!$A$1:$J$972,7,FALSE),"") -> 9 | AE24: =IF(X24:X24>0,VLOOKUP(X24,Insc.!$A$1:$J$972,8,FALSE),"") -> B-SR | AF24: =IF(X24:X24>0,VLOOKUP(X24,Insc.!$A$1:$J$972,9,FALSE),"") -> LIB2026 | AG24: =IF(X24:X24>0,VLOOKUP(X24,Insc.!$A$1:$J$972,10,FALSE),"") -> 0 | AH24: 295 | AI24: =IF(AH24:AH24>0,VLOOKUP(AH24,Insc.!$A$1:$J$972,2,FALSE),"") -> UTSUNOMIYA | AJ24: =IF(AH24:AH24>0,VLOOKUP(AH24,Insc.!$A$1:$J$972,3,FALSE),"") -> ZULEICA | AK24: =IF(AH24:AH24>0,VLOOKUP(AH24,Insc.!$A$1:$J$972,4,FALSE),"") -> F | AL24: =IF(AH24:AH24>0,VLOOKUP(AH24,Insc.!$A$1:$J$972,5,FALSE),"") -> 11. NCC | AM24: =IF(AH24:AH24>0,VLOOKUP(AH24,Insc.!$A$1:$J$972,6,FALSE),"") -> 18702 | AN24: =IF(AH24:AH24>0,VLOOKUP(AH24,Insc.!$A$1:$J$972,7,FALSE),"") -> 9 | AO24: =IF(AH24:AH24>0,VLOOKUP(AH24,Insc.!$A$1:$J$972,8,FALSE),"") -> B-SR | AP24: =IF(AH24:AH24>0,VLOOKUP(AH24,Insc.!$A$1:$J$972,9,FALSE),"") -> LIB2026 | AQ24: =IF(AH24:AH24>0,VLOOKUP(AH24,Insc.!$A$1:$J$972,10,FALSE),"") -> 0
A25: 207 | B25: 2 | C25: 7 | D25: 793 | E25: =IF(D25:D25>0,VLOOKUP(D25,Insc.!$A$1:$J$972,2,FALSE),"") -> MINAMI | F25: =IF(D25:D25>0,VLOOKUP(D25,Insc.!$A$1:$J$972,3,FALSE),"") -> TEREZA | G25: =IF(D25:D25>0,VLOOKUP(D25,Insc.!$A$1:$J$972,4,FALSE),"") -> F | H25: =IF(D25:D25>0,VLOOKUP(D25,Insc.!$A$1:$J$972,5,FALSE),"") -> 15. BIR | I25: =IF(D25:D25>0,VLOOKUP(D25,Insc.!$A$1:$J$972,6,FALSE),"") -> 18584 | J25: =IF(D25:D25>0,VLOOKUP(D25,Insc.!$A$1:$J$972,7,FALSE),"") -> 7 | K25: =IF(D25:D25>0,VLOOKUP(D25,Insc.!$A$1:$J$972,8,FALSE),"") -> B-SR | L25: =IF(D25:D25>0,VLOOKUP(D25,Insc.!$A$1:$J$972,9,FALSE),"") -> LIB2026 | M25: =IF(D25:D25>0,VLOOKUP(D25,Insc.!$A$1:$J$972,10,FALSE),"") -> 0 | N25: 108 | O25: =IF(N25:N25>0,VLOOKUP(N25,Insc.!$A$1:$J$972,2,FALSE),"") -> KAWANO | P25: =IF(N25:N25>0,VLOOKUP(N25,Insc.!$A$1:$J$972,3,FALSE),"") -> KIYOKO | Q25: =IF(N25:N25>0,VLOOKUP(N25,Insc.!$A$1:$J$972,4,FALSE),"") -> F | R25: =IF(N25:N25>0,VLOOKUP(N25,Insc.!$A$1:$J$972,5,FALSE),"") -> 03. IBI | S25: =IF(N25:N25>0,VLOOKUP(N25,Insc.!$A$1:$J$972,6,FALSE),"") -> 16772 | T25: =IF(N25:N25>0,VLOOKUP(N25,Insc.!$A$1:$J$972,7,FALSE),"") -> 7 | U25: =IF(N25:N25>0,VLOOKUP(N25,Insc.!$A$1:$J$972,8,FALSE),"") -> B-SR | V25: =IF(N25:N25>0,VLOOKUP(N25,Insc.!$A$1:$J$972,9,FALSE),"") -> LIB2026 | W25: =IF(N25:N25>0,VLOOKUP(N25,Insc.!$A$1:$J$972,10,FALSE),"") -> 0 | X25: 463 | Y25: =IF(X25:X25>0,VLOOKUP(X25,Insc.!$A$1:$J$972,2,FALSE),"") -> ISHII | Z25: =IF(X25:X25>0,VLOOKUP(X25,Insc.!$A$1:$J$972,3,FALSE),"") -> HISANOBU | AA25: =IF(X25:X25>0,VLOOKUP(X25,Insc.!$A$1:$J$972,4,FALSE),"") -> M | AB25: =IF(X25:X25>0,VLOOKUP(X25,Insc.!$A$1:$J$972,5,FALSE),"") -> 06. KOK | AC25: =IF(X25:X25>0,VLOOKUP(X25,Insc.!$A$1:$J$972,6,FALSE),"") -> 14088 | AD25: =IF(X25:X25>0,VLOOKUP(X25,Insc.!$A$1:$J$972,7,FALSE),"") -> 9 | AE25: =IF(X25:X25>0,VLOOKUP(X25,Insc.!$A$1:$J$972,8,FALSE),"") -> B-MR | AF25: =IF(X25:X25>0,VLOOKUP(X25,Insc.!$A$1:$J$972,9,FALSE),"") -> LIB2026 | AG25: =IF(X25:X25>0,VLOOKUP(X25,Insc.!$A$1:$J$972,10,FALSE),"") -> 0 | AH25: 979 | AI25: =IF(AH25:AH25>0,VLOOKUP(AH25,Insc.!$A$1:$J$972,2,FALSE),"") -> KAMIMURA | AJ25: =IF(AH25:AH25>0,VLOOKUP(AH25,Insc.!$A$1:$J$972,3,FALSE),"") -> MERCIA KIMIE | AK25: =IF(AH25:AH25>0,VLOOKUP(AH25,Insc.!$A$1:$J$972,4,FALSE),"") -> F | AL25: =IF(AH25:AH25>0,VLOOKUP(AH25,Insc.!$A$1:$J$972,5,FALSE),"") -> 11. NCC | AM25: =IF(AH25:AH25>0,VLOOKUP(AH25,Insc.!$A$1:$J$972,6,FALSE),"") -> 23817 | AN25: =IF(AH25:AH25>0,VLOOKUP(AH25,Insc.!$A$1:$J$972,7,FALSE),"") -> 12 | AO25: =IF(AH25:AH25>0,VLOOKUP(AH25,Insc.!$A$1:$J$972,8,FALSE),"") -> C-NSR | AP25: =IF(AH25:AH25>0,VLOOKUP(AH25,Insc.!$A$1:$J$972,9,FALSE),"") -> LIB2026 | AQ25: =IF(AH25:AH25>0,VLOOKUP(AH25,Insc.!$A$1:$J$972,10,FALSE),"") -> 0
A26: 208 | B26: 2 | C26: 8 | D26: 296 | E26: =IF(D26:D26>0,VLOOKUP(D26,Insc.!$A$1:$J$972,2,FALSE),"") -> UTSUNOMIYA | F26: =IF(D26:D26>0,VLOOKUP(D26,Insc.!$A$1:$J$972,3,FALSE),"") -> YUKIO | G26: =IF(D26:D26>0,VLOOKUP(D26,Insc.!$A$1:$J$972,4,FALSE),"") -> M | H26: =IF(D26:D26>0,VLOOKUP(D26,Insc.!$A$1:$J$972,5,FALSE),"") -> 11. NCC | I26: =IF(D26:D26>0,VLOOKUP(D26,Insc.!$A$1:$J$972,6,FALSE),"") -> 18980 | J26: =IF(D26:D26>0,VLOOKUP(D26,Insc.!$A$1:$J$972,7,FALSE),"") -> 9 | K26: =IF(D26:D26>0,VLOOKUP(D26,Insc.!$A$1:$J$972,8,FALSE),"") -> B-SR | L26: =IF(D26:D26>0,VLOOKUP(D26,Insc.!$A$1:$J$972,9,FALSE),"") -> LIB2026 | M26: =IF(D26:D26>0,VLOOKUP(D26,Insc.!$A$1:$J$972,10,FALSE),"") -> 0 | N26: 817 | O26: =IF(N26:N26>0,VLOOKUP(N26,Insc.!$A$1:$J$972,2,FALSE),"") -> KAWASAKI | P26: =IF(N26:N26>0,VLOOKUP(N26,Insc.!$A$1:$J$972,3,FALSE),"") -> TOSHIO | Q26: =IF(N26:N26>0,VLOOKUP(N26,Insc.!$A$1:$J$972,4,FALSE),"") -> M | R26: =IF(N26:N26>0,VLOOKUP(N26,Insc.!$A$1:$J$972,5,FALSE),"") -> 06. KOK | S26: =IF(N26:N26>0,VLOOKUP(N26,Insc.!$A$1:$J$972,6,FALSE),"") -> 14865 | T26: =IF(N26:N26>0,VLOOKUP(N26,Insc.!$A$1:$J$972,7,FALSE),"") -> 9 | U26: =IF(N26:N26>0,VLOOKUP(N26,Insc.!$A$1:$J$972,8,FALSE),"") -> B-MR | V26: =IF(N26:N26>0,VLOOKUP(N26,Insc.!$A$1:$J$972,9,FALSE),"") -> LIB2026 | W26: =IF(N26:N26>0,VLOOKUP(N26,Insc.!$A$1:$J$972,10,FALSE),"") -> 0 | X26: 446 | Y26: =IF(X26:X26>0,VLOOKUP(X26,Insc.!$A$1:$J$972,2,FALSE),"") -> NAGATA | Z26: =IF(X26:X26>0,VLOOKUP(X26,Insc.!$A$1:$J$972,3,FALSE),"") -> MASARU | AA26: =IF(X26:X26>0,VLOOKUP(X26,Insc.!$A$1:$J$972,4,FALSE),"") -> M | AB26: =IF(X26:X26>0,VLOOKUP(X26,Insc.!$A$1:$J$972,5,FALSE),"") -> 12. COO | AC26: =IF(X26:X26>0,VLOOKUP(X26,Insc.!$A$1:$J$972,6,FALSE),"") -> 14590 | AD26: =IF(X26:X26>0,VLOOKUP(X26,Insc.!$A$1:$J$972,7,FALSE),"") -> 9 | AE26: =IF(X26:X26>0,VLOOKUP(X26,Insc.!$A$1:$J$972,8,FALSE),"") -> B-MR | AF26: =IF(X26:X26>0,VLOOKUP(X26,Insc.!$A$1:$J$972,9,FALSE),"") -> LIB2026 | AG26: =IF(X26:X26>0,VLOOKUP(X26,Insc.!$A$1:$J$972,10,FALSE),"") -> 0 | AH26: 403 | AI26: =IF(AH26:AH26>0,VLOOKUP(AH26,Insc.!$A$1:$J$972,2,FALSE),"") -> SHIMOYAMA | AJ26: =IF(AH26:AH26>0,VLOOKUP(AH26,Insc.!$A$1:$J$972,3,FALSE),"") -> MIYUKI | AK26: =IF(AH26:AH26>0,VLOOKUP(AH26,Insc.!$A$1:$J$972,4,FALSE),"") -> F | AL26: =IF(AH26:AH26>0,VLOOKUP(AH26,Insc.!$A$1:$J$972,5,FALSE),"") -> 03. IBI | AM26: =IF(AH26:AH26>0,VLOOKUP(AH26,Insc.!$A$1:$J$972,6,FALSE),"") -> 25386 | AN26: =IF(AH26:AH26>0,VLOOKUP(AH26,Insc.!$A$1:$J$972,7,FALSE),"") -> 12 | AO26: =IF(AH26:AH26>0,VLOOKUP(AH26,Insc.!$A$1:$J$972,8,FALSE),"") -> C-NSR | AP26: =IF(AH26:AH26>0,VLOOKUP(AH26,Insc.!$A$1:$J$972,9,FALSE),"") -> LIB2026 | AQ26: =IF(AH26:AH26>0,VLOOKUP(AH26,Insc.!$A$1:$J$972,10,FALSE),"") -> 0
A27: 209 | B27: 2 | C27: 9 | D27: 672 | E27: =IF(D27:D27>0,VLOOKUP(D27,Insc.!$A$1:$J$972,2,FALSE),"") -> FUKUZAWA | F27: =IF(D27:D27>0,VLOOKUP(D27,Insc.!$A$1:$J$972,3,FALSE),"") -> ISAURA | G27: =IF(D27:D27>0,VLOOKUP(D27,Insc.!$A$1:$J$972,4,FALSE),"") -> F | H27: =IF(D27:D27>0,VLOOKUP(D27,Insc.!$A$1:$J$972,5,FALSE),"") -> 06. KOK | I27: =IF(D27:D27>0,VLOOKUP(D27,Insc.!$A$1:$J$972,6,FALSE),"") -> 19670 | J27: =IF(D27:D27>0,VLOOKUP(D27,Insc.!$A$1:$J$972,7,FALSE),"") -> 8 | K27: =IF(D27:D27>0,VLOOKUP(D27,Insc.!$A$1:$J$972,8,FALSE),"") -> B-NSR | L27: =IF(D27:D27>0,VLOOKUP(D27,Insc.!$A$1:$J$972,9,FALSE),"") -> LIB2026 | M27: =IF(D27:D27>0,VLOOKUP(D27,Insc.!$A$1:$J$972,10,FALSE),"") -> 0 | N27: 725 | O27: =IF(N27:N27>0,VLOOKUP(N27,Insc.!$A$1:$J$972,2,FALSE),"") -> KUNII | P27: =IF(N27:N27>0,VLOOKUP(N27,Insc.!$A$1:$J$972,3,FALSE),"") -> EMIKO | Q27: =IF(N27:N27>0,VLOOKUP(N27,Insc.!$A$1:$J$972,4,FALSE),"") -> F | R27: =IF(N27:N27>0,VLOOKUP(N27,Insc.!$A$1:$J$972,5,FALSE),"") -> 07. GSP | S27: =IF(N27:N27>0,VLOOKUP(N27,Insc.!$A$1:$J$972,6,FALSE),"") -> 14124 | T27: =IF(N27:N27>0,VLOOKUP(N27,Insc.!$A$1:$J$972,7,FALSE),"") -> 9 | U27: =IF(N27:N27>0,VLOOKUP(N27,Insc.!$A$1:$J$972,8,FALSE),"") -> B-SR | V27: =IF(N27:N27>0,VLOOKUP(N27,Insc.!$A$1:$J$972,9,FALSE),"") -> LIB2026 | W27: =IF(N27:N27>0,VLOOKUP(N27,Insc.!$A$1:$J$972,10,FALSE),"") -> 0 | X27: 506 | Y27: =IF(X27:X27>0,VLOOKUP(X27,Insc.!$A$1:$J$972,2,FALSE),"") -> KIYOHARA | Z27: =IF(X27:X27>0,VLOOKUP(X27,Insc.!$A$1:$J$972,3,FALSE),"") -> IKUO | AA27: =IF(X27:X27>0,VLOOKUP(X27,Insc.!$A$1:$J$972,4,FALSE),"") -> M | AB27: =IF(X27:X27>0,VLOOKUP(X27,Insc.!$A$1:$J$972,5,FALSE),"") -> 11. NCC | AC27: =IF(X27:X27>0,VLOOKUP(X27,Insc.!$A$1:$J$972,6,FALSE),"") -> 14496 | AD27: =IF(X27:X27>0,VLOOKUP(X27,Insc.!$A$1:$J$972,7,FALSE),"") -> 9 | AE27: =IF(X27:X27>0,VLOOKUP(X27,Insc.!$A$1:$J$972,8,FALSE),"") -> B-MR | AF27: =IF(X27:X27>0,VLOOKUP(X27,Insc.!$A$1:$J$972,9,FALSE),"") -> LIB2026 | AG27: =IF(X27:X27>0,VLOOKUP(X27,Insc.!$A$1:$J$972,10,FALSE),"") -> 0 | AH27: 540 | AI27: =IF(AH27:AH27>0,VLOOKUP(AH27,Insc.!$A$1:$J$972,2,FALSE),"") -> ANZAI | AJ27: =IF(AH27:AH27>0,VLOOKUP(AH27,Insc.!$A$1:$J$972,3,FALSE),"") -> YOSHIO | AK27: =IF(AH27:AH27>0,VLOOKUP(AH27,Insc.!$A$1:$J$972,4,FALSE),"") -> M | AL27: =IF(AH27:AH27>0,VLOOKUP(AH27,Insc.!$A$1:$J$972,5,FALSE),"") -> 12. COO | AM27: =IF(AH27:AH27>0,VLOOKUP(AH27,Insc.!$A$1:$J$972,6,FALSE),"") -> 17424 | AN27: =IF(AH27:AH27>0,VLOOKUP(AH27,Insc.!$A$1:$J$972,7,FALSE),"") -> 12 | AO27: =IF(AH27:AH27>0,VLOOKUP(AH27,Insc.!$A$1:$J$972,8,FALSE),"") -> C-SR | AP27: =IF(AH27:AH27>0,VLOOKUP(AH27,Insc.!$A$1:$J$972,9,FALSE),"") -> LIB2026 | AQ27: =IF(AH27:AH27>0,VLOOKUP(AH27,Insc.!$A$1:$J$972,10,FALSE),"") -> 0
A28: 210 | B28: 2 | C28: 10 | D28: 888 | E28: =IF(D28:D28>0,VLOOKUP(D28,Insc.!$A$1:$J$972,2,FALSE),"") -> I. YOKOYAMA | F28: =IF(D28:D28>0,VLOOKUP(D28,Insc.!$A$1:$J$972,3,FALSE),"") -> ELISA MASSAE | G28: =IF(D28:D28>0,VLOOKUP(D28,Insc.!$A$1:$J$972,4,FALSE),"") -> F | H28: =IF(D28:D28>0,VLOOKUP(D28,Insc.!$A$1:$J$972,5,FALSE),"") -> 07. GSP | I28: =IF(D28:D28>0,VLOOKUP(D28,Insc.!$A$1:$J$972,6,FALSE),"") -> 20981 | J28: =IF(D28:D28>0,VLOOKUP(D28,Insc.!$A$1:$J$972,7,FALSE),"") -> 7 | K28: =IF(D28:D28>0,VLOOKUP(D28,Insc.!$A$1:$J$972,8,FALSE),"") -> B-NSR | L28: =IF(D28:D28>0,VLOOKUP(D28,Insc.!$A$1:$J$972,9,FALSE),"") -> LIB2026 | M28: =IF(D28:D28>0,VLOOKUP(D28,Insc.!$A$1:$J$972,10,FALSE),"") -> 0 | N28: 840 | O28: =IF(N28:N28>0,VLOOKUP(N28,Insc.!$A$1:$J$972,2,FALSE),"") -> MAEDA | P28: =IF(N28:N28>0,VLOOKUP(N28,Insc.!$A$1:$J$972,3,FALSE),"") -> EDUARDO KIYOSHI | Q28: =IF(N28:N28>0,VLOOKUP(N28,Insc.!$A$1:$J$972,4,FALSE),"") -> M | R28: =IF(N28:N28>0,VLOOKUP(N28,Insc.!$A$1:$J$972,5,FALSE),"") -> 06. KOK | S28: =IF(N28:N28>0,VLOOKUP(N28,Insc.!$A$1:$J$972,6,FALSE),"") -> 16578 | T28: =IF(N28:N28>0,VLOOKUP(N28,Insc.!$A$1:$J$972,7,FALSE),"") -> 9 | U28: =IF(N28:N28>0,VLOOKUP(N28,Insc.!$A$1:$J$972,8,FALSE),"") -> B-SR | V28: =IF(N28:N28>0,VLOOKUP(N28,Insc.!$A$1:$J$972,9,FALSE),"") -> LIB2026 | W28: =IF(N28:N28>0,VLOOKUP(N28,Insc.!$A$1:$J$972,10,FALSE),"") -> 0 | X28: 769 | Y28: =IF(X28:X28>0,VLOOKUP(X28,Insc.!$A$1:$J$972,2,FALSE),"") -> SOTOTUKA | Z28: =IF(X28:X28>0,VLOOKUP(X28,Insc.!$A$1:$J$972,3,FALSE),"") -> MASSAHIKO | AA28: =IF(X28:X28>0,VLOOKUP(X28,Insc.!$A$1:$J$972,4,FALSE),"") -> M | AB28: =IF(X28:X28>0,VLOOKUP(X28,Insc.!$A$1:$J$972,5,FALSE),"") -> 12. COO | AC28: =IF(X28:X28>0,VLOOKUP(X28,Insc.!$A$1:$J$972,6,FALSE),"") -> 17868 | AD28: =IF(X28:X28>0,VLOOKUP(X28,Insc.!$A$1:$J$972,7,FALSE),"") -> 9 | AE28: =IF(X28:X28>0,VLOOKUP(X28,Insc.!$A$1:$J$972,8,FALSE),"") -> B-SR | AF28: =IF(X28:X28>0,VLOOKUP(X28,Insc.!$A$1:$J$972,9,FALSE),"") -> LIB2026 | AG28: =IF(X28:X28>0,VLOOKUP(X28,Insc.!$A$1:$J$972,10,FALSE),"") -> 0 | AH28: 533 | AI28: =IF(AH28:AH28>0,VLOOKUP(AH28,Insc.!$A$1:$J$972,2,FALSE),"") -> TANAKA | AJ28: =IF(AH28:AH28>0,VLOOKUP(AH28,Insc.!$A$1:$J$972,3,FALSE),"") -> TAKAAKI | AK28: =IF(AH28:AH28>0,VLOOKUP(AH28,Insc.!$A$1:$J$972,4,FALSE),"") -> M | AL28: =IF(AH28:AH28>0,VLOOKUP(AH28,Insc.!$A$1:$J$972,5,FALSE),"") -> 03. IBI | AM28: =IF(AH28:AH28>0,VLOOKUP(AH28,Insc.!$A$1:$J$972,6,FALSE),"") -> 14124 | AN28: =IF(AH28:AH28>0,VLOOKUP(AH28,Insc.!$A$1:$J$972,7,FALSE),"") -> 12 | AO28: =IF(AH28:AH28>0,VLOOKUP(AH28,Insc.!$A$1:$J$972,8,FALSE),"") -> C-MR | AP28: =IF(AH28:AH28>0,VLOOKUP(AH28,Insc.!$A$1:$J$972,9,FALSE),"") -> LIB2026 | AQ28: =IF(AH28:AH28>0,VLOOKUP(AH28,Insc.!$A$1:$J$972,10,FALSE),"") -> 0
A29: 211 | B29: 2 | C29: 11 | D29: 697 | E29: =IF(D29:D29>0,VLOOKUP(D29,Insc.!$A$1:$J$972,2,FALSE),"") -> YADOYA | F29: =IF(D29:D29>0,VLOOKUP(D29,Insc.!$A$1:$J$972,3,FALSE),"") -> KITARO | G29: =IF(D29:D29>0,VLOOKUP(D29,Insc.!$A$1:$J$972,4,FALSE),"") -> M | H29: =IF(D29:D29>0,VLOOKUP(D29,Insc.!$A$1:$J$972,5,FALSE),"") -> 07. GSP | I29: =IF(D29:D29>0,VLOOKUP(D29,Insc.!$A$1:$J$972,6,FALSE),"") -> 23259 | J29: =IF(D29:D29>0,VLOOKUP(D29,Insc.!$A$1:$J$972,7,FALSE),"") -> 9 | K29: =IF(D29:D29>0,VLOOKUP(D29,Insc.!$A$1:$J$972,8,FALSE),"") -> B-NSR | L29: =IF(D29:D29>0,VLOOKUP(D29,Insc.!$A$1:$J$972,9,FALSE),"") -> LIB2026 | M29: =IF(D29:D29>0,VLOOKUP(D29,Insc.!$A$1:$J$972,10,FALSE),"") -> 0 | N29: 512 | O29: =IF(N29:N29>0,VLOOKUP(N29,Insc.!$A$1:$J$972,2,FALSE),"") -> MATSUMURA | P29: =IF(N29:N29>0,VLOOKUP(N29,Insc.!$A$1:$J$972,3,FALSE),"") -> TERUAKI | Q29: =IF(N29:N29>0,VLOOKUP(N29,Insc.!$A$1:$J$972,4,FALSE),"") -> M | R29: =IF(N29:N29>0,VLOOKUP(N29,Insc.!$A$1:$J$972,5,FALSE),"") -> 06. KOK | S29: =IF(N29:N29>0,VLOOKUP(N29,Insc.!$A$1:$J$972,6,FALSE),"") -> 15766 | T29: =IF(N29:N29>0,VLOOKUP(N29,Insc.!$A$1:$J$972,7,FALSE),"") -> 9 | U29: =IF(N29:N29>0,VLOOKUP(N29,Insc.!$A$1:$J$972,8,FALSE),"") -> B-SR | V29: =IF(N29:N29>0,VLOOKUP(N29,Insc.!$A$1:$J$972,9,FALSE),"") -> LIB2026 | W29: =IF(N29:N29>0,VLOOKUP(N29,Insc.!$A$1:$J$972,10,FALSE),"") -> 0 | X29: 646 | Y29: =IF(X29:X29>0,VLOOKUP(X29,Insc.!$A$1:$J$972,2,FALSE),"") -> OGATA | Z29: =IF(X29:X29>0,VLOOKUP(X29,Insc.!$A$1:$J$972,3,FALSE),"") -> SEISHI | AA29: =IF(X29:X29>0,VLOOKUP(X29,Insc.!$A$1:$J$972,4,FALSE),"") -> M | AB29: =IF(X29:X29>0,VLOOKUP(X29,Insc.!$A$1:$J$972,5,FALSE),"") -> 15. BIR | AC29: =IF(X29:X29>0,VLOOKUP(X29,Insc.!$A$1:$J$972,6,FALSE),"") -> 17605 | AD29: =IF(X29:X29>0,VLOOKUP(X29,Insc.!$A$1:$J$972,7,FALSE),"") -> 9 | AE29: =IF(X29:X29>0,VLOOKUP(X29,Insc.!$A$1:$J$972,8,FALSE),"") -> B-SR | AF29: =IF(X29:X29>0,VLOOKUP(X29,Insc.!$A$1:$J$972,9,FALSE),"") -> LIB2026 | AG29: =IF(X29:X29>0,VLOOKUP(X29,Insc.!$A$1:$J$972,10,FALSE),"") -> 0 | AH29: 398 | AI29: =IF(AH29:AH29>0,VLOOKUP(AH29,Insc.!$A$1:$J$972,2,FALSE),"") -> MURAKAMI DOKAN | AJ29: =IF(AH29:AH29>0,VLOOKUP(AH29,Insc.!$A$1:$J$972,3,FALSE),"") -> RUMI | AK29: =IF(AH29:AH29>0,VLOOKUP(AH29,Insc.!$A$1:$J$972,4,FALSE),"") -> F | AL29: =IF(AH29:AH29>0,VLOOKUP(AH29,Insc.!$A$1:$J$972,5,FALSE),"") -> 01. PIE | AM29: =IF(AH29:AH29>0,VLOOKUP(AH29,Insc.!$A$1:$J$972,6,FALSE),"") -> 23092 | AN29: =IF(AH29:AH29>0,VLOOKUP(AH29,Insc.!$A$1:$J$972,7,FALSE),"") -> 12 | AO29: =IF(AH29:AH29>0,VLOOKUP(AH29,Insc.!$A$1:$J$972,8,FALSE),"") -> C-NSR | AP29: =IF(AH29:AH29>0,VLOOKUP(AH29,Insc.!$A$1:$J$972,9,FALSE),"") -> LIB2026 | AQ29: =IF(AH29:AH29>0,VLOOKUP(AH29,Insc.!$A$1:$J$972,10,FALSE),"") -> 0
A30: 212 | B30: 2 | C30: 12 | D30: 609 | E30: =IF(D30:D30>0,VLOOKUP(D30,Insc.!$A$1:$J$972,2,FALSE),"") -> NAKASHIMA | F30: =IF(D30:D30>0,VLOOKUP(D30,Insc.!$A$1:$J$972,3,FALSE),"") -> MITSUKO | G30: =IF(D30:D30>0,VLOOKUP(D30,Insc.!$A$1:$J$972,4,FALSE),"") -> F | H30: =IF(D30:D30>0,VLOOKUP(D30,Insc.!$A$1:$J$972,5,FALSE),"") -> 06. KOK | I30: =IF(D30:D30>0,VLOOKUP(D30,Insc.!$A$1:$J$972,6,FALSE),"") -> 19177 | J30: =IF(D30:D30>0,VLOOKUP(D30,Insc.!$A$1:$J$972,7,FALSE),"") -> 9 | K30: =IF(D30:D30>0,VLOOKUP(D30,Insc.!$A$1:$J$972,8,FALSE),"") -> B-NSR | L30: =IF(D30:D30>0,VLOOKUP(D30,Insc.!$A$1:$J$972,9,FALSE),"") -> LIB2026 | M30: =IF(D30:D30>0,VLOOKUP(D30,Insc.!$A$1:$J$972,10,FALSE),"") -> 0 | N30: 615 | O30: =IF(N30:N30>0,VLOOKUP(N30,Insc.!$A$1:$J$972,2,FALSE),"") -> NISHIWAKI | P30: =IF(N30:N30>0,VLOOKUP(N30,Insc.!$A$1:$J$972,3,FALSE),"") -> TERUKO | Q30: =IF(N30:N30>0,VLOOKUP(N30,Insc.!$A$1:$J$972,4,FALSE),"") -> F | R30: =IF(N30:N30>0,VLOOKUP(N30,Insc.!$A$1:$J$972,5,FALSE),"") -> 07. GSP | S30: =IF(N30:N30>0,VLOOKUP(N30,Insc.!$A$1:$J$972,6,FALSE),"") -> 16338 | T30: =IF(N30:N30>0,VLOOKUP(N30,Insc.!$A$1:$J$972,7,FALSE),"") -> 9 | U30: =IF(N30:N30>0,VLOOKUP(N30,Insc.!$A$1:$J$972,8,FALSE),"") -> B-SR | V30: =IF(N30:N30>0,VLOOKUP(N30,Insc.!$A$1:$J$972,9,FALSE),"") -> LIB2026 | W30: =IF(N30:N30>0,VLOOKUP(N30,Insc.!$A$1:$J$972,10,FALSE),"") -> 0 | X30: 382 | Y30: =IF(X30:X30>0,VLOOKUP(X30,Insc.!$A$1:$J$972,2,FALSE),"") -> AKITA | Z30: =IF(X30:X30>0,VLOOKUP(X30,Insc.!$A$1:$J$972,3,FALSE),"") -> KUNIAKI | AA30: =IF(X30:X30>0,VLOOKUP(X30,Insc.!$A$1:$J$972,4,FALSE),"") -> M | AB30: =IF(X30:X30>0,VLOOKUP(X30,Insc.!$A$1:$J$972,5,FALSE),"") -> 15. BIR | AC30: =IF(X30:X30>0,VLOOKUP(X30,Insc.!$A$1:$J$972,6,FALSE),"") -> 16355 | AD30: =IF(X30:X30>0,VLOOKUP(X30,Insc.!$A$1:$J$972,7,FALSE),"") -> 9 | AE30: =IF(X30:X30>0,VLOOKUP(X30,Insc.!$A$1:$J$972,8,FALSE),"") -> B-SR | AF30: =IF(X30:X30>0,VLOOKUP(X30,Insc.!$A$1:$J$972,9,FALSE),"") -> LIB2026 | AG30: =IF(X30:X30>0,VLOOKUP(X30,Insc.!$A$1:$J$972,10,FALSE),"") -> 0 | AH30: 526 | AI30: =IF(AH30:AH30>0,VLOOKUP(AH30,Insc.!$A$1:$J$972,2,FALSE),"") -> NAKAMURA | AJ30: =IF(AH30:AH30>0,VLOOKUP(AH30,Insc.!$A$1:$J$972,3,FALSE),"") -> EMI KAWAKAMI | AK30: =IF(AH30:AH30>0,VLOOKUP(AH30,Insc.!$A$1:$J$972,4,FALSE),"") -> F | AL30: =IF(AH30:AH30>0,VLOOKUP(AH30,Insc.!$A$1:$J$972,5,FALSE),"") -> 01. PIE | AM30: =IF(AH30:AH30>0,VLOOKUP(AH30,Insc.!$A$1:$J$972,6,FALSE),"") -> 21828 | AN30: =IF(AH30:AH30>0,VLOOKUP(AH30,Insc.!$A$1:$J$972,7,FALSE),"") -> 12 | AO30: =IF(AH30:AH30>0,VLOOKUP(AH30,Insc.!$A$1:$J$972,8,FALSE),"") -> C-NSR | AP30: =IF(AH30:AH30>0,VLOOKUP(AH30,Insc.!$A$1:$J$972,9,FALSE),"") -> LIB2026 | AQ30: =IF(AH30:AH30>0,VLOOKUP(AH30,Insc.!$A$1:$J$972,10,FALSE),"") -> 0
A31: 213 | B31: 2 | C31: 13 | D31: 691 | E31: =IF(D31:D31>0,VLOOKUP(D31,Insc.!$A$1:$J$972,2,FALSE),"") -> HIRATA | F31: =IF(D31:D31>0,VLOOKUP(D31,Insc.!$A$1:$J$972,3,FALSE),"") -> IRINEU YASSAYUKI | G31: =IF(D31:D31>0,VLOOKUP(D31,Insc.!$A$1:$J$972,4,FALSE),"") -> M | H31: =IF(D31:D31>0,VLOOKUP(D31,Insc.!$A$1:$J$972,5,FALSE),"") -> 06. KOK | I31: =IF(D31:D31>0,VLOOKUP(D31,Insc.!$A$1:$J$972,6,FALSE),"") -> 24162 | J31: =IF(D31:D31>0,VLOOKUP(D31,Insc.!$A$1:$J$972,7,FALSE),"") -> 8 | K31: =IF(D31:D31>0,VLOOKUP(D31,Insc.!$A$1:$J$972,8,FALSE),"") -> B-NSR | L31: =IF(D31:D31>0,VLOOKUP(D31,Insc.!$A$1:$J$972,9,FALSE),"") -> LIB2026 | M31: =IF(D31:D31>0,VLOOKUP(D31,Insc.!$A$1:$J$972,10,FALSE),"") -> 0 | N31: 782 | O31: =IF(N31:N31>0,VLOOKUP(N31,Insc.!$A$1:$J$972,2,FALSE),"") -> MATSUMOTO | P31: =IF(N31:N31>0,VLOOKUP(N31,Insc.!$A$1:$J$972,3,FALSE),"") -> KAZUKO | Q31: =IF(N31:N31>0,VLOOKUP(N31,Insc.!$A$1:$J$972,4,FALSE),"") -> F | R31: =IF(N31:N31>0,VLOOKUP(N31,Insc.!$A$1:$J$972,5,FALSE),"") -> 03. IBI | S31: =IF(N31:N31>0,VLOOKUP(N31,Insc.!$A$1:$J$972,6,FALSE),"") -> 13623 | T31: =IF(N31:N31>0,VLOOKUP(N31,Insc.!$A$1:$J$972,7,FALSE),"") -> 9 | U31: =IF(N31:N31>0,VLOOKUP(N31,Insc.!$A$1:$J$972,8,FALSE),"") -> B-MR | V31: =IF(N31:N31>0,VLOOKUP(N31,Insc.!$A$1:$J$972,9,FALSE),"") -> LIB2026 | W31: =IF(N31:N31>0,VLOOKUP(N31,Insc.!$A$1:$J$972,10,FALSE),"") -> 0 | X31: 764 | Y31: =IF(X31:X31>0,VLOOKUP(X31,Insc.!$A$1:$J$972,2,FALSE),"") -> ISHIHARA | Z31: =IF(X31:X31>0,VLOOKUP(X31,Insc.!$A$1:$J$972,3,FALSE),"") -> HILTON HARUAKI | AA31: =IF(X31:X31>0,VLOOKUP(X31,Insc.!$A$1:$J$972,4,FALSE),"") -> M | AB31: =IF(X31:X31>0,VLOOKUP(X31,Insc.!$A$1:$J$972,5,FALSE),"") -> 01. PIE | AC31: =IF(X31:X31>0,VLOOKUP(X31,Insc.!$A$1:$J$972,6,FALSE),"") -> 41116 | AD31: =IF(X31:X31>0,VLOOKUP(X31,Insc.!$A$1:$J$972,7,FALSE),"") -> 12 | AE31: =IF(X31:X31>0,VLOOKUP(X31,Insc.!$A$1:$J$972,8,FALSE),"") -> C-NSR | AF31: =IF(X31:X31>0,VLOOKUP(X31,Insc.!$A$1:$J$972,9,FALSE),"") -> LIB2026 | AG31: =IF(X31:X31>0,VLOOKUP(X31,Insc.!$A$1:$J$972,10,FALSE),"") -> 0 | AH31: 814 | AI31: =IF(AH31:AH31>0,VLOOKUP(AH31,Insc.!$A$1:$J$972,2,FALSE),"") -> ABEMATSU | AJ31: =IF(AH31:AH31>0,VLOOKUP(AH31,Insc.!$A$1:$J$972,3,FALSE),"") -> EMILIA TERUKO | AK31: =IF(AH31:AH31>0,VLOOKUP(AH31,Insc.!$A$1:$J$972,4,FALSE),"") -> F | AL31: =IF(AH31:AH31>0,VLOOKUP(AH31,Insc.!$A$1:$J$972,5,FALSE),"") -> 07. GSP | AM31: =IF(AH31:AH31>0,VLOOKUP(AH31,Insc.!$A$1:$J$972,6,FALSE),"") -> 18352 | AN31: =IF(AH31:AH31>0,VLOOKUP(AH31,Insc.!$A$1:$J$972,7,FALSE),"") -> 12 | AO31: =IF(AH31:AH31>0,VLOOKUP(AH31,Insc.!$A$1:$J$972,8,FALSE),"") -> C-SR | AP31: =IF(AH31:AH31>0,VLOOKUP(AH31,Insc.!$A$1:$J$972,9,FALSE),"") -> LIB2026 | AQ31: =IF(AH31:AH31>0,VLOOKUP(AH31,Insc.!$A$1:$J$972,10,FALSE),"") -> 0
